Workbook

Sheet Instructions
A1: Overview In the following tabs fill out the orange cells and the rest of the cells are automatically calculated. The yellow cells are the values used for the Performance Metrics. There are instructions and information will need to be put into the DVHD, PHTTS, Peak Travel Time Reliability, Level of Transit Delay, Truck Travel Time Reliability, Rail Volume, Rate of Fatalities/ Serious Injuries, Air Quality, and Average Annual Volume (Gray tabs). There are instructions on each of the gray tabs. The non gray tabs are automatically calculated. After the data is entered in the orange cells the Performance Metrics will be shown on the Performance Metrics tab. There are some orange cells in the Performance Metrics tab that also need filled in. In the Change column of the Performance Metrics tab if the cell is green this means the project shows improvement for that metric and if it is red it means that metric is worse with the project. Some of the tabs ask for Part 1 and Part 2 data where Part 1 is for data from the first Sketch Cal-B/C run and Part 2 is from the second Cal-B/C run if you use the "Prepare Model for Second Road" macro button on the Project Information tab. If the "Prepare Model for Second Road" macro is not used no data is needed for Part 2.

Sheet Performance Metrics
A1: Measure | B1: Indicator/Measure | C1: Unit | D1: Build | E1: No Build | F1: Change
A2: Congestion Reduction | B2: Change in Daily Vehicle Hours of Delay | C2: Hours | D2: =DVHD!F49 -> 0 | E2: =DVHD!E49 -> 0 | F2: =D2-E2 -> 0
B3: Change in Daily Truck Hours of Delay | C3: Hours | D3: =DVHD!F50 -> 0 | E3: =DVHD!E50 -> 0 | F3: =D3-E3 -> 0
B4: Change in Daily Vehicle Miles Traveled | C4: Miles | D4: =Table1223233[[#Totals],[Build DVMT]] -> 0 | E4: =Table1223233[[#Totals],[No Build DVMT]] -> 0 | F4: =Table5[[#This Row],[Build]]-Table5[[#This Row],[No Build]] -> 0
B5: Person Hours or Travel Time Saved | C5: Hours | F5: {=Table62629[PHTTS (Cell AU25 in Travel Time Tab)]} -> 0
B6: Peak Period Travel Time Reliability Index | C6: Index | D6: {=Table27[Build]} -> 0 | E6: {=Table27[No Build]} -> 0 | F6: =Table5[[#This Row],[Build]]-Table5[[#This Row],[No Build]] -> 0
B7: Level of Transit Delay | C7: Minutes | D7: {=Table29[Build]} -> 0 | E7: {=Table29[No Build]} -> 0 | F7: =Table5[[#This Row],[Build]]-Table5[[#This Row],[No Build]] -> 0
B8: Truck Travel Time Relaibility Index | C8: Index | D8: {=Table30[Build]} -> 0 | E8: {=Table30[No Build]} -> 0 | F8: =Table5[[#This Row],[Build]]-Table5[[#This Row],[No Build]] -> 0
A9: Throughput (Freight) | B9: Change in Truck Volume | C9: # of Trucks | D9: =Table7[[#Totals],[Build Volume/ Year]] -> 0 | E9: =Table7[[#Totals],[No Build Volume/ Year]] -> 0 | F9: =D9-E9 -> 0
B10: Change in Rail Volume | C10: Number | D10: =Table8[[#Totals],[Build Volume/ Year]] -> 0 | E10: =Table8[[#Totals],[No Build Volume/ Year]] -> 0 | F10: =D10-E10 -> 0
A11: Velocity (Freight) | B11: Travel Time or Total Cargo Transport Time | C11: Number | D11: =Table93435[[#Totals],[Build Velocity]] -> 0 | E11: =Table93435[[#Totals],[No Build Velocity]] -> 0 | F11: =D11-E11 -> 0
A12: Air Quality & GHG (only 'Change' required) | B12: Particulate Matter | C12: PM 2.5 Tons | F12: ='Air Quality'!K6 -> 0
B13: Particulate Matter | C13: PM 10 Tons | F13: ='Air Quality'!K5 -> 0
B14: Carbon Dioxide (CO2) | C14: Tons | F14: ='Air Quality'!K3 -> 0
B15: Volitile Organic Compounds (VOC) | C15: Tons | F15: ='Air Quality'!K8 -> 0
B16: Sulfur Dioxides (SOx) | C16: Tons | F16: ='Air Quality'!K7 -> 0
B17: Carbon Monoxide (CO) | C17: Tons | F17: ='Air Quality'!K2 -> 0
B18: Nitrogen Oxides (NOx) | C18: Tons | F18: ='Air Quality'!K4 -> 0
A19: Safety | B19: Number of Fatalities | C19: Number | D19: ='# of Fatalities and Serious Inj'!C3 -> 0 | E19: ='# of Fatalities and Serious Inj'!B3 -> 0 | F19: =D19-E19 -> 0
B20: Fatalities per 100 Million VMT | C20: Number | D20: ='Rate of Fatalities-Serious Inj'!Q3 -> 0 | E20: ='Rate of Fatalities-Serious Inj'!P3 -> #DIV/0! | F20: =D20-E20 -> #DIV/0!
B21: Number of Serious Injuries | C21: Number | D21: ='# of Fatalities and Serious Inj'!C4 -> 0 | E21: ='# of Fatalities and Serious Inj'!B4 -> 0 | F21: =D21-E21 -> 0
B22: Number of Serious Injuries per 100 Million VMT | C22: Number | D22: ='Rate of Fatalities-Serious Inj'!Q4 -> 0 | E22: ='Rate of Fatalities-Serious Inj'!P4 -> #DIV/0! | F22: =D22-E22 -> #DIV/0!
A23: Economic Development | B23: Jobs Created (only 'Build Required) | C23: Number
A24: Cost Effectiveness (only 'Change' Required) | B24: Cost Benefit Ratio | C24: Ratio
A25: Truck & Vehicle Volume (Freight) | B25: Existing Average Annual Vehicle Volume on Project Segment | C25: Number | D25: {=Table20[Build Volume/ Year]} -> 0 | E25: {=Table20[No Build Volume/ Year]} -> 0 | F25: =Table5[[#This Row],[Build]]-Table5[[#This Row],[No Build]] -> 0
B26: Existing Average Annual Truck Percent on Project Segment | C26: Percent | F26: =Table5[[#This Row],[Build]]-Table5[[#This Row],[No Build]] -> 0
B27: Estimated Year 20 Average Annual Vehicle on Project Segment with Project | C27: Number | D27: =Table19[[#Totals],[Build Volume/ Year]] -> 0 | E27: =Table19[[#Totals],[No Build Volume/ Year]] -> 0 | F27: =Table5[[#This Row],[Build]]-Table5[[#This Row],[No Build]] -> 0
B28: Estimated Year 20 Average Annual Truck Percent on Project Segment with Prjoect | C28: Percent | F28: =Table5[[#This Row],[Build]]-Table5[[#This Row],[No Build]] -> 0

Sheet DVHD
A1: Instructions Fill out the orange cells and the rest of the cells are automatically calculated. The yellow cells are the values used for the Performance Metrics. Impacted length and vehicle/ truck speed limit is found in the Project Information tab in Cal-B/C. Volume and speed is located in the Travel Time tab and you must scroll down to look at all of the different scenarios (Peak HOV, Peak Non-HOV, Non-Peak Non-HOV, etc.). See highlighted sections below. | D1: Daily Vehicle Hours of Delay
D3: Project Information | E3: Data
D4: Impacted Length (Miles)
D5: Vehicle Posted Speed Limit (MPH)
D6: Truck Posted Speed Limit (MPH)
D8: Part 1
D9: Period & Vehicle Type | E9: No Build Volume/ Year | F9: Build Volume/ Year | G9: No Build Speed | H9: Build Speed | I9: No Build Travel Time | J9: Build Travel Time | K9: Speed Limit Travel Time | L9: No Build DVHD | M9: Build DVHD
D10: Peak HOV | I10: =IFERROR($E$4/Table1[[#This Row],[No Build Speed]],"") | J10: =IFERROR($E$4/Table1[[#This Row],[Build Speed]],"") | K10: =IFERROR($E$4/$E$5,"") | L10: =IFERROR(E10*(I10-K10),"") | M10: =IFERROR(F10*(J10-K10),"")
A11: Impacted Length and Speed Limit in Project Information Tab | D11: Peak Non HOV Vehicles | I11: =IFERROR($E$4/Table1[[#This Row],[No Build Speed]],"") | J11: =IFERROR($E$4/Table1[[#This Row],[Build Speed]],"") | K11: =IFERROR($E$4/$E$5,"") | L11: =IFERROR(E11*(I11-K11),"") | M11: =IFERROR(F11*(J11-K11),"")
D12: Peak Weaving | I12: =IFERROR($E$4/Table1[[#This Row],[No Build Speed]],"") | J12: =IFERROR($E$4/Table1[[#This Row],[Build Speed]],"") | K12: =IFERROR($E$4/$E$5,"") | L12: =IFERROR(E12*(I12-K12),"") | M12: =IFERROR(F12*(J12-K12),"")
D13: Peak Truck | I13: =IFERROR($E$4/Table1[[#This Row],[No Build Speed]],"") | J13: =IFERROR($E$4/Table1[[#This Row],[Build Speed]],"") | K13: =IFERROR($E$4/$E$6,"") | L13: =IFERROR(E13*(I13-K13),"") | M13: =IFERROR(F13*(J13-K13),"")
D14: Peak Ramp | I14: =IFERROR($E$4/Table1[[#This Row],[No Build Speed]],"") | J14: =IFERROR($E$4/Table1[[#This Row],[Build Speed]],"") | K14: =IFERROR($E$4/$E$5,"") | L14: =IFERROR(E14*(I14-K14),"") | M14: =IFERROR(F14*(J14-K14),"")
D15: Peak Arterial | I15: =IFERROR($E$4/Table1[[#This Row],[No Build Speed]],"") | J15: =IFERROR($E$4/Table1[[#This Row],[Build Speed]],"") | K15: =IFERROR($E$4/$E$5,"") | L15: =IFERROR(E15*(I15-K15),"") | M15: =IFERROR(F15*(J15-K15),"")
D16: Non-Peak Non HOV | I16: =IFERROR($E$4/Table1[[#This Row],[No Build Speed]],"") | J16: =IFERROR($E$4/Table1[[#This Row],[Build Speed]],"") | K16: =IFERROR($E$4/$E$5,"") | L16: =IFERROR(E16*(I16-K16),"") | M16: =IFERROR(F16*(J16-K16),"")
D17: Non-Peak Truck | I17: =IFERROR($E$4/Table1[[#This Row],[No Build Speed]],"") | J17: =IFERROR($E$4/Table1[[#This Row],[Build Speed]],"") | K17: =IFERROR($E$4/$E$6,"") | L17: =IFERROR(E17*(I17-K17),"") | M17: =IFERROR(F17*(J17-K17),"")
D18: Total | E18: =SUBTOTAL(109,Table1[No Build Volume/ Year]) -> 0 | F18: =SUBTOTAL(109,Table1[Build Volume/ Year]) -> 0 | L18: =SUBTOTAL(109,Table1[No Build DVHD]) -> 0 | M18: =SUBTOTAL(109,Table1[Build DVHD]) -> 0
D21: Part 2
D22: Period & Vehicle Type | E22: No Build Volume/ Year | F22: Build Volume/ Year | G22: No Build Speed | H22: Build Speed | I22: No Build Travel Time | J22: Build Travel Time | K22: Speed Limit Travel Time | L22: No Build DVHD | M22: Build DVHD
D23: Peak HOV | I23: =IFERROR($E$4/Table2[[#This Row],[No Build Speed]],"") | J23: =IFERROR($E$4/Table2[[#This Row],[Build Speed]],"") | K23: =IFERROR($E$4/$E$5,"") | L23: =IFERROR(E23*(I23-K23),"") | M23: =IFERROR(E23*(J23-K23),"")
D24: Peak Non HOV Vehicles | I24: =IFERROR($E$4/Table2[[#This Row],[No Build Speed]],"") | J24: =IFERROR($E$4/Table2[[#This Row],[Build Speed]],"") | K24: =IFERROR($E$4/$E$5,"") | L24: =IFERROR(E24*(I24-K24),"") | M24: =IFERROR(E24*(J24-K24),"")
D25: Peak Weaving | I25: =IFERROR($E$4/Table2[[#This Row],[No Build Speed]],"") | J25: =IFERROR($E$4/Table2[[#This Row],[Build Speed]],"") | K25: =IFERROR($E$4/$E$5,"") | L25: =IFERROR(E25*(I25-K25),"") | M25: =IFERROR(E25*(J25-K25),"")
D26: Peak Truck | I26: =IFERROR($E$4/Table2[[#This Row],[No Build Speed]],"") | J26: =IFERROR($E$4/Table2[[#This Row],[Build Speed]],"") | K26: =IFERROR($E$4/$E$6,"") | L26: =IFERROR(E26*(I26-K26),"") | M26: =IFERROR(E26*(J26-K26),"")
D27: Peak Ramp | I27: =IFERROR($E$4/Table2[[#This Row],[No Build Speed]],"") | J27: =IFERROR($E$4/Table2[[#This Row],[Build Speed]],"") | K27: =IFERROR($E$4/$E$5,"") | L27: =IFERROR(E27*(I27-K27),"") | M27: =IFERROR(E27*(J27-K27),"")
A28: Volume and Speed in Travel Time Tab | D28: Peak Arterial | I28: =IFERROR($E$4/Table2[[#This Row],[No Build Speed]],"") | J28: =IFERROR($E$4/Table2[[#This Row],[Build Speed]],"") | K28: =IFERROR($E$4/$E$5,"") | L28: =IFERROR(E28*(I28-K28),"") | M28: =IFERROR(E28*(J28-K28),"")
D29: Non-Peak Non HOV | I29: =IFERROR($E$4/Table2[[#This Row],[No Build Speed]],"") | J29: =IFERROR($E$4/Table2[[#This Row],[Build Speed]],"") | K29: =IFERROR($E$4/$E$5,"") | L29: =IFERROR(E29*(I29-K29),"") | M29: =IFERROR(E29*(J29-K29),"")
D30: Non-Peak Truck | I30: =IFERROR($E$4/Table2[[#This Row],[No Build Speed]],"") | J30: =IFERROR($E$4/Table2[[#This Row],[Build Speed]],"") | K30: =IFERROR($E$4/$E$6,"") | L30: =IFERROR(E30*(I30-K30),"") | M30: =IFERROR(E30*(J30-K30),"")
D31: Total | E31: =SUBTOTAL(109,Table2[No Build Volume/ Year]) -> 0 | F31: =SUBTOTAL(109,Table2[Build Volume/ Year]) -> 0 | L31: =SUBTOTAL(109,Table2[No Build DVHD]) -> 0 | M31: =SUBTOTAL(109,Table2[Build DVHD]) -> 0
D34: Combined
D35: Period & Vehicle Type | E35: No Build Volume/ Year | F35: Build Volume/ Year | G35: No Build Travel Time | H35: Build Travel Time | I35: Speed Limit Travel Time | J35: No Build Yearly DVHD | K35: Build Yearly DVHD
D36: Peak HOV | E36: =E10+E23 -> 0 | F36: =F10+F23 -> 0 | G36: =IF(I10="",I23,I10) | H36: =IF(J10="",J23,J10) | I36: =IFERROR($E$4/$E$5,"") | J36: =IFERROR(E36*(G36-I36),"") | K36: =IFERROR(F36*(H36-I36),"")
D37: Peak Non HOV Vehicles | E37: =E11+E24 -> 0 | F37: =F11+F24 -> 0 | G37: =IF(I11="",I24,I11) | H37: =IF(J11="",J24,J11) | I37: =IFERROR($E$4/$E$5,"") | J37: =IFERROR(E37*(G37-I37),"") | K37: =IFERROR(F37*(H37-I37),"")
D38: Peak Weaving | E38: =E12+E25 -> 0 | F38: =F12+F25 -> 0 | G38: =IF(I12="",I25,I12) | H38: =IF(J12="",J25,J12) | I38: =IFERROR($E$4/$E$5,"") | J38: =IFERROR(E38*(G38-I38),"") | K38: =IFERROR(F38*(H38-I38),"")
D39: Peak Truck | E39: =E13+E26 -> 0 | F39: =F13+F26 -> 0 | G39: =IF(I13="",I26,I13) | H39: =IF(J13="",J26,J13) | I39: =IFERROR($E$4/$E$6,"") | J39: =IFERROR(E39*(G39-I39),"") | K39: =IFERROR(F39*(H39-I39),"")
D40: Peak Ramp | E40: =E14+E27 -> 0 | F40: =F14+F27 -> 0 | G40: =IF(I14="",I27,I14) | H40: =IF(J14="",J27,J14) | I40: =IFERROR($E$4/$E$5,"") | J40: =IFERROR(E40*(G40-I40),"") | K40: =IFERROR(F40*(H40-I40),"")
D41: Peak Arterial | E41: =E15+E28 -> 0 | F41: =F15+F28 -> 0 | G41: =IF(I15="",I28,I15) | H41: =IF(J15="",J28,J15) | I41: =IFERROR($E$4/$E$5,"") | J41: =IFERROR(E41*(G41-I41),"") | K41: =IFERROR(F41*(H41-I41),"")
D42: Non-Peak Non HOV | E42: =E16+E29 -> 0 | F42: =F16+F29 -> 0 | G42: =IF(I16="",I29,I16) | H42: =IF(J16="",J29,J16) | I42: =IFERROR($E$4/$E$5,"") | J42: =IFERROR(E42*(G42-I42),"") | K42: =IFERROR(F42*(H42-I42),"")
D43: Non-Peak Truck | E43: =E17+E30 -> 0 | F43: =F17+F30 -> 0 | G43: =IF(I17="",I30,I17) | H43: =IF(J17="",J30,J17) | I43: =IFERROR($E$4/$E$6,"") | J43: =IFERROR(E43*(G43-I43),"") | K43: =IFERROR(F43*(H43-I43),"")
D44: Total | E44: =SUBTOTAL(109,Table3[No Build Volume/ Year]) -> 0 | F44: =SUBTOTAL(109,Table3[Build Volume/ Year]) -> 0 | J44: =SUBTOTAL(109,Table3[No Build Yearly DVHD]) -> 0 | K44: =SUBTOTAL(109,Table3[Build Yearly DVHD]) -> 0
D47: Daily Vehicle Hours of Delay
D48: Vehicle Type | E48: No Build Daily DVHD | F48: Build Daily DVHD | G48: Change
...

Sheet PHTTS
A1: Person Hours of Travel Time Saved This is found in cell AU 25 in of the Travel Time tab in Cal-B/C Sketch. See highlighted values below from the Travel Time tab. | J1: Person Hours of Travel Time Saved
J2: PHTTS (Cell AU25 in Travel Time Tab)

Sheet Peak Travel Time Reliability
A1: Peak Period Travel Time Reliability Index Level of Travel Time Reliability is located using the CTC Travel Time Reliability Crosswalk and following the instructions on page 65 of the CTC SB 1 Technical Performance Measurement Methodology Guidebook (2022).
A3: Peak Period Travel Time Reliability Index
A4: Reliability | B4: No Build | C4: Build | D4: Change
A5: Level of Travel Time Reliability (LOTTR) | D5: =Table27[[#This Row],[Build]]-Table27[[#This Row],[No Build]] -> 0

Sheet Level of Transit Delay
A1: Level of Transit Delay Follow instructions from page 66-67 of the CTC SB 1 Technical Performance Measurement Methodology Guidebook (2022).
A4: Level of Transit Delay
A5: Metric | B5: No Build | C5: Build | D5: Change
A6: Median Minutes Late Per Bus | D6: =C6-B6 -> 0

Sheet Truck Travel Time Reliability
A1: Truck Travel Time Reliability Follow instructions from page 84-85 of the CTC SB 1 Technical Performance Measurement Methodology Guidebook (2022).
A6: Truck Travel Time Reliability Index
A7: Metric | B7: No Build | C7: Build | D7: Change
A8: Max TTTR | D8: =Table30[[#This Row],[Build]]-Table30[[#This Row],[No Build]] -> 0

Sheet Rail Volume
A1: Rail Volume In the Cal-B/C Sketch Model this is found in the Project Information tab in box 1D seen below. | J1: Peak/ Non Peak | K1: No Build Volume/ Year | L1: Build Volume/ Year | M1: Difference
J2: Peak Rail | K2: 0 | L2: 0 | M2: =Table8[[#This Row],[Build Volume/ Year]]-Table8[[#This Row],[No Build Volume/ Year]] -> 0
J3: Non-Peak Rail | K3: 0 | L3: 0 | M3: =Table8[[#This Row],[Build Volume/ Year]]-Table8[[#This Row],[No Build Volume/ Year]] -> 0
J4: Total | K4: =SUBTOTAL(109,Table8[No Build Volume/ Year]) -> 0 | L4: =SUBTOTAL(109,Table8[Build Volume/ Year]) -> 0 | M4: =SUBTOTAL(109,Table8[Difference]) -> 0

Sheet Rate of Fatalities-Serious Inj
A1: Rate of Fatalities and Seroius Injuries The Rate Per Day data is found in the Project Information tab of Cal-B/C Sketch in box 1C. In the below example the fatal crash rate per day is 0.001 and the injury crash rate per day is 0.05. The Statewide Basic Average Crash Rate also uses box 1C in Cal-B/C Sketch. The VMT/ Year data is found in the Vehicle Operating Costs tab of Cal-B/C Sketch. Data from Cal-B/C must be added for each scenario that has data (Peak HOV, Peak Non-HOV, Non-Peak Non-HOV, etc.). | J1: Actual Crash Rate Data (Box 1C in Cal-B/C) | O1: Rate of Fatalities and Serious Injuries
J2: Crash Type | K2: Rate Per Day | O2: Per 100 Million VMT | P2: No Build Per Year | Q2: Build Per Year | R2: Change
J3: Fatal Crashes | O3: Rate of Fatalities | P3: =(K12/K49)*100000000 -> #DIV/0! | Q3: =(L12/L49)*100000000 -> 0 | R3: =Q3-P3 -> #DIV/0!
J4: Injury Crashes | O4: Rate of Serious Injuries | P4: =(K13/K49)*100000000 -> #DIV/0! | Q4: =(L13/L49)*100000000 -> 0 | R4: =Q4-P4 -> #DIV/0!
A6: Crash Rate Per Day and Statewide Basic Average Crash Rate in Project Information Tab | J6: Statewide Basic Average Crash Rate (Box 1C in Cal-B/C)
J7: Crash Type | K7: No Build | L7: Build
J8: Percent Fatal Crashes
J9: Percent Injury Crashes
A11: VMT in the Vehicle Operating Costs Tab | J11: Crash Type | K11: No Build Per Year | L11: Build Per Year | M11: Change
J12: Fatal Crashes | K12: =K3*365 -> 0 | L12: =K12*(1-(K8-L8)) -> 0 | M12: =L12-K12 -> 0
J13: Injury Crashes | K13: =K4*365 -> 0 | L13: =K13*(1-(K9-L9)) -> 0 | M13: =L13-K13 -> 0
J15: Part 1
A16: VMT in the Vehicle Operating Costs Tab | J16: Period & Vehicle Type | K16: No Build VMT/ Year | L16: Build VMT/ Year
J17: =DVHD!D10 -> Peak HOV
J18: =DVHD!D11 -> Peak Non HOV Vehicles
J19: =DVHD!D12 -> Peak Weaving
J20: =DVHD!D13 -> Peak Truck
J21: =DVHD!D14 -> Peak Ramp
J22: =DVHD!D15 -> Peak Arterial
J23: =DVHD!D16 -> Non-Peak Non HOV
J24: =DVHD!D17 -> Non-Peak Truck
J27: Part 2
J28: Period & Vehicle Type | K28: No Build VMT/ Year | L28: Build VMT/ Year
J29: =DVHD!D23 -> Peak HOV
J30: =DVHD!D24 -> Peak Non HOV Vehicles | K30: 0 | L30: 0
J31: =DVHD!D25 -> Peak Weaving
J32: =DVHD!D26 -> Peak Truck | K32: 0 | L32: 16591142
J33: =DVHD!D27 -> Peak Ramp
J34: =DVHD!D28 -> Peak Arterial
J35: =DVHD!D29 -> Non-Peak Non HOV | K35: 0 | L35: 0
J36: =DVHD!D30 -> Non-Peak Truck | K36: 0 | L36: 24577945
J39: Combined
J40: Period & Vehicle Type | K40: No Build VMT/ Year | L40: Build VMT/ Year
J41: =DVHD!D36 -> Peak HOV | K41: =SUM(K17,K29) -> 0 | L41: =SUM(L17,L29) -> 0
J42: =DVHD!D37 -> Peak Non HOV Vehicles | K42: =SUM(K18,K30) -> 0 | L42: =SUM(L18,L30) -> 0
J43: =DVHD!D38 -> Peak Weaving | K43: =SUM(K19,K31) -> 0 | L43: =SUM(L19,L31) -> 0
J44: =DVHD!D39 -> Peak Truck | K44: =SUM(K20,K32) -> 0 | L44: =SUM(L20,L32) -> 16591142
J45: =DVHD!D40 -> Peak Ramp | K45: =SUM(K21,K33) -> 0 | L45: =SUM(L21,L33) -> 0
J46: =DVHD!D41 -> Peak Arterial | K46: =SUM(K22,K34) -> 0 | L46: =SUM(L22,L34) -> 0
J47: =DVHD!D42 -> Non-Peak Non HOV | K47: =SUM(K23,K35) -> 0 | L47: =SUM(L23,L35) -> 0
...

Sheet Air Quality
A1: Air Quality The Emissions Reduction in Tons over 20 years is found in the Results tab in Cal-B/C Sketch. See below for an example. | J1: EMISSIONS REDUCTION | K1: Total Over 20 Years (Tons)
J2: CO Emissions Saved
J3: CO2 Emissions Saved
J4: NOX Emissions Saved
J5: PM10 Emissions Saved
J6: PM2.5 Emissions Saved
J7: SOX Emissions Saved
J8: VOC Emissions Saved

Sheet Average Annual Volume
A1: Average Annual Volume The current yearly volume is located in the Project Information tab in box 1B. | J1: Existing
J2: Average Daily Traffic | K2: No Build Volume/ Year | L2: Build Volume/ Year
J3: Current Yearly Volume
J5: Year 20
J6: Type | K6: No Build Volume/ Year | L6: Build Volume/ Year
J7: Peak HOV | K7: =DVHD!E36 -> 0 | L7: =DVHD!F36 -> 0
J8: Peak Non HOV Vehicles | K8: =DVHD!E37 -> 0 | L8: =DVHD!F37 -> 0
J9: Peak Weaving | K9: =DVHD!E38 -> 0 | L9: =DVHD!F38 -> 0
J10: Peak Truck | K10: =DVHD!E39 -> 0 | L10: =DVHD!F39 -> 0
J11: Peak Ramp | K11: =DVHD!E40 -> 0 | L11: =DVHD!F40 -> 0
J12: Peak Arterial | K12: =DVHD!E41 -> 0 | L12: =DVHD!F41 -> 0
J13: Non-Peak Non HOV | K13: =DVHD!E42 -> 0 | L13: =DVHD!F42 -> 0
J14: Non-Peak Truck | K14: =DVHD!E43 -> 0 | L14: =DVHD!F43 -> 0
J15: Total | K15: =SUBTOTAL(109,Table19[No Build Volume/ Year]) -> 0 | L15: =SUBTOTAL(109,Table19[Build Volume/ Year]) -> 0

Sheet DVMT
A1: Daily Vehicle Miles Travelled
A3: Project Information | B3: Data
A4: Impacted Length (Miles) | B4: =Table6[[#This Row],[Data]] -> 0
A5: Vehicle Posted Speed Limit (MPH) | B5: =Table6[[#This Row],[Data]] -> 0
A6: Truck Posted Speed Limit (MPH) | B6: =Table6[[#This Row],[Data]] -> 0
A8: Part 1
A9: Period & Vehicle Type | B9: No Build Volume/ Year | C9: Build Volume/ Year | D9: No Build DVMT | E9: Build DVMT | F9: Change
A10: =Table1[[#This Row],[Period & Vehicle Type]] -> Peak HOV | B10: =Table1[[#This Row],[No Build Volume/ Year]] -> 0 | C10: =Table1[[#This Row],[Build Volume/ Year]] -> 0 | D10: =Table122[[#This Row],[No Build Volume/ Year]]*$B$4 -> 0 | E10: =Table122[[#This Row],[Build Volume/ Year]]*$B$4 -> 0 | F10: =Table122[[#This Row],[Build DVMT]]-Table122[[#This Row],[No Build DVMT]] -> 0
A11: =Table1[[#This Row],[Period & Vehicle Type]] -> Peak Non HOV Vehicles | B11: =Table1[[#This Row],[No Build Volume/ Year]] -> 0 | C11: =Table1[[#This Row],[Build Volume/ Year]] -> 0 | D11: =Table122[[#This Row],[No Build Volume/ Year]]*$B$4 -> 0 | E11: =Table122[[#This Row],[Build Volume/ Year]]*$B$4 -> 0 | F11: =Table122[[#This Row],[Build DVMT]]-Table122[[#This Row],[No Build DVMT]] -> 0
A12: =Table1[[#This Row],[Period & Vehicle Type]] -> Peak Weaving | B12: =Table1[[#This Row],[No Build Volume/ Year]] -> 0 | C12: =Table1[[#This Row],[Build Volume/ Year]] -> 0 | D12: =Table122[[#This Row],[No Build Volume/ Year]]*$B$4 -> 0 | E12: =Table122[[#This Row],[Build Volume/ Year]]*$B$4 -> 0 | F12: =Table122[[#This Row],[Build DVMT]]-Table122[[#This Row],[No Build DVMT]] -> 0
A13: =Table1[[#This Row],[Period & Vehicle Type]] -> Peak Truck | B13: =Table1[[#This Row],[No Build Volume/ Year]] -> 0 | C13: =Table1[[#This Row],[Build Volume/ Year]] -> 0 | D13: =Table122[[#This Row],[No Build Volume/ Year]]*$B$4 -> 0 | E13: =Table122[[#This Row],[Build Volume/ Year]]*$B$4 -> 0 | F13: =Table122[[#This Row],[Build DVMT]]-Table122[[#This Row],[No Build DVMT]] -> 0
A14: =Table1[[#This Row],[Period & Vehicle Type]] -> Peak Ramp | B14: =Table1[[#This Row],[No Build Volume/ Year]] -> 0 | C14: =Table1[[#This Row],[Build Volume/ Year]] -> 0 | D14: =Table122[[#This Row],[No Build Volume/ Year]]*$B$4 -> 0 | E14: =Table122[[#This Row],[Build Volume/ Year]]*$B$4 -> 0 | F14: =Table122[[#This Row],[Build DVMT]]-Table122[[#This Row],[No Build DVMT]] -> 0
A15: =Table1[[#This Row],[Period & Vehicle Type]] -> Peak Arterial | B15: =Table1[[#This Row],[No Build Volume/ Year]] -> 0 | C15: =Table1[[#This Row],[Build Volume/ Year]] -> 0 | D15: =Table122[[#This Row],[No Build Volume/ Year]]*$B$4 -> 0 | E15: =Table122[[#This Row],[Build Volume/ Year]]*$B$4 -> 0 | F15: =Table122[[#This Row],[Build DVMT]]-Table122[[#This Row],[No Build DVMT]] -> 0
A16: =Table1[[#This Row],[Period & Vehicle Type]] -> Non-Peak Non HOV | B16: =Table1[[#This Row],[No Build Volume/ Year]] -> 0 | C16: =Table1[[#This Row],[Build Volume/ Year]] -> 0 | D16: =Table122[[#This Row],[No Build Volume/ Year]]*$B$4 -> 0 | E16: =Table122[[#This Row],[Build Volume/ Year]]*$B$4 -> 0 | F16: =Table122[[#This Row],[Build DVMT]]-Table122[[#This Row],[No Build DVMT]] -> 0
A17: =Table1[[#This Row],[Period & Vehicle Type]] -> Non-Peak Truck | B17: =Table1[[#This Row],[No Build Volume/ Year]] -> 0 | C17: =Table1[[#This Row],[Build Volume/ Year]] -> 0 | D17: =Table122[[#This Row],[No Build Volume/ Year]]*$B$4 -> 0 | E17: =Table122[[#This Row],[Build Volume/ Year]]*$B$4 -> 0 | F17: =Table122[[#This Row],[Build DVMT]]-Table122[[#This Row],[No Build DVMT]] -> 0
A18: Total | B18: =SUBTOTAL(109,Table122[No Build Volume/ Year]) -> 0 | C18: =SUBTOTAL(109,Table122[Build Volume/ Year]) -> 0 | D18: =SUBTOTAL(109,Table122[No Build DVMT]) -> 0 | E18: =SUBTOTAL(109,Table122[Build DVMT]) -> 0 | F18: =SUBTOTAL(109,Table122[Change]) -> 0
A21: Part 2
A22: Period & Vehicle Type | B22: No Build Volume/ Year | C22: Build Volume/ Year | D22: No Build DVMT | E22: Build DVMT | F22: Change
A23: =Table2[[#This Row],[Period & Vehicle Type]] -> Peak HOV | B23: =Table2[[#This Row],[No Build Volume/ Year]] -> 0 | C23: =Table2[[#This Row],[Build Volume/ Year]] -> 0 | D23: =Table12232[[#This Row],[No Build Volume/ Year]]*$B$4 -> 0 | E23: =Table12232[[#This Row],[Build Volume/ Year]]*$B$4 -> 0 | F23: =Table12232[[#This Row],[Build DVMT]]-Table12232[[#This Row],[No Build DVMT]] -> 0
A24: =Table2[[#This Row],[Period & Vehicle Type]] -> Peak Non HOV Vehicles | B24: =Table2[[#This Row],[No Build Volume/ Year]] -> 0 | C24: =Table2[[#This Row],[Build Volume/ Year]] -> 0 | D24: =Table12232[[#This Row],[No Build Volume/ Year]]*$B$4 -> 0 | E24: =Table12232[[#This Row],[Build Volume/ Year]]*$B$4 -> 0 | F24: =Table12232[[#This Row],[Build DVMT]]-Table12232[[#This Row],[No Build DVMT]] -> 0
A25: =Table2[[#This Row],[Period & Vehicle Type]] -> Peak Weaving | B25: =Table2[[#This Row],[No Build Volume/ Year]] -> 0 | C25: =Table2[[#This Row],[Build Volume/ Year]] -> 0 | D25: =Table12232[[#This Row],[No Build Volume/ Year]]*$B$4 -> 0 | E25: =Table12232[[#This Row],[Build Volume/ Year]]*$B$4 -> 0 | F25: =Table12232[[#This Row],[Build DVMT]]-Table12232[[#This Row],[No Build DVMT]] -> 0
A26: =Table2[[#This Row],[Period & Vehicle Type]] -> Peak Truck | B26: =Table2[[#This Row],[No Build Volume/ Year]] -> 0 | C26: =Table2[[#This Row],[Build Volume/ Year]] -> 0 | D26: =Table12232[[#This Row],[No Build Volume/ Year]]*$B$4 -> 0 | E26: =Table12232[[#This Row],[Build Volume/ Year]]*$B$4 -> 0 | F26: =Table12232[[#This Row],[Build DVMT]]-Table12232[[#This Row],[No Build DVMT]] -> 0
A27: =Table2[[#This Row],[Period & Vehicle Type]] -> Peak Ramp | B27: =Table2[[#This Row],[No Build Volume/ Year]] -> 0 | C27: =Table2[[#This Row],[Build Volume/ Year]] -> 0 | D27: =Table12232[[#This Row],[No Build Volume/ Year]]*$B$4 -> 0 | E27: =Table12232[[#This Row],[Build Volume/ Year]]*$B$4 -> 0 | F27: =Table12232[[#This Row],[Build DVMT]]-Table12232[[#This Row],[No Build DVMT]] -> 0
A28: =Table2[[#This Row],[Period & Vehicle Type]] -> Peak Arterial | B28: =Table2[[#This Row],[No Build Volume/ Year]] -> 0 | C28: =Table2[[#This Row],[Build Volume/ Year]] -> 0 | D28: =Table12232[[#This Row],[No Build Volume/ Year]]*$B$4 -> 0 | E28: =Table12232[[#This Row],[Build Volume/ Year]]*$B$4 -> 0 | F28: =Table12232[[#This Row],[Build DVMT]]-Table12232[[#This Row],[No Build DVMT]] -> 0
A29: =Table2[[#This Row],[Period & Vehicle Type]] -> Non-Peak Non HOV | B29: =Table2[[#This Row],[No Build Volume/ Year]] -> 0 | C29: =Table2[[#This Row],[Build Volume/ Year]] -> 0 | D29: =Table12232[[#This Row],[No Build Volume/ Year]]*$B$4 -> 0 | E29: =Table12232[[#This Row],[Build Volume/ Year]]*$B$4 -> 0 | F29: =Table12232[[#This Row],[Build DVMT]]-Table12232[[#This Row],[No Build DVMT]] -> 0
A30: =Table2[[#This Row],[Period & Vehicle Type]] -> Non-Peak Truck | B30: =Table2[[#This Row],[No Build Volume/ Year]] -> 0 | C30: =Table2[[#This Row],[Build Volume/ Year]] -> 0 | D30: =Table12232[[#This Row],[No Build Volume/ Year]]*$B$4 -> 0 | E30: =Table12232[[#This Row],[Build Volume/ Year]]*$B$4 -> 0 | F30: =Table12232[[#This Row],[Build DVMT]]-Table12232[[#This Row],[No Build DVMT]] -> 0
A31: Total | B31: =SUBTOTAL(109,Table12232[No Build Volume/ Year]) -> 0 | C31: =SUBTOTAL(109,Table12232[Build Volume/ Year]) -> 0 | D31: =SUBTOTAL(109,Table12232[No Build DVMT]) -> 0 | E31: =SUBTOTAL(109,Table12232[Build DVMT]) -> 0 | F31: =SUBTOTAL(103,Table12232[Change]) -> 8
A34: Combined
A35: Period & Vehicle Type | B35: No Build Volume/ Year | C35: Build Volume/ Year | D35: No Build DVMT | E35: Build DVMT | F35: Change
A36: =Table3[[#This Row],[Period & Vehicle Type]] -> Peak HOV | B36: =B10+B23 -> 0 | C36: =C10+C23 -> 0 | D36: =Table1223233[[#This Row],[No Build Volume/ Year]]*$B$4 -> 0 | E36: =Table1223233[[#This Row],[Build Volume/ Year]]*$B$4 -> 0 | F36: =Table1223233[[#This Row],[Build DVMT]]-Table1223233[[#This Row],[No Build DVMT]] -> 0
A37: =Table3[[#This Row],[Period & Vehicle Type]] -> Peak Non HOV Vehicles | B37: =B11+B24 -> 0 | C37: =C11+C24 -> 0 | D37: =Table1223233[[#This Row],[No Build Volume/ Year]]*$B$4 -> 0 | E37: =Table1223233[[#This Row],[Build Volume/ Year]]*$B$4 -> 0 | F37: =Table1223233[[#This Row],[Build DVMT]]-Table1223233[[#This Row],[No Build DVMT]] -> 0
A38: =Table3[[#This Row],[Period & Vehicle Type]] -> Peak Weaving | B38: =B12+B25 -> 0 | C38: =C12+C25 -> 0 | D38: =Table1223233[[#This Row],[No Build Volume/ Year]]*$B$4 -> 0 | E38: =Table1223233[[#This Row],[Build Volume/ Year]]*$B$4 -> 0 | F38: =Table1223233[[#This Row],[Build DVMT]]-Table1223233[[#This Row],[No Build DVMT]] -> 0
A39: =Table3[[#This Row],[Period & Vehicle Type]] -> Peak Truck | B39: =B13+B26 -> 0 | C39: =C13+C26 -> 0 | D39: =Table1223233[[#This Row],[No Build Volume/ Year]]*$B$4 -> 0 | E39: =Table1223233[[#This Row],[Build Volume/ Year]]*$B$4 -> 0 | F39: =Table1223233[[#This Row],[Build DVMT]]-Table1223233[[#This Row],[No Build DVMT]] -> 0
A40: =Table3[[#This Row],[Period & Vehicle Type]] -> Peak Ramp | B40: =B14+B27 -> 0 | C40: =C14+C27 -> 0 | D40: =Table1223233[[#This Row],[No Build Volume/ Year]]*$B$4 -> 0 | E40: =Table1223233[[#This Row],[Build Volume/ Year]]*$B$4 -> 0 | F40: =Table1223233[[#This Row],[Build DVMT]]-Table1223233[[#This Row],[No Build DVMT]] -> 0
A41: =Table3[[#This Row],[Period & Vehicle Type]] -> Peak Arterial | B41: =B15+B28 -> 0 | C41: =C15+C28 -> 0 | D41: =Table1223233[[#This Row],[No Build Volume/ Year]]*$B$4 -> 0 | E41: =Table1223233[[#This Row],[Build Volume/ Year]]*$B$4 -> 0 | F41: =Table1223233[[#This Row],[Build DVMT]]-Table1223233[[#This Row],[No Build DVMT]] -> 0
A42: =Table3[[#This Row],[Period & Vehicle Type]] -> Non-Peak Non HOV | B42: =B16+B29 -> 0 | C42: =C16+C29 -> 0 | D42: =Table1223233[[#This Row],[No Build Volume/ Year]]*$B$4 -> 0 | E42: =Table1223233[[#This Row],[Build Volume/ Year]]*$B$4 -> 0 | F42: =Table1223233[[#This Row],[Build DVMT]]-Table1223233[[#This Row],[No Build DVMT]] -> 0
A43: =Table3[[#This Row],[Period & Vehicle Type]] -> Non-Peak Truck | B43: =B17+B30 -> 0 | C43: =C17+C30 -> 0 | D43: =Table1223233[[#This Row],[No Build Volume/ Year]]*$B$4 -> 0 | E43: =Table1223233[[#This Row],[Build Volume/ Year]]*$B$4 -> 0 | F43: =Table1223233[[#This Row],[Build DVMT]]-Table1223233[[#This Row],[No Build DVMT]] -> 0
A44: Total | B44: =SUBTOTAL(109,Table1223233[No Build Volume/ Year]) -> 0 | C44: =SUBTOTAL(109,Table1223233[Build Volume/ Year]) -> 0 | D44: =SUBTOTAL(109,Table1223233[No Build DVMT]) -> 0 | E44: =SUBTOTAL(109,Table1223233[Build DVMT]) -> 0 | F44: =SUBTOTAL(109,Table1223233[Change]) -> 0

Sheet Truck Volume
A1: Truck Volume
A2: Peak/ Non- Peak | B2: No Build Volume/ Year | C2: Build Volume/ Year | D2: Difference
A3: Peak Truck | B3: =DVHD!E39 -> 0 | C3: =DVHD!F39 -> 0 | D3: =Table7[[#This Row],[Build Volume/ Year]]-Table7[[#This Row],[No Build Volume/ Year]] -> 0
A4: Non-Peak Truck | B4: =DVHD!E43 -> 0 | C4: =DVHD!F43 -> 0 | D4: =Table7[[#This Row],[Build Volume/ Year]]-Table7[[#This Row],[No Build Volume/ Year]] -> 0
A5: Total | B5: =SUBTOTAL(109,Table7[No Build Volume/ Year]) -> 0 | C5: =SUBTOTAL(109,Table7[Build Volume/ Year]) -> 0 | D5: =SUBTOTAL(109,Table7[Difference]) -> 0

Sheet # of Fatalities and Serious Inj
A1: # of Fatalities and Serious Injuries
A2: Crash Type | B2: No Build Per Year | C2: Build Per Year | D2: Change
A3: Fatal Crashes | B3: ='Rate of Fatalities-Serious Inj'!K12 -> 0 | C3: ='Rate of Fatalities-Serious Inj'!L12 -> 0 | D3: ='Rate of Fatalities-Serious Inj'!M12 -> 0
A4: Injury Crashes | B4: ='Rate of Fatalities-Serious Inj'!K13 -> 0 | C4: ='Rate of Fatalities-Serious Inj'!L13 -> 0 | D4: ='Rate of Fatalities-Serious Inj'!M13 -> 0

Sheet Velocity
A1: Velocity
A2: Part 1
A3: Period & Vehicle Type | B3: No Build Volume/ Year | C3: Build Volume/ Year | D3: No Build Avg Speed | E3: Build Avg Speed | F3: No Build Impacted Length | G3: Build Impacted Length | H3: No Build Velocity | I3: Build Velocity | J3: Change
A4: =DVHD!D10 -> Peak HOV | B4: =DVHD!E10 -> 0 | C4: =DVHD!F10 -> 0 | D4: =DVHD!G10 -> 0 | E4: =DVHD!H10 -> 0 | F4: =DVHD!$E$4 -> 0 | G4: =DVHD!$E$4 -> 0 | H4: =F4*D4*B4 -> 0 | I4: =G4*E4*C4 -> 0 | J4: =I4-H4 -> 0
A5: =DVHD!D11 -> Peak Non HOV Vehicles | B5: =DVHD!E11 -> 0 | C5: =DVHD!F11 -> 0 | D5: =DVHD!G11 -> 0 | E5: =DVHD!H11 -> 0 | F5: =DVHD!$E$4 -> 0 | G5: =DVHD!$E$4 -> 0 | H5: =F5*D5*B5 -> 0 | I5: =G5*E5*C5 -> 0 | J5: =I5-H5 -> 0
A6: =DVHD!D12 -> Peak Weaving | B6: =DVHD!E12 -> 0 | C6: =DVHD!F12 -> 0 | D6: =DVHD!G12 -> 0 | E6: =DVHD!H12 -> 0 | F6: =DVHD!$E$4 -> 0 | G6: =DVHD!$E$4 -> 0 | H6: =F6*D6*B6 -> 0 | I6: =G6*E6*C6 -> 0 | J6: =I6-H6 -> 0
A7: =DVHD!D13 -> Peak Truck | B7: =DVHD!E13 -> 0 | C7: =DVHD!F13 -> 0 | D7: =DVHD!G13 -> 0 | E7: =DVHD!H13 -> 0 | F7: =DVHD!$E$4 -> 0 | G7: =DVHD!$E$4 -> 0 | H7: =F7*D7*B7 -> 0 | I7: =G7*E7*C7 -> 0 | J7: =I7-H7 -> 0
A8: =DVHD!D14 -> Peak Ramp | B8: =DVHD!E14 -> 0 | C8: =DVHD!F14 -> 0 | D8: =DVHD!G14 -> 0 | E8: =DVHD!H14 -> 0 | F8: =DVHD!$E$4 -> 0 | G8: =DVHD!$E$4 -> 0 | H8: =F8*D8*B8 -> 0 | I8: =G8*E8*C8 -> 0 | J8: =I8-H8 -> 0
A9: =DVHD!D15 -> Peak Arterial | B9: =DVHD!E15 -> 0 | C9: =DVHD!F15 -> 0 | D9: =DVHD!G15 -> 0 | E9: =DVHD!H15 -> 0 | F9: =DVHD!$E$4 -> 0 | G9: =DVHD!$E$4 -> 0 | H9: =F9*D9*B9 -> 0 | I9: =G9*E9*C9 -> 0 | J9: =I9-H9 -> 0
A10: =DVHD!D16 -> Non-Peak Non HOV | B10: =DVHD!E16 -> 0 | C10: =DVHD!F16 -> 0 | D10: =DVHD!G16 -> 0 | E10: =DVHD!H16 -> 0 | F10: =DVHD!$E$4 -> 0 | G10: =DVHD!$E$4 -> 0 | H10: =F10*D10*B10 -> 0 | I10: =G10*E10*C10 -> 0 | J10: =I10-H10 -> 0
A11: =DVHD!D17 -> Non-Peak Truck | B11: =DVHD!E17 -> 0 | C11: =DVHD!F17 -> 0 | D11: =DVHD!G17 -> 0 | E11: =DVHD!H17 -> 0 | F11: =DVHD!$E$4 -> 0 | G11: =DVHD!$E$4 -> 0 | H11: =F11*D11*B11 -> 0 | I11: =G11*E11*C11 -> 0 | J11: =I11-H11 -> 0
A12: Total | B12: =SUBTOTAL(109,Table9[No Build Volume/ Year]) -> 0 | C12: =SUBTOTAL(109,Table9[Build Volume/ Year]) -> 0 | H12: =SUBTOTAL(109,Table9[No Build Velocity]) -> 0 | I12: =SUBTOTAL(109,Table9[Build Velocity]) -> 0 | J12: =SUBTOTAL(109,Table9[Change]) -> 0
A15: Part 2
A16: Period & Vehicle Type | B16: No Build Volume/ Year | C16: Build Volume/ Year | D16: No Build Avg Speed | E16: Build Avg Speed | F16: No Build Impacted Length | G16: Build Impacted Length | H16: No Build Velocity | I16: Build Velocity | J16: Change
A17: =DVHD!D23 -> Peak HOV | B17: =DVHD!E23 -> 0 | C17: =DVHD!F23 -> 0 | D17: =DVHD!G23 -> 0 | E17: =DVHD!H23 -> 0 | F17: =DVHD!$E$4 -> 0 | G17: =DVHD!$E$4 -> 0 | H17: =F17*D17*B17 -> 0 | I17: =G17*E17*C17 -> 0 | J17: =I17-H17 -> 0
A18: =DVHD!D24 -> Peak Non HOV Vehicles | B18: =DVHD!E24 -> 0 | C18: =DVHD!F24 -> 0 | D18: =DVHD!G24 -> 0 | E18: =DVHD!H24 -> 0 | F18: =DVHD!$E$4 -> 0 | G18: =DVHD!$E$4 -> 0 | H18: =F18*D18*B18 -> 0 | I18: =G18*E18*C18 -> 0 | J18: =I18-H18 -> 0
A19: =DVHD!D25 -> Peak Weaving | B19: =DVHD!E25 -> 0 | C19: =DVHD!F25 -> 0 | D19: =DVHD!G25 -> 0 | E19: =DVHD!H25 -> 0 | F19: =DVHD!$E$4 -> 0 | G19: =DVHD!$E$4 -> 0 | H19: =F19*D19*B19 -> 0 | I19: =G19*E19*C19 -> 0 | J19: =I19-H19 -> 0
A20: =DVHD!D26 -> Peak Truck | B20: =DVHD!E26 -> 0 | C20: =DVHD!F26 -> 0 | D20: =DVHD!G26 -> 0 | E20: =DVHD!H26 -> 0 | F20: =DVHD!$E$4 -> 0 | G20: =DVHD!$E$4 -> 0 | H20: =F20*D20*B20 -> 0 | I20: =G20*E20*C20 -> 0 | J20: =I20-H20 -> 0
A21: =DVHD!D27 -> Peak Ramp | B21: =DVHD!E27 -> 0 | C21: =DVHD!F27 -> 0 | D21: =DVHD!G27 -> 0 | E21: =DVHD!H27 -> 0 | F21: =DVHD!$E$4 -> 0 | G21: =DVHD!$E$4 -> 0 | H21: =F21*D21*B21 -> 0 | I21: =G21*E21*C21 -> 0 | J21: =I21-H21 -> 0
A22: =DVHD!D28 -> Peak Arterial | B22: =DVHD!E28 -> 0 | C22: =DVHD!F28 -> 0 | D22: =DVHD!G28 -> 0 | E22: =DVHD!H28 -> 0 | F22: =DVHD!$E$4 -> 0 | G22: =DVHD!$E$4 -> 0 | H22: =F22*D22*B22 -> 0 | I22: =G22*E22*C22 -> 0 | J22: =I22-H22 -> 0
A23: =DVHD!D29 -> Non-Peak Non HOV | B23: =DVHD!E29 -> 0 | C23: =DVHD!F29 -> 0 | D23: =DVHD!G29 -> 0 | E23: =DVHD!H29 -> 0 | F23: =DVHD!$E$4 -> 0 | G23: =DVHD!$E$4 -> 0 | H23: =F23*D23*B23 -> 0 | I23: =G23*E23*C23 -> 0 | J23: =I23-H23 -> 0
A24: =DVHD!D30 -> Non-Peak Truck | B24: =DVHD!E30 -> 0 | C24: =DVHD!F30 -> 0 | D24: =DVHD!G30 -> 0 | E24: =DVHD!H30 -> 0 | F24: =DVHD!$E$4 -> 0 | G24: =DVHD!$E$4 -> 0 | H24: =F24*D24*B24 -> 0 | I24: =G24*E24*C24 -> 0 | J24: =I24-H24 -> 0
A25: Total | B25: =SUBTOTAL(109,Table934[No Build Volume/ Year]) -> 0 | C25: =SUBTOTAL(109,Table934[Build Volume/ Year]) -> 0 | H25: =SUBTOTAL(109,Table934[No Build Velocity]) -> 0 | I25: =SUBTOTAL(109,Table934[Build Velocity]) -> 0 | J25: =SUBTOTAL(109,Table934[Change]) -> 0
A28: Combined
A29: Period & Vehicle Type | B29: No Build Volume/ Year | C29: Build Volume/ Year | D29: No Build Avg Speed | E29: Build Avg Speed | F29: No Build Impacted Length | G29: Build Impacted Length | H29: No Build Velocity | I29: Build Velocity | J29: Change
A30: =DVHD!D36 -> Peak HOV | B30: =SUM(B4,B17) -> 0 | C30: =SUM(C4,C17) -> 0 | D30: =IFERROR(Table93435[[#This Row],[No Build Velocity]]/Table93435[[#This Row],[No Build Impacted Length]]/Table93435[[#This Row],[No Build Volume/ Year]],"") | E30: =IFERROR(Table93435[[#This Row],[Build Velocity]]/Table93435[[#This Row],[Build Impacted Length]]/Table93435[[#This Row],[Build Volume/ Year]],"") | F30: =DVHD!$E$4 -> 0 | G30: =DVHD!$E$4 -> 0 | H30: =SUM(H4,H17) -> 0 | I30: =SUM(I4,I17) -> 0 | J30: =I30-H30 -> 0
A31: =DVHD!D37 -> Peak Non HOV Vehicles | B31: =SUM(B5,B18) -> 0 | C31: =SUM(C5,C18) -> 0 | D31: =IFERROR(Table93435[[#This Row],[No Build Velocity]]/Table93435[[#This Row],[No Build Impacted Length]]/Table93435[[#This Row],[No Build Volume/ Year]],"") | E31: =IFERROR(Table93435[[#This Row],[No Build Velocity]]/Table93435[[#This Row],[No Build Impacted Length]]/Table93435[[#This Row],[No Build Volume/ Year]],"") | F31: =DVHD!$E$4 -> 0 | G31: =DVHD!$E$4 -> 0 | H31: =SUM(H5,H18) -> 0 | I31: =SUM(I5,I18) -> 0 | J31: =I31-H31 -> 0
A32: =DVHD!D38 -> Peak Weaving | B32: =SUM(B6,B19) -> 0 | C32: =SUM(C6,C19) -> 0 | D32: =IFERROR(Table93435[[#This Row],[No Build Velocity]]/Table93435[[#This Row],[No Build Impacted Length]]/Table93435[[#This Row],[No Build Volume/ Year]],"") | E32: =IFERROR(Table93435[[#This Row],[No Build Velocity]]/Table93435[[#This Row],[No Build Impacted Length]]/Table93435[[#This Row],[No Build Volume/ Year]],"") | F32: =DVHD!$E$4 -> 0 | G32: =DVHD!$E$4 -> 0 | H32: =SUM(H6,H19) -> 0 | I32: =SUM(I6,I19) -> 0 | J32: =I32-H32 -> 0
A33: =DVHD!D39 -> Peak Truck | B33: =SUM(B7,B20) -> 0 | C33: =SUM(C7,C20) -> 0 | D33: =IFERROR(Table93435[[#This Row],[No Build Velocity]]/Table93435[[#This Row],[No Build Impacted Length]]/Table93435[[#This Row],[No Build Volume/ Year]],"") | E33: =IFERROR(Table93435[[#This Row],[No Build Velocity]]/Table93435[[#This Row],[No Build Impacted Length]]/Table93435[[#This Row],[No Build Volume/ Year]],"") | F33: =DVHD!$E$4 -> 0 | G33: =DVHD!$E$4 -> 0 | H33: =SUM(H7,H20) -> 0 | I33: =SUM(I7,I20) -> 0 | J33: =I33-H33 -> 0
A34: =DVHD!D40 -> Peak Ramp | B34: =SUM(B8,B21) -> 0 | C34: =SUM(C8,C21) -> 0 | D34: =IFERROR(Table93435[[#This Row],[No Build Velocity]]/Table93435[[#This Row],[No Build Impacted Length]]/Table93435[[#This Row],[No Build Volume/ Year]],"") | E34: =IFERROR(Table93435[[#This Row],[No Build Velocity]]/Table93435[[#This Row],[No Build Impacted Length]]/Table93435[[#This Row],[No Build Volume/ Year]],"") | F34: =DVHD!$E$4 -> 0 | G34: =DVHD!$E$4 -> 0 | H34: =SUM(H8,H21) -> 0 | I34: =SUM(I8,I21) -> 0 | J34: =I34-H34 -> 0
A35: =DVHD!D41 -> Peak Arterial | B35: =SUM(B9,B22) -> 0 | C35: =SUM(C9,C22) -> 0 | D35: =IFERROR(Table93435[[#This Row],[No Build Velocity]]/Table93435[[#This Row],[No Build Impacted Length]]/Table93435[[#This Row],[No Build Volume/ Year]],"") | E35: =IFERROR(Table93435[[#This Row],[No Build Velocity]]/Table93435[[#This Row],[No Build Impacted Length]]/Table93435[[#This Row],[No Build Volume/ Year]],"") | F35: =DVHD!$E$4 -> 0 | G35: =DVHD!$E$4 -> 0 | H35: =SUM(H9,H22) -> 0 | I35: =SUM(I9,I22) -> 0 | J35: =I35-H35 -> 0
A36: =DVHD!D42 -> Non-Peak Non HOV | B36: =SUM(B10,B23) -> 0 | C36: =SUM(C10,C23) -> 0 | D36: =IFERROR(Table93435[[#This Row],[No Build Velocity]]/Table93435[[#This Row],[No Build Impacted Length]]/Table93435[[#This Row],[No Build Volume/ Year]],"") | E36: =IFERROR(Table93435[[#This Row],[No Build Velocity]]/Table93435[[#This Row],[No Build Impacted Length]]/Table93435[[#This Row],[No Build Volume/ Year]],"") | F36: =DVHD!$E$4 -> 0 | G36: =DVHD!$E$4 -> 0 | H36: =SUM(H10,H23) -> 0 | I36: =SUM(I10,I23) -> 0 | J36: =I36-H36 -> 0
A37: =DVHD!D43 -> Non-Peak Truck | B37: =SUM(B11,B24) -> 0 | C37: =SUM(C11,C24) -> 0 | D37: =IFERROR(Table93435[[#This Row],[No Build Velocity]]/Table93435[[#This Row],[No Build Impacted Length]]/Table93435[[#This Row],[No Build Volume/ Year]],"") | E37: =IFERROR(Table93435[[#This Row],[No Build Velocity]]/Table93435[[#This Row],[No Build Impacted Length]]/Table93435[[#This Row],[No Build Volume/ Year]],"") | F37: =DVHD!$E$4 -> 0 | G37: =DVHD!$E$4 -> 0 | H37: =SUM(H11,H24) -> 0 | I37: =SUM(I11,I24) -> 0 | J37: =I37-H37 -> 0
A38: Total | B38: =SUBTOTAL(109,Table93435[No Build Volume/ Year]) -> 0 | C38: =SUBTOTAL(109,Table93435[Build Volume/ Year]) -> 0 | H38: =SUBTOTAL(109,Table93435[No Build Velocity]) -> 0 | I38: =SUBTOTAL(109,Table93435[Build Velocity]) -> 0 | J38: =SUBTOTAL(109,Table93435[Change]) -> 0
