{"text_format":"1","workbook":"xlsx","n_sheets":7,"sheets":["Title","Instructions","1) Project Information","2) Results","Emissions","PARAMETERS","Original"],"not_rendered":{"charts":0,"images":7,"macros":1,"external_links":0,"defined_names":338,"comments":0,"pivot_tables":0},"unopened":[{"sheet":"Original","index":6,"reason":"part_missing"}],"bounds":{"document_bytes":16777216,"sheet_cells":100000,"rows_first":2000,"rows_last":500,"rows_between":2000,"halvings":0,"cell_chars":16384,"cell_head_chars":4096},"cells_cut":0,"cells_raw":0,"read":"whole","date_system":"1900"}

{"sheet":"Title","index":0,"n_rows":23,"n_cols":2,"rows_kept":23,"cut":false,"hidden":false,"merged":[[1,1,1,2],[22,1,22,2]]}
[]
[null,"\n\nSenate Bill 1 Grant Programs \nEmissions Calculator"]
[]
[]
[]
[]
[]
[]
[]
[]
[]
[]
[]
[]
[]
[]
[]
[]
[]
[]
[]
[]
[null,"February 2022"]

{"sheet":"Instructions","index":1,"n_rows":1,"n_cols":1,"rows_kept":1,"cut":false,"hidden":false,"merged":[]}
["The column titles for this worksheet are in row 2. They span cells A2. The data spans cells A3 through E43. There is information in every cell for column A through E inclusive.  If you are not using a screen reader, you can press Alt + R, T for the Review Ribbon, Edit Comment to move to and open a Comment once you are on a cell with a Comment. When you are finished reading the Comment, press Escape to close the comment and return to the worksheet. If you are using the JAWS screen reader, press Ctrl + Shift + Apostrophe to get a list of Comments and their cell coordinates in the worksheet. Press Enter on the Comment you want to go to or Escape once you’ve read the Comment for a cell. You are returned to the workbook. Note that there is no keyboard command with JAWS to reread Comments or read Comments once you are on them in a cell. You must use the ability to list Comments in order to read them if you are using the JAWS screen reader."]

{"sheet":"1) Project Information","index":2,"n_rows":39,"n_cols":26,"rows_kept":39,"cut":false,"hidden":false,"merged":[[5,5,5,13],[3,5,3,13]]}
["The column titles for this worksheet are in row 2. They span cells A2. The data spans cells A3 through AE41. There is information in every cell for column A through AE inclusive.  If you are not using a screen reader, you can press Alt + R, T for the Review Ribbon, Edit Comment to move to and open a Comment once you are on a cell with a Comment. When you are finished reading the Comment, press Escape to close the comment and return to the worksheet. If you are using the JAWS screen reader, press Ctrl + Shift + Apostrophe to get a list of Comments and their cell coordinates in the worksheet. Press Enter on the Comment you want to go to or Escape once you’ve read the Comment for a cell. You are returned to the workbook. Note that there is no keyboard command with JAWS to reread Comments or read Comments once you are on them in a cell. You must use the ability to list Comments in order to read them if you are using the JAWS screen reader."]
[null,null,"District: ",null,null,"HQ"]
[null,null,null,null,null,null,null,null,null,null,null,null,null,null,null,"EA:"]
[null,null,"PROJECT:",null,null,"Hypothetical Project",null,null,null,null,null,null,null,null,null,"PPNO:"]
[]
[null,null,"PROJECT DESCRIPTION:",null,null,"Hypothetical Project Description"]
[]
[]
[]
[null,null,"1A","PROJECT DATA",null,null,null,null,null,null,null,null,"1C","SYSTEM USAGE BY MODE",null,null,null,null,null,null,null,"1D"," AVERAGE SPEED/FUEL CONSUMPTION"]
[]
[null,null,null,null,null,null,null,null,null,null,null,null,"Vehicle-Miles Traveled (Passenger Vehicles)",null,null,null,null,null,null,null,null,"Average Speed (Passenger Vehicles)"]
[null,null,"Project Location (enter 1 for So. Cal., 2 for No. Cal., or 3 for rural)"]
[null,null,null,null,null,null,null,null,null,null,null,null,null,null,null,"No Build","Build",null,null,null,null,null,null,null,"No Build","Build"]
[null,null,"Length of Construction Period (years)",null,null,null,null,null,null,null,null,null,null,"Base (Year 1)",null,{"$f":"AvgVMT1NB*(1-IF(G$31=\"\", F$31, G$31)-IF(G$32=\"\", F$32, G$32))","v":0},{"$f":"AvgVMT1B*(1-IF(I$31=\"\", H$31, I$31)-IF(I$32=\"\", H$32, I$32))","v":0},null,null,null,null,null,"Base (Year 1)"]
[null,null,null,null,null,null,null,null,null,null,null,null,null,"Forecast (Year 20)",null,{"$f":"AvgVMT20NB*(1-IF(G$31=\"\", F$31, G$31)-IF(G$32=\"\", F$32, G$32))","v":0},{"$f":"AvgVMT20B*(1-IF(I$31=\"\", H$31, I$31)-IF(I$32=\"\", H$32, I$32))","v":0},null,null,null,null,null,"Forecast (Year 20)"]
[]
[]
[null,null,null,null,null,null,null,null,null,null,null,null,"Vehicle-Miles Traveled (Trucks)",null,null,null,null,null,null,null,null,"Average Speed (Trucks)"]
[]
[null,null,"1B","HIGHWAY DATA",null,null,null,null,null,null,null,null,null,null,null,"No Build","Build",null,null,null,null,null,null,null,"No Build","Build"]
[null,null,null,null,null,null,null,null,null,null,null,null,null,"Base (Year 1)",null,{"$f":"AvgVMT1NB*IF(G$31=\"\", F$31, G$31)","v":0},{"$f":"AvgVMT1B*IF(I$31=\"\", H$31, I$31)","v":0},null,null,null,null,null,"Base (Year 1)"]
[null,null,null,null,null,null,null,null,null,null,null,null,null,"Forecast (Year 20)",null,{"$f":"AvgVMT20NB*IF(G$31=\"\", F$31, G$31)","v":0},{"$f":"AvgVMT20B*IF(I$31=\"\", H$31, I$31)","v":0},null,null,null,null,null,"Forecast (Year 20)"]
[null,null,"Average Daily Vehicle-Miles Traveled (VMT)"]
[null,null,null,null,null,null,null,"No Build","Build"]
[null,null,null,null,"Base (Year 1)",null,null,null,null,null,null,null,"Service-Miles (Buses)",null,null,null,null,null,null,null,null,"Average Speed (Buses)"]
[null,null,null,null,"Forecast (Year 20)"]
[null,null,null,null,null,null,null,null,null,null,null,null,null,null,null,"No Build","Build",null,null,null,null,null,null,null,"No Build","Build"]
[null,null,"Percent of VMT",null,null,"No Build",null,"Build",null,null,null,null,null,"Base (Year 1)",null,{"$f":"AvgVMT1NB*IF(G$32=\"\", F$32, G$32)","v":0},{"$f":"AvgVMT1B*IF(I$32=\"\", H$32, I$32)","v":0},null,null,null,null,null,"Base (Year 1)"]
[null,null,null,null,null,"Default","User Override","Default","User Override",null,null,null,null,"Forecast (Year 20)",null,{"$f":"AvgVMT20NB*IF(G$32=\"\", F$32, G$32)","v":0},{"$f":"AvgVMT20B*IF(I$32=\"\", H$32, I$32)","v":0},null,null,null,null,null,"Forecast (Year 20)"]
[null,null,null,"Percent Truck",null,0.09,null,{"$f":"F31","v":0.09}]
[null,null,null,"Percent Bus",null,0,null,{"$f":"F32","v":0}]
[null,null,null,null,null,null,null,null,null,null,null,null,"Ton-Miles (Freight Locomotives)",null,null,null,null,null,null,null,null,"Average Ton-Miles/Gallon (Freight Locomotive)"]
[]
[null,null,"Trip or Route Length (miles)",null,null,null,null,null,null,null,null,null,null,null,null,"No Build","Build",null,null,null,null,null,null,null,"No Build","Build"]
[null,null,null,null,null,null,null,"No Build","Build",null,null,null,null,"Base (Year 1)",null,null,null,null,null,null,null,null,"Base (Year 1)",null,{"$f":"FuelFreightRail","v":480},{"$f":"AvgTonMilesGal1NB","v":480}]
[null,null,null,"Average Trip Length for Passenger Vehicles",null,null,null,null,{"$f":"TripLengPvNB","v":0},null,null,null,null,"Forecast (Year 20)",null,null,null,null,null,null,null,null,"Forecast (Year 20)",null,{"$f":"AvgTonMilesGal1NB","v":480},{"$f":"AvgTonMilesGal20NB","v":480}]
[null,null,null,"Average Trip Length for Trucks",null,null,null,null,{"$f":"TripLengTruckNB","v":0}]
[null,null,null,"Average Route Length for Buses",null,null,null,null,{"$f":"TripLengBusNB","v":0}]

{"sheet":"2) Results","index":3,"n_rows":21,"n_cols":11,"rows_kept":21,"cut":false,"hidden":false,"merged":[]}
["The column titles for this worksheet are in row 2. They span cells A2. The data spans cells A3 through M23. There is information in every cell for column A through M inclusive.  If you are not using a screen reader, you can press Alt + R, T for the Review Ribbon, Edit Comment to move to and open a Comment once you are on a cell with a Comment. When you are finished reading the Comment, press Escape to close the comment and return to the worksheet. If you are using the JAWS screen reader, press Ctrl + Shift + Apostrophe to get a list of Comments and their cell coordinates in the worksheet. Press Enter on the Comment you want to go to or Escape once you’ve read the Comment for a cell. You are returned to the workbook. Note that there is no keyboard command with JAWS to reread Comments or read Comments once you are on them in a cell. You must use the ability to list Comments in order to read them if you are using the JAWS screen reader."]
[null,"District: ",null,null,{"$f":"'1) Project Information'!F2","v":"HQ"}]
[null,null,null,null,null,null,null,null,null,"EA:",{"$f":"'1) Project Information'!Q3","v":0}]
[null,"PROJECT:",null,null,{"$f":"ProjName","v":"Hypothetical Project"},null,null,null,null,"PPNO:",{"$f":"'1) Project Information'!Q4","v":0}]
[]
[]
[]
[]
[null,null,null,2,"INVESTMENT ANALYSIS"]
[null,null,null,null,"SUMMARY RESULTS"]
[]
[null,null,null,null,null,null,null,"Short Tons",null,"Value (mil. $)"]
[null,null,null,null,null,null,null,"Total Over","Average","Total Over","Average"]
[null,null,null,null,"EMISSIONS REDUCTION",null,null,"20 Years","Annual","20 Years","Annual"]
[null,null,null,null,"     CO Emissions Saved",null,null,{"$f":"Emissions!Y46","v":0},{"$f":"H15/20","v":0},{"$f":"Emissions!AF46/1000000","v":{"$error":"#N/A"}},{"$f":"J15/20","v":{"$error":"#N/A"}}]
[null,null,null,null,"     CO2 Emissions Saved",null,null,{"$f":"Emissions!Z46","v":0},0,{"$f":"Emissions!AG46/1000000","v":{"$error":"#N/A"}},{"$f":"J16/20","v":{"$error":"#N/A"}}]
[null,null,null,null,"     NOX Emissions Saved",null,null,{"$f":"Emissions!AA46","v":0},0,{"$f":"Emissions!AH46/1000000","v":{"$error":"#N/A"}},{"$f":"J17/20","v":{"$error":"#N/A"}}]
[null,null,null,null,"     PM10 Emissions Saved",null,null,{"$f":"Emissions!AB46","v":0},0,{"$f":"Emissions!AI46/1000000","v":{"$error":"#N/A"}},{"$f":"J18/20","v":{"$error":"#N/A"}}]
[null,null,null,null,"        PM2.5 Emissions Saved",null,null,{"$f":"Emissions!AE46","v":0},0]
[null,null,null,null,"     SOX Emissions Saved",null,null,{"$f":"Emissions!AC46","v":0},0,{"$f":"Emissions!AJ46/1000000","v":{"$error":"#N/A"}},{"$f":"J20/20","v":{"$error":"#N/A"}}]
[null,null,null,null,"     VOC Emissions Saved",null,null,{"$f":"Emissions!AD46","v":0},0,{"$f":"Emissions!AK46/1000000","v":{"$error":"#N/A"}},{"$f":"J21/20","v":{"$error":"#N/A"}}]

{"sheet":"Emissions","index":4,"n_rows":139,"n_cols":37,"rows_kept":139,"cut":false,"hidden":false,"merged":[[19,24,19,30],[19,31,19,36],[20,24,20,30],[20,31,20,36]]}
["The column titles for this worksheet are in row 2. They span cells A2. The data spans cells A3 through U139. There is information in every cell for column A through U inclusive.  If you are not using a screen reader, you can press Alt + R, T for the Review Ribbon, Edit Comment to move to and open a Comment once you are on a cell with a Comment. When you are finished reading the Comment, press Escape to close the comment and return to the worksheet. If you are using the JAWS screen reader, press Ctrl + Shift + Apostrophe to get a list of Comments and their cell coordinates in the worksheet. Press Enter on the Comment you want to go to or Escape once you’ve read the Comment for a cell. You are returned to the workbook. Note that there is no keyboard command with JAWS to reread Comments or read Comments once you are on them in a cell. You must use the ability to list Comments in order to read them if you are using the JAWS screen reader.","Emission Reductions"]
[]
[null,"This sheet calculates emissions reductions for pasenger vehicles, trucks, buses, and freight locomotives."]
[]
[null,"Formulas:"]
[]
[null,"Passenger Vehicle Emissions = (Emission Factor)*(Passenger Vehicle VMT)*(Impacted Distance)*(20 Year Project Life)",null,null,null,null,null,null,null,null,"Bus Emissions=(Emission Factor)*(Bus VMT)*(Impacted Distance)*(20 Year Project Life)"]
[]
[]
[null," Truck Emissions=(Emission Factor)*(Truck VMT)*(Impacted Distance)*(20 Year Project Life)",null,null,null,null,null,null,null,null,"Freight Locomotive Emissions=(Emission Factor)*(Fuel Usage Factor)*(Freight Locomotive Ton-Miles)*(Impacted Distance)*(20 Year Project Life)"]
[]
[]
[]
[]
[null,"A","EMISSIONS CALCULATIONS",null,null,null,null,null,null,null,null,null,null,null,null,null,null,null,null,null,null,null,null,"B","SUMMARY OF EMISSION REDUCTION BENEFITS",null,null,null,null,null,null,"SUMMARY OF EMISSION REDUCTION BENEFITS"]
[]
[]
[null,"Passenger Vehicles"]
[]
[null,null,"ANNUAL VEH-MILES",null,"AVERAGE SPEED",null,"VOLUME",null,"TONS EMISSIONS SAVED",null,null,null,null,null,null,"DOLLARS EMISSIONS SAVED",null,null,null,null,null,null,null,null,"TONS EMISSIONS SAVED",null,null,null,null,null,null,"DOLLARS EMISSIONS SAVED"]
[null,null,"(veh-miles/yr)",null,"(mph)",null,"(vehicles/yr)",null,"(tons/yr)",null,null,null,null,null,null,"(PV $/yr)",null,null,null,null,null,null,null,null,"(tons/yr)",null,null,null,null,null,null,"(PV $/yr)"]
[null,"Year",null,null,null,null,null,null,null,null,null,null,null,null,null,null,null,null,null,null,null,null,null,"Year"]
[null,null,"No Build","Build","No Build","Build","No Build","Build","CO","CO2","NOX","PM10","SOX","VOC","PM2.5","CO","CO2","NOX","PM10","SOX","VOC",null,null,null,"CO","CO2","NOX","PM10","SOX","VOC","PM2.5","CO","CO2","NOX","PM10","SOX","VOC"]
[null,1,{"$f":"VMTPV1NB*AnnualFactor","v":0},{"$f":"VMTPV1B*AnnualFactor","v":0},{"$f":"AvgSpdPV1NB","v":0},{"$f":"AvgSpdPV1B","v":0},{"$f":"IFERROR(VMTPV1NB*AnnualFactor/TripLengPvNB, 0)","v":0},{"$f":"IFERROR(VMTPV1B*AnnualFactor/TripLengPvB, 0)","v":0},{"$f":"0.00000110231131*($C24*VLOOKUP($E24,EmAuto1,2)-$D24*VLOOKUP($F24,EmAuto1,2)+($G24-$H24)*VLOOKUP(0,EmAuto1,2))","v":0},{"$f":"0.00000110231131*($C24*VLOOKUP($E24,EmAuto1,3)-$D24*VLOOKUP($F24,EmAuto1,3)+($G24-$H24)*VLOOKUP(0,EmAuto1,3))","v":0},{"$f":"0.00000110231131*($C24*VLOOKUP($E24,EmAuto1,4)-$D24*VLOOKUP($F24,EmAuto1,4)+($G24-$H24)*VLOOKUP(0,EmAuto1,4))","v":0},{"$f":"0.00000110231131*($C24*VLOOKUP($E24,EmAuto1,5)-$D24*VLOOKUP($F24,EmAuto1,5)+($G24-$H24)*VLOOKUP(0,EmAuto1,5))","v":0},{"$f":"0.00000110231131*($C24*VLOOKUP($E24,EmAuto1,6)-$D24*VLOOKUP($F24,EmAuto1,6)+($G24-$H24)*VLOOKUP(0,EmAuto1,6))","v":0},{"$f":"0.00000110231131*($C24*VLOOKUP($E24,EmAuto1,7)-$D24*VLOOKUP($F24,EmAuto1,7)+($G24-$H24)*VLOOKUP(0,EmAuto1,7))","v":0},{"$f":"0.00000110231131*($C24*VLOOKUP($E24,EmAuto1,8)-$D24*VLOOKUP($F24,EmAuto1,8)+($G24-$H24)*VLOOKUP(0,EmAuto1,8))","v":0},{"$f":"I24*VLOOKUP(ProjLoc,EmCost,2)/(1+DiscRate)^($B24+Construct-1)","v":{"$error":"#N/A"}},{"$f":"J24*VLOOKUP(ProjLoc,EmCost,3)*(1+CO2Uprater)^($B24+Construct-1)/(1+DiscRate)^($B24+Construct-1)","v":{"$error":"#N/A"}},{"$f":"K24*VLOOKUP(ProjLoc,EmCost,4)/(1+DiscRate)^($B24+Construct-1)","v":{"$error":"#N/A"}},{"$f":"L24*VLOOKUP(ProjLoc,EmCost,5)/(1+DiscRate)^($B24+Construct-1)","v":{"$error":"#N/A"}},{"$f":"M24*VLOOKUP(ProjLoc,EmCost,6)/(1+DiscRate)^($B24+Construct-1)","v":{"$error":"#N/A"}},{"$f":"N24*VLOOKUP(ProjLoc,EmCost,7)/(1+DiscRate)^($B24+Construct-1)","v":{"$error":"#N/A"}},null,null,1,{"$f":"I24+I55+I86+I117","v":0},0,0,0,0,0,0,{"$error":"#N/A"},{"$error":"#N/A"},{"$error":"#N/A"},{"$error":"#N/A"},{"$error":"#N/A"},{"$error":"#N/A"}]
[null,20,{"$f":"VMTPV20NB*AnnualFactor","v":0},{"$f":"VMTPV20B*AnnualFactor","v":0},{"$f":"AvgSpdPV20NB","v":0},{"$f":"AvgSpdPV20B","v":0},{"$f":"IFERROR(VMTPV20NB*AnnualFactor/TripLengPvNB, 0)","v":0},{"$f":"IFERROR(VMTPV20B*AnnualFactor/TripLengPvB, 0)","v":0},{"$f":"0.00000110231131*($C25*VLOOKUP($E25,EmAuto20,2)-$D25*VLOOKUP($F25,EmAuto20,2)+($G25-$H25)*VLOOKUP(0,EmAuto20,2))","v":0},{"$f":"0.00000110231131*($C25*VLOOKUP($E25,EmAuto20,3)-$D25*VLOOKUP($F25,EmAuto20,3)+($G25-$H25)*VLOOKUP(0,EmAuto20,3))","v":0},{"$f":"0.00000110231131*($C25*VLOOKUP($E25,EmAuto20,4)-$D25*VLOOKUP($F25,EmAuto20,4)+($G25-$H25)*VLOOKUP(0,EmAuto20,4))","v":0},{"$f":"0.00000110231131*($C25*VLOOKUP($E25,EmAuto20,5)-$D25*VLOOKUP($F25,EmAuto20,5)+($G25-$H25)*VLOOKUP(0,EmAuto20,5))","v":0},{"$f":"0.00000110231131*($C25*VLOOKUP($E25,EmAuto20,6)-$D25*VLOOKUP($F25,EmAuto20,6)+($G25-$H25)*VLOOKUP(0,EmAuto20,6))","v":0},{"$f":"0.00000110231131*($C25*VLOOKUP($E25,EmAuto20,7)-$D25*VLOOKUP($F25,EmAuto20,7)+($G25-$H25)*VLOOKUP(0,EmAuto20,7))","v":0},{"$f":"0.00000110231131*($C25*VLOOKUP($E25,EmAuto20,8)-$D25*VLOOKUP($F25,EmAuto20,8)+($G25-$H25)*VLOOKUP(0,EmAuto20,8))","v":0},{"$f":"I25*VLOOKUP(ProjLoc,EmCost,2)/(1+DiscRate)^($B25+Construct-1)","v":{"$error":"#N/A"}},{"$f":"J25*VLOOKUP(ProjLoc,EmCost,3)*(1+CO2Uprater)^($B25+Construct-1)/(1+DiscRate)^($B25+Construct-1)","v":{"$error":"#N/A"}},{"$f":"K25*VLOOKUP(ProjLoc,EmCost,4)/(1+DiscRate)^($B25+Construct-1)","v":{"$error":"#N/A"}},{"$f":"L25*VLOOKUP(ProjLoc,EmCost,5)/(1+DiscRate)^($B25+Construct-1)","v":{"$error":"#N/A"}},{"$f":"M25*VLOOKUP(ProjLoc,EmCost,6)/(1+DiscRate)^($B25+Construct-1)","v":{"$error":"#N/A"}},{"$f":"N25*VLOOKUP(ProjLoc,EmCost,7)/(1+DiscRate)^($B25+Construct-1)","v":{"$error":"#N/A"}},null,null,20,0,0,0,0,0,0,0,{"$error":"#N/A"},{"$error":"#N/A"},{"$error":"#N/A"},{"$error":"#N/A"},{"$error":"#N/A"},{"$error":"#N/A"}]
[]
[null,2,{"$f":"TREND(C24:C25,B24:B25,B27)","v":0},{"$f":"TREND(D24:D25,B24:B25,B27)","v":0},{"$f":"TREND(E24:E25,B24:B25,B27)","v":0},{"$f":"TREND(F24:F25,B24:B25,B27)","v":0},{"$f":"TREND(G24:G25,B24:B25,B27)","v":0},{"$f":"TREND(H24:H25,B24:B25,B27)","v":0},{"$f":"0.00000110231131*($C27*VLOOKUP($E27,EmAuto1,2)-$D27*VLOOKUP($F27,EmAuto1,2)+($G27-$H27)*VLOOKUP(0,EmAuto1,2))","v":0},{"$f":"0.00000110231131*($C27*VLOOKUP($E27,EmAuto1,3)-$D27*VLOOKUP($F27,EmAuto1,3)+($G27-$H27)*VLOOKUP(0,EmAuto1,3))","v":0},{"$f":"0.00000110231131*($C27*VLOOKUP($E27,EmAuto1,4)-$D27*VLOOKUP($F27,EmAuto1,4)+($G27-$H27)*VLOOKUP(0,EmAuto1,4))","v":0},{"$f":"0.00000110231131*($C27*VLOOKUP($E27,EmAuto1,5)-$D27*VLOOKUP($F27,EmAuto1,5)+($G27-$H27)*VLOOKUP(0,EmAuto1,5))","v":0},{"$f":"0.00000110231131*($C27*VLOOKUP($E27,EmAuto1,6)-$D27*VLOOKUP($F27,EmAuto1,6)+($G27-$H27)*VLOOKUP(0,EmAuto1,6))","v":0},{"$f":"0.00000110231131*($C27*VLOOKUP($E27,EmAuto1,7)-$D27*VLOOKUP($F27,EmAuto1,7)+($G27-$H27)*VLOOKUP(0,EmAuto1,7))","v":0},{"$f":"0.00000110231131*($C27*VLOOKUP($E27,EmAuto1,8)-$D27*VLOOKUP($F27,EmAuto1,8)+($G27-$H27)*VLOOKUP(0,EmAuto1,8))","v":0},{"$f":"I27*VLOOKUP(ProjLoc,EmCost,2)/(1+DiscRate)^($B27+Construct-1)","v":{"$error":"#N/A"}},{"$f":"J27*VLOOKUP(ProjLoc,EmCost,3)*(1+CO2Uprater)^($B27+Construct-1)/(1+DiscRate)^($B27+Construct-1)","v":{"$error":"#N/A"}},{"$f":"K27*VLOOKUP(ProjLoc,EmCost,4)/(1+DiscRate)^($B27+Construct-1)","v":{"$error":"#N/A"}},{"$f":"L27*VLOOKUP(ProjLoc,EmCost,5)/(1+DiscRate)^($B27+Construct-1)","v":{"$error":"#N/A"}},{"$f":"M27*VLOOKUP(ProjLoc,EmCost,6)/(1+DiscRate)^($B27+Construct-1)","v":{"$error":"#N/A"}},{"$f":"N27*VLOOKUP(ProjLoc,EmCost,7)/(1+DiscRate)^($B27+Construct-1)","v":{"$error":"#N/A"}},null,null,2,{"$f":"I27+I58+I89+I120","v":0},{"$f":"J27+J58+J89+J120","v":0},{"$f":"K27+K58+K89+K120","v":0},{"$f":"L27+L58+L89+L120","v":0},{"$f":"M27+M58+M89+M120","v":0},{"$f":"N27+N58+N89+N120","v":0},{"$f":"O27+O58+O89+O120","v":0},{"$f":"P27+P58+P89+P120","v":{"$error":"#N/A"}},{"$f":"Q27+Q58+Q89+Q120","v":{"$error":"#N/A"}},{"$f":"R27+R58+R89+R120","v":{"$error":"#N/A"}},{"$f":"S27+S58+S89+S120","v":{"$error":"#N/A"}},{"$f":"T27+T58+T89+T120","v":{"$error":"#N/A"}},{"$f":"U27+U58+U89+U120","v":{"$error":"#N/A"}}]
[null,3,{"$f":"TREND(C24:C25,B24:B25,B28)","v":0},{"$f":"TREND(D24:D25,B24:B25,B28)","v":0},{"$f":"TREND(E24:E25,B24:B25,B28)","v":0},{"$f":"TREND(F24:F25,B24:B25,B28)","v":0},{"$f":"TREND(G24:G25,B24:B25,B28)","v":0},{"$f":"TREND(H24:H25,B24:B25,B28)","v":0},0,0,0,0,0,0,0,{"$error":"#N/A"},{"$error":"#N/A"},{"$error":"#N/A"},{"$error":"#N/A"},{"$error":"#N/A"},{"$error":"#N/A"},null,null,3,0,0,{"$f":"K28+K59+K90+K121","v":0},0,0,0,0,{"$error":"#N/A"},{"$error":"#N/A"},{"$error":"#N/A"},{"$error":"#N/A"},{"$error":"#N/A"},{"$error":"#N/A"}]
[null,4,{"$f":"TREND(C24:C25,B24:B25,B29)","v":0},{"$f":"TREND(D24:D25,B24:B25,B29)","v":0},{"$f":"TREND(E24:E25,B24:B25,B29)","v":0},{"$f":"TREND(F24:F25,B24:B25,B29)","v":0},{"$f":"TREND(G24:G25,B24:B25,B29)","v":0},{"$f":"TREND(H24:H25,B24:B25,B29)","v":0},0,0,0,0,0,0,0,{"$error":"#N/A"},{"$error":"#N/A"},{"$error":"#N/A"},{"$error":"#N/A"},{"$error":"#N/A"},{"$error":"#N/A"},null,null,4,0,0,0,0,0,0,0,{"$error":"#N/A"},{"$error":"#N/A"},{"$error":"#N/A"},{"$error":"#N/A"},{"$error":"#N/A"},{"$error":"#N/A"}]
[null,5,{"$f":"TREND(C24:C25,B24:B25,B30)","v":0},{"$f":"TREND(D24:D25,B24:B25,B30)","v":0},{"$f":"TREND(E24:E25,B24:B25,B30)","v":0},{"$f":"TREND(F24:F25,B24:B25,B30)","v":0},{"$f":"TREND(G24:G25,B24:B25,B30)","v":0},{"$f":"TREND(H24:H25,B24:B25,B30)","v":0},0,0,0,0,0,0,0,{"$error":"#N/A"},{"$error":"#N/A"},{"$error":"#N/A"},{"$error":"#N/A"},{"$error":"#N/A"},{"$error":"#N/A"},null,null,5,0,0,0,0,0,0,0,{"$error":"#N/A"},{"$error":"#N/A"},{"$error":"#N/A"},{"$error":"#N/A"},{"$error":"#N/A"},{"$error":"#N/A"}]
[null,6,{"$f":"TREND(C24:C25,B24:B25,B31)","v":0},{"$f":"TREND(D24:D25,B24:B25,B31)","v":0},{"$f":"TREND(E24:E25,B24:B25,B31)","v":0},{"$f":"TREND(F24:F25,B24:B25,B31)","v":0},{"$f":"TREND(G24:G25,B24:B25,B31)","v":0},{"$f":"TREND(H24:H25,B24:B25,B31)","v":0},0,0,0,0,0,0,0,{"$error":"#N/A"},{"$error":"#N/A"},{"$error":"#N/A"},{"$error":"#N/A"},{"$error":"#N/A"},{"$error":"#N/A"},null,null,6,0,0,0,0,0,0,0,{"$error":"#N/A"},{"$error":"#N/A"},{"$error":"#N/A"},{"$error":"#N/A"},{"$error":"#N/A"},{"$error":"#N/A"}]
[null,7,{"$f":"TREND(C24:C25,B24:B25,B32)","v":0},{"$f":"TREND(D24:D25,B24:B25,B32)","v":0},{"$f":"TREND(E24:E25,B24:B25,B32)","v":0},{"$f":"TREND(F24:F25,B24:B25,B32)","v":0},{"$f":"TREND(G24:G25,B24:B25,B32)","v":0},{"$f":"TREND(H24:H25,B24:B25,B32)","v":0},0,0,0,0,0,0,0,{"$error":"#N/A"},{"$error":"#N/A"},{"$error":"#N/A"},{"$error":"#N/A"},{"$error":"#N/A"},{"$error":"#N/A"},null,null,7,0,0,0,0,0,0,0,{"$error":"#N/A"},{"$error":"#N/A"},{"$error":"#N/A"},{"$error":"#N/A"},{"$error":"#N/A"},{"$error":"#N/A"}]
[null,8,{"$f":"TREND(C24:C25,B24:B25,B33)","v":0},{"$f":"TREND(D24:D25,B24:B25,B33)","v":0},{"$f":"TREND(E24:E25,B24:B25,B33)","v":0},{"$f":"TREND(F24:F25,B24:B25,B33)","v":0},{"$f":"TREND(G24:G25,B24:B25,B33)","v":0},{"$f":"TREND(H24:H25,B24:B25,B33)","v":0},{"$f":"0.00000110231131*($C33*VLOOKUP($E33,EmAuto20,2)-$D33*VLOOKUP($F33,EmAuto20,2)+($G33-$H33)*VLOOKUP(0,EmAuto20,2))","v":0},{"$f":"0.00000110231131*($C33*VLOOKUP($E33,EmAuto20,3)-$D33*VLOOKUP($F33,EmAuto20,3)+($G33-$H33)*VLOOKUP(0,EmAuto20,3))","v":0},{"$f":"0.00000110231131*($C33*VLOOKUP($E33,EmAuto20,4)-$D33*VLOOKUP($F33,EmAuto20,4)+($G33-$H33)*VLOOKUP(0,EmAuto20,4))","v":0},{"$f":"0.00000110231131*($C33*VLOOKUP($E33,EmAuto20,5)-$D33*VLOOKUP($F33,EmAuto20,5)+($G33-$H33)*VLOOKUP(0,EmAuto20,5))","v":0},{"$f":"0.00000110231131*($C33*VLOOKUP($E33,EmAuto20,6)-$D33*VLOOKUP($F33,EmAuto20,6)+($G33-$H33)*VLOOKUP(0,EmAuto20,6))","v":0},{"$f":"0.00000110231131*($C33*VLOOKUP($E33,EmAuto20,7)-$D33*VLOOKUP($F33,EmAuto20,7)+($G33-$H33)*VLOOKUP(0,EmAuto20,7))","v":0},{"$f":"0.00000110231131*($C33*VLOOKUP($E33,EmAuto20,8)-$D33*VLOOKUP($F33,EmAuto20,8)+($G33-$H33)*VLOOKUP(0,EmAuto20,8))","v":0},{"$error":"#N/A"},{"$error":"#N/A"},{"$error":"#N/A"},{"$error":"#N/A"},{"$error":"#N/A"},{"$error":"#N/A"},null,null,8,0,0,0,0,0,0,0,{"$error":"#N/A"},{"$error":"#N/A"},{"$error":"#N/A"},{"$error":"#N/A"},{"$error":"#N/A"},{"$error":"#N/A"}]
[null,9,{"$f":"TREND(C24:C25,B24:B25,B34)","v":0},{"$f":"TREND(D24:D25,B24:B25,B34)","v":0},{"$f":"TREND(E24:E25,B24:B25,B34)","v":0},{"$f":"TREND(F24:F25,B24:B25,B34)","v":0},{"$f":"TREND(G24:G25,B24:B25,B34)","v":0},{"$f":"TREND(H24:H25,B24:B25,B34)","v":0},0,0,0,0,0,0,0,{"$error":"#N/A"},{"$error":"#N/A"},{"$error":"#N/A"},{"$error":"#N/A"},{"$error":"#N/A"},{"$error":"#N/A"},null,null,9,0,0,0,0,0,0,0,{"$error":"#N/A"},{"$error":"#N/A"},{"$error":"#N/A"},{"$error":"#N/A"},{"$error":"#N/A"},{"$error":"#N/A"}]
[null,10,{"$f":"TREND(C24:C25,B24:B25,B35)","v":0},{"$f":"TREND(D24:D25,B24:B25,B35)","v":0},{"$f":"TREND(E24:E25,B24:B25,B35)","v":0},{"$f":"TREND(F24:F25,B24:B25,B35)","v":0},{"$f":"TREND(G24:G25,B24:B25,B35)","v":0},{"$f":"TREND(H24:H25,B24:B25,B35)","v":0},0,0,0,0,0,0,0,{"$error":"#N/A"},{"$error":"#N/A"},{"$error":"#N/A"},{"$error":"#N/A"},{"$error":"#N/A"},{"$error":"#N/A"},null,null,10,0,0,0,0,0,0,0,{"$error":"#N/A"},{"$error":"#N/A"},{"$error":"#N/A"},{"$error":"#N/A"},{"$error":"#N/A"},{"$error":"#N/A"}]
[null,11,{"$f":"TREND(C24:C25,B24:B25,B36)","v":0},{"$f":"TREND(D24:D25,B24:B25,B36)","v":0},{"$f":"TREND(E24:E25,B24:B25,B36)","v":0},{"$f":"TREND(F24:F25,B24:B25,B36)","v":0},{"$f":"TREND(G24:G25,B24:B25,B36)","v":0},{"$f":"TREND(H24:H25,B24:B25,B36)","v":0},0,0,0,0,0,0,0,{"$error":"#N/A"},{"$error":"#N/A"},{"$error":"#N/A"},{"$error":"#N/A"},{"$error":"#N/A"},{"$error":"#N/A"},null,null,11,0,0,0,0,0,0,0,{"$error":"#N/A"},{"$error":"#N/A"},{"$error":"#N/A"},{"$error":"#N/A"},{"$error":"#N/A"},{"$error":"#N/A"}]
[null,12,{"$f":"TREND(C24:C25,B24:B25,B37)","v":0},{"$f":"TREND(D24:D25,B24:B25,B37)","v":0},{"$f":"TREND(E24:E25,B24:B25,B37)","v":0},{"$f":"TREND(F24:F25,B24:B25,B37)","v":0},{"$f":"TREND(G24:G25,B24:B25,B37)","v":0},{"$f":"TREND(H24:H25,B24:B25,B37)","v":0},0,0,0,0,0,0,0,{"$error":"#N/A"},{"$error":"#N/A"},{"$error":"#N/A"},{"$error":"#N/A"},{"$error":"#N/A"},{"$error":"#N/A"},null,null,12,0,0,0,0,0,0,0,{"$error":"#N/A"},{"$error":"#N/A"},{"$error":"#N/A"},{"$error":"#N/A"},{"$error":"#N/A"},{"$error":"#N/A"}]
[null,13,{"$f":"TREND(C24:C25,B24:B25,B38)","v":0},{"$f":"TREND(D24:D25,B24:B25,B38)","v":0},{"$f":"TREND(E24:E25,B24:B25,B38)","v":0},{"$f":"TREND(F24:F25,B24:B25,B38)","v":0},{"$f":"TREND(G24:G25,B24:B25,B38)","v":0},{"$f":"TREND(H24:H25,B24:B25,B38)","v":0},0,0,0,0,0,0,0,{"$error":"#N/A"},{"$error":"#N/A"},{"$error":"#N/A"},{"$error":"#N/A"},{"$error":"#N/A"},{"$error":"#N/A"},null,null,13,0,0,0,0,0,0,0,{"$error":"#N/A"},{"$error":"#N/A"},{"$error":"#N/A"},{"$error":"#N/A"},{"$error":"#N/A"},{"$error":"#N/A"}]
[null,14,{"$f":"TREND(C24:C25,B24:B25,B39)","v":0},{"$f":"TREND(D24:D25,B24:B25,B39)","v":0},{"$f":"TREND(E24:E25,B24:B25,B39)","v":0},{"$f":"TREND(F24:F25,B24:B25,B39)","v":0},{"$f":"TREND(G24:G25,B24:B25,B39)","v":0},{"$f":"TREND(H24:H25,B24:B25,B39)","v":0},0,0,0,0,0,0,0,{"$error":"#N/A"},{"$error":"#N/A"},{"$error":"#N/A"},{"$error":"#N/A"},{"$error":"#N/A"},{"$error":"#N/A"},null,null,14,0,0,0,0,0,0,0,{"$error":"#N/A"},{"$error":"#N/A"},{"$error":"#N/A"},{"$error":"#N/A"},{"$error":"#N/A"},{"$error":"#N/A"}]
[null,15,{"$f":"TREND(C24:C25,B24:B25,B40)","v":0},{"$f":"TREND(D24:D25,B24:B25,B40)","v":0},{"$f":"TREND(E24:E25,B24:B25,B40)","v":0},{"$f":"TREND(F24:F25,B24:B25,B40)","v":0},{"$f":"TREND(G24:G25,B24:B25,B40)","v":0},{"$f":"TREND(H24:H25,B24:B25,B40)","v":0},0,0,0,0,0,0,0,{"$error":"#N/A"},{"$error":"#N/A"},{"$error":"#N/A"},{"$error":"#N/A"},{"$error":"#N/A"},{"$error":"#N/A"},null,null,15,0,0,0,0,0,0,0,{"$error":"#N/A"},{"$error":"#N/A"},{"$error":"#N/A"},{"$error":"#N/A"},{"$error":"#N/A"},{"$error":"#N/A"}]
[null,16,{"$f":"TREND(C24:C25,B24:B25,B41)","v":0},{"$f":"TREND(D24:D25,B24:B25,B41)","v":0},{"$f":"TREND(E24:E25,B24:B25,B41)","v":0},{"$f":"TREND(F24:F25,B24:B25,B41)","v":0},{"$f":"TREND(G24:G25,B24:B25,B41)","v":0},{"$f":"TREND(H24:H25,B24:B25,B41)","v":0},0,0,0,0,0,0,0,{"$error":"#N/A"},{"$error":"#N/A"},{"$error":"#N/A"},{"$error":"#N/A"},{"$error":"#N/A"},{"$error":"#N/A"},null,null,16,0,0,0,0,0,0,0,{"$error":"#N/A"},{"$error":"#N/A"},{"$error":"#N/A"},{"$error":"#N/A"},{"$error":"#N/A"},{"$error":"#N/A"}]
[null,17,{"$f":"TREND(C24:C25,B24:B25,B42)","v":0},{"$f":"TREND(D24:D25,B24:B25,B42)","v":0},{"$f":"TREND(E24:E25,B24:B25,B42)","v":0},{"$f":"TREND(F24:F25,B24:B25,B42)","v":0},{"$f":"TREND(G24:G25,B24:B25,B42)","v":0},{"$f":"TREND(H24:H25,B24:B25,B42)","v":0},0,0,0,0,0,0,0,{"$error":"#N/A"},{"$error":"#N/A"},{"$error":"#N/A"},{"$error":"#N/A"},{"$error":"#N/A"},{"$error":"#N/A"},null,null,17,0,0,0,0,0,0,0,{"$error":"#N/A"},{"$error":"#N/A"},{"$error":"#N/A"},{"$error":"#N/A"},{"$error":"#N/A"},{"$error":"#N/A"}]
[null,18,{"$f":"TREND(C24:C25,B24:B25,B43)","v":0},{"$f":"TREND(D24:D25,B24:B25,B43)","v":0},{"$f":"TREND(E24:E25,B24:B25,B43)","v":0},{"$f":"TREND(F24:F25,B24:B25,B43)","v":0},{"$f":"TREND(G24:G25,B24:B25,B43)","v":0},{"$f":"TREND(H24:H25,B24:B25,B43)","v":0},0,0,0,0,0,0,0,{"$error":"#N/A"},{"$error":"#N/A"},{"$error":"#N/A"},{"$error":"#N/A"},{"$error":"#N/A"},{"$error":"#N/A"},null,null,18,0,0,0,0,0,0,0,{"$error":"#N/A"},{"$error":"#N/A"},{"$error":"#N/A"},{"$error":"#N/A"},{"$error":"#N/A"},{"$error":"#N/A"}]
[null,19,{"$f":"TREND(C24:C25,B24:B25,B44)","v":0},{"$f":"TREND(D24:D25,B24:B25,B44)","v":0},{"$f":"TREND(E24:E25,B24:B25,B44)","v":0},{"$f":"TREND(F24:F25,B24:B25,B44)","v":0},{"$f":"TREND(G24:G25,B24:B25,B44)","v":0},{"$f":"TREND(H24:H25,B24:B25,B44)","v":0},0,0,0,0,0,0,0,{"$error":"#N/A"},{"$error":"#N/A"},{"$error":"#N/A"},{"$error":"#N/A"},{"$error":"#N/A"},{"$error":"#N/A"},null,null,19,0,0,0,0,0,0,0,{"$error":"#N/A"},{"$error":"#N/A"},{"$error":"#N/A"},{"$error":"#N/A"},{"$error":"#N/A"},{"$error":"#N/A"}]
[]
[null,"Total",null,null,null,null,null,null,{"$f":"SUM(I24:I44)","v":0},{"$f":"SUM(J24:J44)","v":0},{"$f":"SUM(K24:K44)","v":0},{"$f":"SUM(L24:L44)","v":0},0,{"$f":"SUM(N24:N44)","v":0},0,{"$f":"SUM(P24:P44)","v":{"$error":"#N/A"}},{"$error":"#N/A"},{"$error":"#N/A"},{"$error":"#N/A"},{"$error":"#N/A"},{"$error":"#N/A"},null,null,"Total",{"$f":"I46+I77+I108+I139","v":0},0,0,0,0,0,0,{"$error":"#N/A"},{"$error":"#N/A"},{"$error":"#N/A"},{"$error":"#N/A"},{"$error":"#N/A"},{"$error":"#N/A"}]
[]
[]
[null,"Trucks"]
[]
[null,null,"ANNUAL VEH-MILES",null,"AVERAGE SPEED",null,"VOLUME",null,"TONS EMISSIONS SAVED",null,null,null,null,null,null,"DOLLARS EMISSIONS SAVED"]
[null,null,"(veh-miles/yr)",null,"(mph)",null,"(vehicles/yr)",null,"(tons/yr)",null,null,null,null,null,null,"(PV $/yr)"]
[null,"Year"]
[null,null,"No Build","Build","No Build","Build","No Build","Build","CO","CO2","NOX","PM10","SOX","VOC","PM2.5","CO","CO2","NOX","PM10","SOX","VOC"]
[null,1,{"$f":"VMTTruck1NB*AnnualFactor","v":0},{"$f":"VMTTruck1B*AnnualFactor","v":0},{"$f":"AvgSpdTruck1NB","v":0},{"$f":"AvgSpdTruck1B","v":0},{"$f":"IFERROR(VMTTruck1NB*AnnualFactor/TripLengTruckNB,0)","v":0},{"$f":"IFERROR(VMTTruck1B*AnnualFactor/TripLengTruckB, 0)","v":0},{"$f":"0.00000110231131*($C55*VLOOKUP($E55,EmTruck1,2)-$D55*VLOOKUP($F55,EmTruck1,2)+($G55-$H55)*VLOOKUP(0,EmTruck1,2))","v":0},{"$f":"0.00000110231131*($C55*VLOOKUP($E55,EmTruck1,3)-$D55*VLOOKUP($F55,EmTruck1,3)+($G55-$H55)*VLOOKUP(0,EmTruck1,3))","v":0},{"$f":"0.00000110231131*($C55*VLOOKUP($E55,EmTruck1,4)-$D55*VLOOKUP($F55,EmTruck1,4)+($G55-$H55)*VLOOKUP(0,EmTruck1,4))","v":0},{"$f":"0.00000110231131*($C55*VLOOKUP($E55,EmTruck1,5)-$D55*VLOOKUP($F55,EmTruck1,5)+($G55-$H55)*VLOOKUP(0,EmTruck1,5))","v":0},{"$f":"0.00000110231131*($C55*VLOOKUP($E55,EmTruck1,6)-$D55*VLOOKUP($F55,EmTruck1,6)+($G55-$H55)*VLOOKUP(0,EmTruck1,6))","v":0},{"$f":"0.00000110231131*($C55*VLOOKUP($E55,EmTruck1,7)-$D55*VLOOKUP($F55,EmTruck1,7)+($G55-$H55)*VLOOKUP(0,EmTruck1,7))","v":0},{"$f":"0.00000110231131*($C55*VLOOKUP($E55,EmTruck1,8)-$D55*VLOOKUP($F55,EmTruck1,8)+($G55-$H55)*VLOOKUP(0,EmTruck1,8))","v":0},{"$f":"I55*VLOOKUP(ProjLoc,EmCost,2)/(1+DiscRate)^($B55+Construct-1)","v":{"$error":"#N/A"}},{"$f":"J55*VLOOKUP(ProjLoc,EmCost,3)*(1+CO2Uprater)^($B55+Construct-1)/(1+DiscRate)^($B55+Construct-1)","v":{"$error":"#N/A"}},{"$f":"K55*VLOOKUP(ProjLoc,EmCost,4)/(1+DiscRate)^($B55+Construct-1)","v":{"$error":"#N/A"}},{"$f":"L55*VLOOKUP(ProjLoc,EmCost,5)/(1+DiscRate)^($B55+Construct-1)","v":{"$error":"#N/A"}},{"$f":"M55*VLOOKUP(ProjLoc,EmCost,6)/(1+DiscRate)^($B55+Construct-1)","v":{"$error":"#N/A"}},{"$f":"N55*VLOOKUP(ProjLoc,EmCost,7)/(1+DiscRate)^($B55+Construct-1)","v":{"$error":"#N/A"}}]
[null,20,{"$f":"VMTTruck20NB*AnnualFactor","v":0},{"$f":"VMTTruck20B*AnnualFactor","v":0},{"$f":"AvgSpdTruck20NB","v":0},{"$f":"AvgSpdTruck20B","v":0},{"$f":"IFERROR(VMTTruck20NB*AnnualFactor/TripLengTruckNB, 0)","v":0},{"$f":"IFERROR(VMTTruck20B*AnnualFactor/TripLengTruckB, 0)","v":0},{"$f":"0.00000110231131*($C56*VLOOKUP($E56,EmTruck20,2)-$D56*VLOOKUP($F56,EmTruck20,2)+($G56-$H56)*VLOOKUP(0,EmTruck20,2))","v":0},{"$f":"0.00000110231131*($C56*VLOOKUP($E56,EmTruck20,3)-$D56*VLOOKUP($F56,EmTruck20,3)+($G56-$H56)*VLOOKUP(0,EmTruck20,3))","v":0},{"$f":"0.00000110231131*($C56*VLOOKUP($E56,EmTruck20,4)-$D56*VLOOKUP($F56,EmTruck20,4)+($G56-$H56)*VLOOKUP(0,EmTruck20,4))","v":0},{"$f":"0.00000110231131*($C56*VLOOKUP($E56,EmTruck20,5)-$D56*VLOOKUP($F56,EmTruck20,5)+($G56-$H56)*VLOOKUP(0,EmTruck20,5))","v":0},{"$f":"0.00000110231131*($C56*VLOOKUP($E56,EmTruck20,6)-$D56*VLOOKUP($F56,EmTruck20,6)+($G56-$H56)*VLOOKUP(0,EmTruck20,6))","v":0},{"$f":"0.00000110231131*($C56*VLOOKUP($E56,EmTruck20,7)-$D56*VLOOKUP($F56,EmTruck20,7)+($G56-$H56)*VLOOKUP(0,EmTruck20,7))","v":0},{"$f":"0.00000110231131*($C56*VLOOKUP($E56,EmTruck20,8)-$D56*VLOOKUP($F56,EmTruck20,8)+($G56-$H56)*VLOOKUP(0,EmTruck20,8))","v":0},{"$f":"I56*VLOOKUP(ProjLoc,EmCost,2)/(1+DiscRate)^($B56+Construct-1)","v":{"$error":"#N/A"}},{"$f":"J56*VLOOKUP(ProjLoc,EmCost,3)*(1+CO2Uprater)^($B56+Construct-1)/(1+DiscRate)^($B56+Construct-1)","v":{"$error":"#N/A"}},{"$f":"K56*VLOOKUP(ProjLoc,EmCost,4)/(1+DiscRate)^($B56+Construct-1)","v":{"$error":"#N/A"}},{"$f":"L56*VLOOKUP(ProjLoc,EmCost,5)/(1+DiscRate)^($B56+Construct-1)","v":{"$error":"#N/A"}},{"$f":"M56*VLOOKUP(ProjLoc,EmCost,6)/(1+DiscRate)^($B56+Construct-1)","v":{"$error":"#N/A"}},{"$f":"N56*VLOOKUP(ProjLoc,EmCost,7)/(1+DiscRate)^($B56+Construct-1)","v":{"$error":"#N/A"}}]
[]
[null,2,{"$f":"TREND(C55:C56,B55:B56,B58)","v":0},{"$f":"TREND(D55:D56,B55:B56,B58)","v":0},{"$f":"TREND(E55:E56,B55:B56,B58)","v":0},{"$f":"TREND(F55:F56,B55:B56,B58)","v":0},{"$f":"TREND(G55:G56,B55:B56,B58)","v":0},{"$f":"TREND(H55:H56,B55:B56,B58)","v":0},{"$f":"0.00000110231131*($C58*VLOOKUP($E58,EmTruck1,2)-$D58*VLOOKUP($F58,EmTruck1,2)+($G58-$H58)*VLOOKUP(0,EmTruck1,2))","v":0},{"$f":"0.00000110231131*($C58*VLOOKUP($E58,EmTruck1,3)-$D58*VLOOKUP($F58,EmTruck1,3)+($G58-$H58)*VLOOKUP(0,EmTruck1,3))","v":0},{"$f":"0.00000110231131*($C58*VLOOKUP($E58,EmTruck1,4)-$D58*VLOOKUP($F58,EmTruck1,4)+($G58-$H58)*VLOOKUP(0,EmTruck1,4))","v":0},{"$f":"0.00000110231131*($C58*VLOOKUP($E58,EmTruck1,5)-$D58*VLOOKUP($F58,EmTruck1,5)+($G58-$H58)*VLOOKUP(0,EmTruck1,5))","v":0},{"$f":"0.00000110231131*($C58*VLOOKUP($E58,EmTruck1,6)-$D58*VLOOKUP($F58,EmTruck1,6)+($G58-$H58)*VLOOKUP(0,EmTruck1,6))","v":0},{"$f":"0.00000110231131*($C58*VLOOKUP($E58,EmTruck1,7)-$D58*VLOOKUP($F58,EmTruck1,7)+($G58-$H58)*VLOOKUP(0,EmTruck1,7))","v":0},{"$f":"0.00000110231131*($C58*VLOOKUP($E58,EmTruck1,8)-$D58*VLOOKUP($F58,EmTruck1,8)+($G58-$H58)*VLOOKUP(0,EmTruck1,8))","v":0},{"$f":"I58*VLOOKUP(ProjLoc,EmCost,2)/(1+DiscRate)^($B58+Construct-1)","v":{"$error":"#N/A"}},{"$f":"J58*VLOOKUP(ProjLoc,EmCost,3)*(1+CO2Uprater)^($B58+Construct-1)/(1+DiscRate)^($B58+Construct-1)","v":{"$error":"#N/A"}},{"$f":"K58*VLOOKUP(ProjLoc,EmCost,4)/(1+DiscRate)^($B58+Construct-1)","v":{"$error":"#N/A"}},{"$f":"L58*VLOOKUP(ProjLoc,EmCost,5)/(1+DiscRate)^($B58+Construct-1)","v":{"$error":"#N/A"}},{"$f":"M58*VLOOKUP(ProjLoc,EmCost,6)/(1+DiscRate)^($B58+Construct-1)","v":{"$error":"#N/A"}},{"$f":"N58*VLOOKUP(ProjLoc,EmCost,7)/(1+DiscRate)^($B58+Construct-1)","v":{"$error":"#N/A"}}]
[null,3,{"$f":"TREND(C55:C56,B55:B56,B59)","v":0},{"$f":"TREND(D55:D56,B55:B56,B59)","v":0},{"$f":"TREND(E55:E56,B55:B56,B59)","v":0},{"$f":"TREND(F55:F56,B55:B56,B59)","v":0},{"$f":"TREND(G55:G56,B55:B56,B59)","v":0},{"$f":"TREND(H55:H56,B55:B56,B59)","v":0},0,0,0,0,0,0,0,{"$error":"#N/A"},{"$error":"#N/A"},{"$error":"#N/A"},{"$error":"#N/A"},{"$error":"#N/A"},{"$error":"#N/A"}]
[null,4,{"$f":"TREND(C55:C56,B55:B56,B60)","v":0},{"$f":"TREND(D55:D56,B55:B56,B60)","v":0},{"$f":"TREND(E55:E56,B55:B56,B60)","v":0},{"$f":"TREND(F55:F56,B55:B56,B60)","v":0},{"$f":"TREND(G55:G56,B55:B56,B60)","v":0},{"$f":"TREND(H55:H56,B55:B56,B60)","v":0},0,0,0,0,0,0,0,{"$error":"#N/A"},{"$error":"#N/A"},{"$error":"#N/A"},{"$error":"#N/A"},{"$error":"#N/A"},{"$error":"#N/A"}]
[null,5,{"$f":"TREND(C55:C56,B55:B56,B61)","v":0},{"$f":"TREND(D55:D56,B55:B56,B61)","v":0},{"$f":"TREND(E55:E56,B55:B56,B61)","v":0},{"$f":"TREND(F55:F56,B55:B56,B61)","v":0},{"$f":"TREND(G55:G56,B55:B56,B61)","v":0},{"$f":"TREND(H55:H56,B55:B56,B61)","v":0},0,0,0,0,0,0,0,{"$error":"#N/A"},{"$error":"#N/A"},{"$error":"#N/A"},{"$error":"#N/A"},{"$error":"#N/A"},{"$error":"#N/A"}]
[null,6,{"$f":"TREND(C55:C56,B55:B56,B62)","v":0},{"$f":"TREND(D55:D56,B55:B56,B62)","v":0},{"$f":"TREND(E55:E56,B55:B56,B62)","v":0},{"$f":"TREND(F55:F56,B55:B56,B62)","v":0},{"$f":"TREND(G55:G56,B55:B56,B62)","v":0},{"$f":"TREND(H55:H56,B55:B56,B62)","v":0},0,0,0,0,0,0,0,{"$error":"#N/A"},{"$error":"#N/A"},{"$error":"#N/A"},{"$error":"#N/A"},{"$error":"#N/A"},{"$error":"#N/A"}]
[null,7,{"$f":"TREND(C55:C56,B55:B56,B63)","v":0},{"$f":"TREND(D55:D56,B55:B56,B63)","v":0},{"$f":"TREND(E55:E56,B55:B56,B63)","v":0},{"$f":"TREND(F55:F56,B55:B56,B63)","v":0},{"$f":"TREND(G55:G56,B55:B56,B63)","v":0},{"$f":"TREND(H55:H56,B55:B56,B63)","v":0},0,0,0,0,0,0,0,{"$error":"#N/A"},{"$error":"#N/A"},{"$error":"#N/A"},{"$error":"#N/A"},{"$error":"#N/A"},{"$error":"#N/A"}]
[null,8,{"$f":"TREND(C55:C56,B55:B56,B64)","v":0},{"$f":"TREND(D55:D56,B55:B56,B64)","v":0},{"$f":"TREND(E55:E56,B55:B56,B64)","v":0},{"$f":"TREND(F55:F56,B55:B56,B64)","v":0},{"$f":"TREND(G55:G56,B55:B56,B64)","v":0},{"$f":"TREND(H55:H56,B55:B56,B64)","v":0},{"$f":"0.00000110231131*($C64*VLOOKUP($E64,EmTruck20,2)-$D64*VLOOKUP($F64,EmTruck20,2)+($G64-$H64)*VLOOKUP(0,EmTruck20,2))","v":0},{"$f":"0.00000110231131*($C64*VLOOKUP($E64,EmTruck20,3)-$D64*VLOOKUP($F64,EmTruck20,3)+($G64-$H64)*VLOOKUP(0,EmTruck20,3))","v":0},{"$f":"0.00000110231131*($C64*VLOOKUP($E64,EmTruck20,4)-$D64*VLOOKUP($F64,EmTruck20,4)+($G64-$H64)*VLOOKUP(0,EmTruck20,4))","v":0},{"$f":"0.00000110231131*($C64*VLOOKUP($E64,EmTruck20,5)-$D64*VLOOKUP($F64,EmTruck20,5)+($G64-$H64)*VLOOKUP(0,EmTruck20,5))","v":0},{"$f":"0.00000110231131*($C64*VLOOKUP($E64,EmTruck20,6)-$D64*VLOOKUP($F64,EmTruck20,6)+($G64-$H64)*VLOOKUP(0,EmTruck20,6))","v":0},{"$f":"0.00000110231131*($C64*VLOOKUP($E64,EmTruck20,7)-$D64*VLOOKUP($F64,EmTruck20,7)+($G64-$H64)*VLOOKUP(0,EmTruck20,7))","v":0},{"$f":"0.00000110231131*($C64*VLOOKUP($E64,EmTruck20,8)-$D64*VLOOKUP($F64,EmTruck20,8)+($G64-$H64)*VLOOKUP(0,EmTruck20,8))","v":0},{"$error":"#N/A"},{"$error":"#N/A"},{"$error":"#N/A"},{"$error":"#N/A"},{"$error":"#N/A"},{"$error":"#N/A"}]
[null,9,{"$f":"TREND(C55:C56,B55:B56,B65)","v":0},{"$f":"TREND(D55:D56,B55:B56,B65)","v":0},{"$f":"TREND(E55:E56,B55:B56,B65)","v":0},{"$f":"TREND(F55:F56,B55:B56,B65)","v":0},{"$f":"TREND(G55:G56,B55:B56,B65)","v":0},{"$f":"TREND(H55:H56,B55:B56,B65)","v":0},0,0,0,0,0,{"$f":"0.00000110231131*($C65*VLOOKUP($E65,EmTruck20,7)-$D65*VLOOKUP($F65,EmTruck20,7)+($G65-$H65)*VLOOKUP(0,EmTruck20,7))","v":0},0,{"$error":"#N/A"},{"$error":"#N/A"},{"$error":"#N/A"},{"$error":"#N/A"},{"$error":"#N/A"},{"$error":"#N/A"}]
[null,10,{"$f":"TREND(C55:C56,B55:B56,B66)","v":0},{"$f":"TREND(D55:D56,B55:B56,B66)","v":0},{"$f":"TREND(E55:E56,B55:B56,B66)","v":0},{"$f":"TREND(F55:F56,B55:B56,B66)","v":0},{"$f":"TREND(G55:G56,B55:B56,B66)","v":0},{"$f":"TREND(H55:H56,B55:B56,B66)","v":0},0,0,0,0,0,0,0,{"$error":"#N/A"},{"$error":"#N/A"},{"$error":"#N/A"},{"$error":"#N/A"},{"$error":"#N/A"},{"$error":"#N/A"}]
[null,11,{"$f":"TREND(C55:C56,B55:B56,B67)","v":0},{"$f":"TREND(D55:D56,B55:B56,B67)","v":0},{"$f":"TREND(E55:E56,B55:B56,B67)","v":0},{"$f":"TREND(F55:F56,B55:B56,B67)","v":0},{"$f":"TREND(G55:G56,B55:B56,B67)","v":0},{"$f":"TREND(H55:H56,B55:B56,B67)","v":0},0,0,0,0,0,0,0,{"$error":"#N/A"},{"$error":"#N/A"},{"$error":"#N/A"},{"$error":"#N/A"},{"$error":"#N/A"},{"$error":"#N/A"}]
[null,12,{"$f":"TREND(C55:C56,B55:B56,B68)","v":0},{"$f":"TREND(D55:D56,B55:B56,B68)","v":0},{"$f":"TREND(E55:E56,B55:B56,B68)","v":0},{"$f":"TREND(F55:F56,B55:B56,B68)","v":0},{"$f":"TREND(G55:G56,B55:B56,B68)","v":0},{"$f":"TREND(H55:H56,B55:B56,B68)","v":0},0,0,0,0,0,0,0,{"$error":"#N/A"},{"$error":"#N/A"},{"$error":"#N/A"},{"$error":"#N/A"},{"$error":"#N/A"},{"$error":"#N/A"}]
[null,13,{"$f":"TREND(C55:C56,B55:B56,B69)","v":0},{"$f":"TREND(D55:D56,B55:B56,B69)","v":0},{"$f":"TREND(E55:E56,B55:B56,B69)","v":0},{"$f":"TREND(F55:F56,B55:B56,B69)","v":0},{"$f":"TREND(G55:G56,B55:B56,B69)","v":0},{"$f":"TREND(H55:H56,B55:B56,B69)","v":0},0,0,0,0,0,0,0,{"$error":"#N/A"},{"$error":"#N/A"},{"$error":"#N/A"},{"$error":"#N/A"},{"$error":"#N/A"},{"$error":"#N/A"}]
[null,14,{"$f":"TREND(C55:C56,B55:B56,B70)","v":0},{"$f":"TREND(D55:D56,B55:B56,B70)","v":0},{"$f":"TREND(E55:E56,B55:B56,B70)","v":0},{"$f":"TREND(F55:F56,B55:B56,B70)","v":0},{"$f":"TREND(G55:G56,B55:B56,B70)","v":0},{"$f":"TREND(H55:H56,B55:B56,B70)","v":0},0,0,0,0,0,0,0,{"$error":"#N/A"},{"$error":"#N/A"},{"$error":"#N/A"},{"$error":"#N/A"},{"$error":"#N/A"},{"$error":"#N/A"}]
[null,15,{"$f":"TREND(C55:C56,B55:B56,B71)","v":0},{"$f":"TREND(D55:D56,B55:B56,B71)","v":0},{"$f":"TREND(E55:E56,B55:B56,B71)","v":0},{"$f":"TREND(F55:F56,B55:B56,B71)","v":0},{"$f":"TREND(G55:G56,B55:B56,B71)","v":0},{"$f":"TREND(H55:H56,B55:B56,B71)","v":0},0,0,0,0,0,0,0,{"$error":"#N/A"},{"$error":"#N/A"},{"$error":"#N/A"},{"$error":"#N/A"},{"$error":"#N/A"},{"$error":"#N/A"}]
[null,16,{"$f":"TREND(C55:C56,B55:B56,B72)","v":0},{"$f":"TREND(D55:D56,B55:B56,B72)","v":0},{"$f":"TREND(E55:E56,B55:B56,B72)","v":0},{"$f":"TREND(F55:F56,B55:B56,B72)","v":0},{"$f":"TREND(G55:G56,B55:B56,B72)","v":0},{"$f":"TREND(H55:H56,B55:B56,B72)","v":0},0,0,0,0,0,0,0,{"$error":"#N/A"},{"$error":"#N/A"},{"$error":"#N/A"},{"$error":"#N/A"},{"$error":"#N/A"},{"$error":"#N/A"}]
[null,17,{"$f":"TREND(C55:C56,B55:B56,B73)","v":0},{"$f":"TREND(D55:D56,B55:B56,B73)","v":0},{"$f":"TREND(E55:E56,B55:B56,B73)","v":0},{"$f":"TREND(F55:F56,B55:B56,B73)","v":0},{"$f":"TREND(G55:G56,B55:B56,B73)","v":0},{"$f":"TREND(H55:H56,B55:B56,B73)","v":0},0,0,0,0,0,0,0,{"$error":"#N/A"},{"$error":"#N/A"},{"$error":"#N/A"},{"$error":"#N/A"},{"$error":"#N/A"},{"$error":"#N/A"}]
[null,18,{"$f":"TREND(C55:C56,B55:B56,B74)","v":0},{"$f":"TREND(D55:D56,B55:B56,B74)","v":0},{"$f":"TREND(E55:E56,B55:B56,B74)","v":0},{"$f":"TREND(F55:F56,B55:B56,B74)","v":0},{"$f":"TREND(G55:G56,B55:B56,B74)","v":0},{"$f":"TREND(H55:H56,B55:B56,B74)","v":0},0,0,0,0,0,0,0,{"$error":"#N/A"},{"$error":"#N/A"},{"$error":"#N/A"},{"$error":"#N/A"},{"$error":"#N/A"},{"$error":"#N/A"}]
[null,19,{"$f":"TREND(C55:C56,B55:B56,B75)","v":0},{"$f":"TREND(D55:D56,B55:B56,B75)","v":0},{"$f":"TREND(E55:E56,B55:B56,B75)","v":0},{"$f":"TREND(F55:F56,B55:B56,B75)","v":0},{"$f":"TREND(G55:G56,B55:B56,B75)","v":0},{"$f":"TREND(H55:H56,B55:B56,B75)","v":0},0,0,0,0,0,0,0,{"$error":"#N/A"},{"$error":"#N/A"},{"$error":"#N/A"},{"$error":"#N/A"},{"$error":"#N/A"},{"$error":"#N/A"}]
[]
[null,"Total",null,null,null,null,null,null,{"$f":"SUM(I55:I75)","v":0},{"$f":"SUM(J55:J75)","v":0},{"$f":"SUM(K55:K75)","v":0},0,0,0,0,{"$f":"SUM(P55:P75)","v":{"$error":"#N/A"}},{"$error":"#N/A"},{"$error":"#N/A"},{"$error":"#N/A"},{"$error":"#N/A"},{"$error":"#N/A"}]
[]
[]
[null,"Bus"]
[]
[null,null,"ANNUAL VEH-MILES",null,"       AVERAGE SPEED",null,null,null,"TONS EMISSIONS SAVED",null,null,null,null,null,null,"DOLLARS EMISSIONS SAVED"]
[null,null,"(service-miles/yr)",null,"                           (mph)",null,null,null,"(tons/yr)",null,null,null,null,null,null,"(PV $/yr)"]
[null,"Year"]
[null,null,"No Build","Build","No Build","Build",null,null,"CO","CO2","NOX","PM10","SOX","VOC","PM2.5","CO","CO2","NOX","PM10","SOX","VOC"]
[null,1,{"$f":"SMTBus1NB*AnnualFactor","v":0},{"$f":"SMTBus1B*AnnualFactor","v":0},{"$f":"AvgSpdBus1NB","v":0},{"$f":"AvgSpdBus1B","v":0},null,null,{"$f":"0.00000110231131*($C86*VLOOKUP($E86,EmBus1,2)-$D86*VLOOKUP($F86,EmBus1,2))","v":0},{"$f":"0.00000110231131*($C86*VLOOKUP($E86,EmBus1,3)-$D86*VLOOKUP($F86,EmBus1,3))","v":0},{"$f":"0.00000110231131*($C86*VLOOKUP($E86,EmBus1,4)-$D86*VLOOKUP($F86,EmBus1,4))","v":0},{"$f":"0.00000110231131*($C86*VLOOKUP($E86,EmBus1,5)-$D86*VLOOKUP($F86,EmBus1,5))","v":0},{"$f":"0.00000110231131*($C86*VLOOKUP($E86,EmBus1,6)-$D86*VLOOKUP($F86,EmBus1,6))","v":0},{"$f":"0.00000110231131*($C86*VLOOKUP($E86,EmBus1,7)-$D86*VLOOKUP($F86,EmBus1,7))","v":0},{"$f":"0.00000110231131*($C86*VLOOKUP($E86,EmBus1,8)-$D86*VLOOKUP($F86,EmBus1,8))","v":0},{"$f":"I86*VLOOKUP(ProjLoc,EmCost,2)/(1+DiscRate)^($B86+Construct-1)","v":{"$error":"#N/A"}},{"$f":"J86*VLOOKUP(ProjLoc,EmCost,3)*(1+CO2Uprater)^($B86+Construct-1)/(1+DiscRate)^($B86+Construct-1)","v":{"$error":"#N/A"}},{"$f":"K86*VLOOKUP(ProjLoc,EmCost,4)/(1+DiscRate)^($B86+Construct-1)","v":{"$error":"#N/A"}},{"$f":"L86*VLOOKUP(ProjLoc,EmCost,5)/(1+DiscRate)^($B86+Construct-1)","v":{"$error":"#N/A"}},{"$f":"M86*VLOOKUP(ProjLoc,EmCost,6)/(1+DiscRate)^($B86+Construct-1)","v":{"$error":"#N/A"}},{"$f":"N86*VLOOKUP(ProjLoc,EmCost,7)/(1+DiscRate)^($B86+Construct-1)","v":{"$error":"#N/A"}}]
[null,20,{"$f":"SMTBus20NB*AnnualFactor","v":0},{"$f":"SMTBus20B*AnnualFactor","v":0},{"$f":"AvgSpdBus20NB","v":0},{"$f":"AvgSpdBus20B","v":0},null,null,{"$f":"0.00000110231131*($C87*VLOOKUP($E87,EmBus20,2)-$D87*VLOOKUP($F87,EmBus20,2))","v":0},{"$f":"0.00000110231131*($C87*VLOOKUP($E87,EmBus20,3)-$D87*VLOOKUP($F87,EmBus20,3))","v":0},{"$f":"0.00000110231131*($C87*VLOOKUP($E87,EmBus20,4)-$D87*VLOOKUP($F87,EmBus20,4))","v":0},{"$f":"0.00000110231131*($C87*VLOOKUP($E87,EmBus20,5)-$D87*VLOOKUP($F87,EmBus20,5))","v":0},{"$f":"0.00000110231131*($C87*VLOOKUP($E87,EmBus20,6)-$D87*VLOOKUP($F87,EmBus20,6))","v":0},{"$f":"0.00000110231131*($C87*VLOOKUP($E87,EmBus20,7)-$D87*VLOOKUP($F87,EmBus20,7))","v":0},{"$f":"0.00000110231131*($C87*VLOOKUP($E87,EmBus20,8)-$D87*VLOOKUP($F87,EmBus20,8))","v":0},{"$f":"I87*VLOOKUP(ProjLoc,EmCost,2)/(1+DiscRate)^($B87+Construct-1)","v":{"$error":"#N/A"}},{"$f":"J87*VLOOKUP(ProjLoc,EmCost,3)*(1+CO2Uprater)^($B87+Construct-1)/(1+DiscRate)^($B87+Construct-1)","v":{"$error":"#N/A"}},{"$f":"K87*VLOOKUP(ProjLoc,EmCost,4)/(1+DiscRate)^($B87+Construct-1)","v":{"$error":"#N/A"}},{"$f":"L87*VLOOKUP(ProjLoc,EmCost,5)/(1+DiscRate)^($B87+Construct-1)","v":{"$error":"#N/A"}},{"$f":"M87*VLOOKUP(ProjLoc,EmCost,6)/(1+DiscRate)^($B87+Construct-1)","v":{"$error":"#N/A"}},{"$f":"N87*VLOOKUP(ProjLoc,EmCost,7)/(1+DiscRate)^($B87+Construct-1)","v":{"$error":"#N/A"}}]
[]
[null,2,{"$f":"TREND(C86:C87,B86:B87,B89)","v":0},{"$f":"TREND(D86:D87,B86:B87,B89)","v":0},{"$f":"TREND(E86:E87,B86:B87,B89)","v":0},{"$f":"TREND(F86:F87,B86:B87,B89)","v":0},null,null,{"$f":"0.00000110231131*($C89*VLOOKUP($E89,EmBus1,2)-$D89*VLOOKUP($F89,EmBus1,2))","v":0},{"$f":"0.00000110231131*($C89*VLOOKUP($E89,EmBus1,3)-$D89*VLOOKUP($F89,EmBus1,3))","v":0},{"$f":"0.00000110231131*($C89*VLOOKUP($E89,EmBus1,4)-$D89*VLOOKUP($F89,EmBus1,4))","v":0},{"$f":"0.00000110231131*($C89*VLOOKUP($E89,EmBus1,5)-$D89*VLOOKUP($F89,EmBus1,5))","v":0},{"$f":"0.00000110231131*($C89*VLOOKUP($E89,EmBus1,6)-$D89*VLOOKUP($F89,EmBus1,6))","v":0},{"$f":"0.00000110231131*($C89*VLOOKUP($E89,EmBus1,7)-$D89*VLOOKUP($F89,EmBus1,7))","v":0},{"$f":"0.00000110231131*($C89*VLOOKUP($E89,EmBus1,8)-$D89*VLOOKUP($F89,EmBus1,8))","v":0},{"$f":"I89*VLOOKUP(ProjLoc,EmCost,2)/(1+DiscRate)^($B89+Construct-1)","v":{"$error":"#N/A"}},{"$f":"J89*VLOOKUP(ProjLoc,EmCost,3)*(1+CO2Uprater)^($B89+Construct-1)/(1+DiscRate)^($B89+Construct-1)","v":{"$error":"#N/A"}},{"$f":"K89*VLOOKUP(ProjLoc,EmCost,4)/(1+DiscRate)^($B89+Construct-1)","v":{"$error":"#N/A"}},{"$f":"L89*VLOOKUP(ProjLoc,EmCost,5)/(1+DiscRate)^($B89+Construct-1)","v":{"$error":"#N/A"}},{"$f":"M89*VLOOKUP(ProjLoc,EmCost,6)/(1+DiscRate)^($B89+Construct-1)","v":{"$error":"#N/A"}},{"$f":"N89*VLOOKUP(ProjLoc,EmCost,7)/(1+DiscRate)^($B89+Construct-1)","v":{"$error":"#N/A"}}]
[null,3,{"$f":"TREND(C86:C87,B86:B87,B90)","v":0},{"$f":"TREND(D86:D87,B86:B87,B90)","v":0},{"$f":"TREND(E86:E87,B86:B87,B90)","v":0},{"$f":"TREND(F86:F87,B86:B87,B90)","v":0},null,null,0,0,0,0,0,0,0,{"$error":"#N/A"},{"$error":"#N/A"},{"$error":"#N/A"},{"$error":"#N/A"},{"$error":"#N/A"},{"$error":"#N/A"}]
[null,4,{"$f":"TREND(C86:C87,B86:B87,B91)","v":0},{"$f":"TREND(D86:D87,B86:B87,B91)","v":0},{"$f":"TREND(E86:E87,B86:B87,B91)","v":0},{"$f":"TREND(F86:F87,B86:B87,B91)","v":0},null,null,0,0,0,0,0,0,0,{"$error":"#N/A"},{"$error":"#N/A"},{"$error":"#N/A"},{"$error":"#N/A"},{"$error":"#N/A"},{"$error":"#N/A"}]
[null,5,{"$f":"TREND(C86:C87,B86:B87,B92)","v":0},{"$f":"TREND(D86:D87,B86:B87,B92)","v":0},{"$f":"TREND(E86:E87,B86:B87,B92)","v":0},{"$f":"TREND(F86:F87,B86:B87,B92)","v":0},null,null,0,0,0,0,0,0,0,{"$error":"#N/A"},{"$error":"#N/A"},{"$error":"#N/A"},{"$error":"#N/A"},{"$error":"#N/A"},{"$error":"#N/A"}]
[null,6,{"$f":"TREND(C86:C87,B86:B87,B93)","v":0},{"$f":"TREND(D86:D87,B86:B87,B93)","v":0},{"$f":"TREND(E86:E87,B86:B87,B93)","v":0},{"$f":"TREND(F86:F87,B86:B87,B93)","v":0},null,null,0,0,0,0,0,0,0,{"$error":"#N/A"},{"$error":"#N/A"},{"$error":"#N/A"},{"$error":"#N/A"},{"$error":"#N/A"},{"$error":"#N/A"}]
[null,7,{"$f":"TREND(C86:C87,B86:B87,B94)","v":0},{"$f":"TREND(D86:D87,B86:B87,B94)","v":0},{"$f":"TREND(E86:E87,B86:B87,B94)","v":0},{"$f":"TREND(F86:F87,B86:B87,B94)","v":0},null,null,0,0,0,0,0,0,0,{"$error":"#N/A"},{"$error":"#N/A"},{"$error":"#N/A"},{"$error":"#N/A"},{"$error":"#N/A"},{"$error":"#N/A"}]
[null,8,{"$f":"TREND(C86:C87,B86:B87,B95)","v":0},{"$f":"TREND(D86:D87,B86:B87,B95)","v":0},{"$f":"TREND(E86:E87,B86:B87,B95)","v":0},{"$f":"TREND(F86:F87,B86:B87,B95)","v":0},null,null,{"$f":"0.00000110231131*($C95*VLOOKUP($E95,EmBus20,2)-$D95*VLOOKUP($F95,EmBus20,2))","v":0},{"$f":"0.00000110231131*($C95*VLOOKUP($E95,EmBus20,3)-$D95*VLOOKUP($F95,EmBus20,3))","v":0},{"$f":"0.00000110231131*($C95*VLOOKUP($E95,EmBus20,4)-$D95*VLOOKUP($F95,EmBus20,4))","v":0},{"$f":"0.00000110231131*($C95*VLOOKUP($E95,EmBus20,5)-$D95*VLOOKUP($F95,EmBus20,5))","v":0},{"$f":"0.00000110231131*($C95*VLOOKUP($E95,EmBus20,6)-$D95*VLOOKUP($F95,EmBus20,6))","v":0},{"$f":"0.00000110231131*($C95*VLOOKUP($E95,EmBus20,7)-$D95*VLOOKUP($F95,EmBus20,7))","v":0},{"$f":"0.00000110231131*($C95*VLOOKUP($E95,EmBus20,8)-$D95*VLOOKUP($F95,EmBus20,8))","v":0},{"$error":"#N/A"},{"$error":"#N/A"},{"$error":"#N/A"},{"$error":"#N/A"},{"$error":"#N/A"},{"$error":"#N/A"}]
[null,9,{"$f":"TREND(C86:C87,B86:B87,B96)","v":0},{"$f":"TREND(D86:D87,B86:B87,B96)","v":0},{"$f":"TREND(E86:E87,B86:B87,B96)","v":0},{"$f":"TREND(F86:F87,B86:B87,B96)","v":0},null,null,0,0,0,0,0,0,0,{"$error":"#N/A"},{"$error":"#N/A"},{"$error":"#N/A"},{"$error":"#N/A"},{"$error":"#N/A"},{"$error":"#N/A"}]
[null,10,{"$f":"TREND(C86:C87,B86:B87,B97)","v":0},{"$f":"TREND(D86:D87,B86:B87,B97)","v":0},{"$f":"TREND(E86:E87,B86:B87,B97)","v":0},{"$f":"TREND(F86:F87,B86:B87,B97)","v":0},null,null,0,0,0,0,0,0,0,{"$error":"#N/A"},{"$error":"#N/A"},{"$error":"#N/A"},{"$error":"#N/A"},{"$error":"#N/A"},{"$error":"#N/A"}]
[null,11,{"$f":"TREND(C86:C87,B86:B87,B98)","v":0},{"$f":"TREND(D86:D87,B86:B87,B98)","v":0},{"$f":"TREND(E86:E87,B86:B87,B98)","v":0},{"$f":"TREND(F86:F87,B86:B87,B98)","v":0},null,null,0,0,0,0,0,0,0,{"$error":"#N/A"},{"$error":"#N/A"},{"$error":"#N/A"},{"$error":"#N/A"},{"$error":"#N/A"},{"$error":"#N/A"}]
[null,12,{"$f":"TREND(C86:C87,B86:B87,B99)","v":0},{"$f":"TREND(D86:D87,B86:B87,B99)","v":0},{"$f":"TREND(E86:E87,B86:B87,B99)","v":0},{"$f":"TREND(F86:F87,B86:B87,B99)","v":0},null,null,0,0,0,0,0,0,0,{"$error":"#N/A"},{"$error":"#N/A"},{"$error":"#N/A"},{"$error":"#N/A"},{"$error":"#N/A"},{"$error":"#N/A"}]
[null,13,{"$f":"TREND(C86:C87,B86:B87,B100)","v":0},{"$f":"TREND(D86:D87,B86:B87,B100)","v":0},{"$f":"TREND(E86:E87,B86:B87,B100)","v":0},{"$f":"TREND(F86:F87,B86:B87,B100)","v":0},null,null,0,0,0,0,0,0,0,{"$error":"#N/A"},{"$error":"#N/A"},{"$error":"#N/A"},{"$error":"#N/A"},{"$error":"#N/A"},{"$error":"#N/A"}]
[null,14,{"$f":"TREND(C86:C87,B86:B87,B101)","v":0},{"$f":"TREND(D86:D87,B86:B87,B101)","v":0},{"$f":"TREND(E86:E87,B86:B87,B101)","v":0},{"$f":"TREND(F86:F87,B86:B87,B101)","v":0},null,null,0,0,0,0,0,0,0,{"$error":"#N/A"},{"$error":"#N/A"},{"$error":"#N/A"},{"$error":"#N/A"},{"$error":"#N/A"},{"$error":"#N/A"}]
[null,15,{"$f":"TREND(C86:C87,B86:B87,B102)","v":0},{"$f":"TREND(D86:D87,B86:B87,B102)","v":0},{"$f":"TREND(E86:E87,B86:B87,B102)","v":0},{"$f":"TREND(F86:F87,B86:B87,B102)","v":0},null,null,0,0,0,0,0,0,0,{"$error":"#N/A"},{"$error":"#N/A"},{"$error":"#N/A"},{"$error":"#N/A"},{"$error":"#N/A"},{"$error":"#N/A"}]
[null,16,{"$f":"TREND(C86:C87,B86:B87,B103)","v":0},{"$f":"TREND(D86:D87,B86:B87,B103)","v":0},{"$f":"TREND(E86:E87,B86:B87,B103)","v":0},{"$f":"TREND(F86:F87,B86:B87,B103)","v":0},null,null,0,0,0,0,0,0,0,{"$error":"#N/A"},{"$error":"#N/A"},{"$error":"#N/A"},{"$error":"#N/A"},{"$error":"#N/A"},{"$error":"#N/A"}]
[null,17,{"$f":"TREND(C86:C87,B86:B87,B104)","v":0},{"$f":"TREND(D86:D87,B86:B87,B104)","v":0},{"$f":"TREND(E86:E87,B86:B87,B104)","v":0},{"$f":"TREND(F86:F87,B86:B87,B104)","v":0},null,null,0,0,0,0,0,0,0,{"$error":"#N/A"},{"$error":"#N/A"},{"$error":"#N/A"},{"$error":"#N/A"},{"$error":"#N/A"},{"$error":"#N/A"}]
[null,18,{"$f":"TREND(C86:C87,B86:B87,B105)","v":0},{"$f":"TREND(D86:D87,B86:B87,B105)","v":0},{"$f":"TREND(E86:E87,B86:B87,B105)","v":0},{"$f":"TREND(F86:F87,B86:B87,B105)","v":0},null,null,0,0,0,0,0,0,0,{"$error":"#N/A"},{"$error":"#N/A"},{"$error":"#N/A"},{"$error":"#N/A"},{"$error":"#N/A"},{"$error":"#N/A"}]
[null,19,{"$f":"TREND(C86:C87,B86:B87,B106)","v":0},{"$f":"TREND(D86:D87,B86:B87,B106)","v":0},{"$f":"TREND(E86:E87,B86:B87,B106)","v":0},{"$f":"TREND(F86:F87,B86:B87,B106)","v":0},null,null,0,0,0,0,0,0,0,{"$error":"#N/A"},{"$error":"#N/A"},{"$error":"#N/A"},{"$error":"#N/A"},{"$error":"#N/A"},{"$error":"#N/A"}]
[]
[null,"Total",null,null,null,null,null,null,{"$f":"SUM(I86:I106)","v":0},{"$f":"SUM(J86:J106)","v":0},{"$f":"SUM(K86:K106)","v":0},0,0,{"$f":"SUM(N86:N106)","v":0},0,{"$f":"SUM(P86:P106)","v":{"$error":"#N/A"}},{"$error":"#N/A"},{"$error":"#N/A"},{"$error":"#N/A"},{"$error":"#N/A"},{"$error":"#N/A"}]
[]
[]
[null,"Freight Locomotive"]
[]
[null,null,"ANNUAL TON-MILES",null,"FUEL CONSUMPTION",null,null,null,"TONS EMISSIONS SAVED",null,null,null,null,null,null,"DOLLARS EMISSIONS SAVED"]
[null,null,"(ton-miles/yr)",null,"(ton-miles/gal)",null,null,null,"(tons/yr)",null,null,null,null,null,null,"(PV $/yr)"]
[null,"Year"]
[null,null,"No Build","Build","No Build","Build",null,null,"CO","CO2","NOX","PM10","SOX","VOC","PM2.5","CO","CO2","NOX","PM10","SOX","VOC"]
[null,1,{"$f":"TonMileLoco1NB*AnnualFactor","v":0},{"$f":"TonMileLoco1B*AnnualFactor","v":0},{"$f":"AvgTonMilesGal1NB","v":480},{"$f":"AvgTonMilesGal1B","v":480},null,null,{"$f":"0.00000110231131*($C117/$E117-$D117/$F117)*VLOOKUP(2030,EmFreightTrain,2)","v":0},{"$f":"0.00000110231131*($C117/$E117-$D117/$F117)*VLOOKUP(2030,EmFreightTrain,3)","v":0},{"$f":"0.00000110231131*($C117/$E117-$D117/$F117)*VLOOKUP(2030,EmFreightTrain,4)","v":0},{"$f":"0.00000110231131*($C117/$E117-$D117/$F117)*VLOOKUP(2030,EmFreightTrain,5)","v":0},{"$f":"0.00000110231131*($C117/$E117-$D117/$F117)*VLOOKUP(2030,EmFreightTrain,6)","v":0},{"$f":"0.00000110231131*($C117/$E117-$D117/$F117)*VLOOKUP(2030,EmFreightTrain,7)","v":0},{"$f":"0.00000110231131*($C117/$E117-$D117/$F117)*VLOOKUP(2030,EmFreightTrain,8)","v":0},{"$f":"I117*VLOOKUP(ProjLoc,EmCost,2)/(1+DiscRate)^($B117+Construct-1)","v":{"$error":"#N/A"}},{"$f":"J117*VLOOKUP(ProjLoc,EmCost,3)*(1+CO2Uprater)^($B117+Construct-1)/(1+DiscRate)^($B117+Construct-1)","v":{"$error":"#N/A"}},{"$f":"K117*VLOOKUP(ProjLoc,EmCost,4)/(1+DiscRate)^($B117+Construct-1)","v":{"$error":"#N/A"}},{"$f":"L117*VLOOKUP(ProjLoc,EmCost,5)/(1+DiscRate)^($B117+Construct-1)","v":{"$error":"#N/A"}},{"$f":"M117*VLOOKUP(ProjLoc,EmCost,6)/(1+DiscRate)^($B117+Construct-1)","v":{"$error":"#N/A"}},{"$f":"N117*VLOOKUP(ProjLoc,EmCost,7)/(1+DiscRate)^($B117+Construct-1)","v":{"$error":"#N/A"}}]
[null,20,{"$f":"TonMileLoco20NB*AnnualFactor","v":0},{"$f":"TonMileLoco20B*AnnualFactor","v":0},{"$f":"AvgTonMilesGal20NB","v":480},{"$f":"AvgTonMilesGal20B","v":480},null,null,{"$f":"0.00000110231131*($C118/$E118-$D118/$F118)*VLOOKUP(2030,EmFreightTrain,2)","v":0},{"$f":"0.00000110231131*($C118/$E118-$D118/$F118)*VLOOKUP(2030,EmFreightTrain,3)","v":0},{"$f":"0.00000110231131*($C118/$E118-$D118/$F118)*VLOOKUP(2030,EmFreightTrain,4)","v":0},{"$f":"0.00000110231131*($C118/$E118-$D118/$F118)*VLOOKUP(2030,EmFreightTrain,5)","v":0},{"$f":"0.00000110231131*($C118/$E118-$D118/$F118)*VLOOKUP(2030,EmFreightTrain,6)","v":0},{"$f":"0.00000110231131*($C118/$E118-$D118/$F118)*VLOOKUP(2030,EmFreightTrain,7)","v":0},{"$f":"0.00000110231131*($C118/$E118-$D118/$F118)*VLOOKUP(2030,EmFreightTrain,8)","v":0},{"$f":"I118*VLOOKUP(ProjLoc,EmCost,2)/(1+DiscRate)^($B118+Construct-1)","v":{"$error":"#N/A"}},{"$f":"J118*VLOOKUP(ProjLoc,EmCost,3)*(1+CO2Uprater)^($B118+Construct-1)/(1+DiscRate)^($B118+Construct-1)","v":{"$error":"#N/A"}},{"$f":"K118*VLOOKUP(ProjLoc,EmCost,4)/(1+DiscRate)^($B118+Construct-1)","v":{"$error":"#N/A"}},{"$f":"L118*VLOOKUP(ProjLoc,EmCost,5)/(1+DiscRate)^($B118+Construct-1)","v":{"$error":"#N/A"}},{"$f":"M118*VLOOKUP(ProjLoc,EmCost,6)/(1+DiscRate)^($B118+Construct-1)","v":{"$error":"#N/A"}},{"$f":"N118*VLOOKUP(ProjLoc,EmCost,7)/(1+DiscRate)^($B118+Construct-1)","v":{"$error":"#N/A"}}]
[]
[null,2,{"$f":"TREND(C117:C118,B117:B118,B120)","v":0},{"$f":"TREND(D117:D118,B117:B118,B120)","v":0},{"$f":"TREND(E117:E118,B117:B118,B120)","v":480},{"$f":"TREND(F117:F118,B117:B118,B120)","v":480},null,null,{"$f":"0.00000110231131*($C120/$E120-$D120/$F120)*VLOOKUP(2030,EmFreightTrain,2)","v":0},{"$f":"0.00000110231131*($C120/$E120-$D120/$F120)*VLOOKUP(2030,EmFreightTrain,3)","v":0},{"$f":"0.00000110231131*($C120/$E120-$D120/$F120)*VLOOKUP(2030,EmFreightTrain,4)","v":0},{"$f":"0.00000110231131*($C120/$E120-$D120/$F120)*VLOOKUP(2030,EmFreightTrain,5)","v":0},{"$f":"0.00000110231131*($C120/$E120-$D120/$F120)*VLOOKUP(2030,EmFreightTrain,6)","v":0},{"$f":"0.00000110231131*($C120/$E120-$D120/$F120)*VLOOKUP(2030,EmFreightTrain,7)","v":0},{"$f":"0.00000110231131*($C120/$E120-$D120/$F120)*VLOOKUP(2030,EmFreightTrain,8)","v":0},{"$f":"I120*VLOOKUP(ProjLoc,EmCost,2)/(1+DiscRate)^($B120+Construct-1)","v":{"$error":"#N/A"}},{"$f":"J120*VLOOKUP(ProjLoc,EmCost,3)*(1+CO2Uprater)^($B120+Construct-1)/(1+DiscRate)^($B120+Construct-1)","v":{"$error":"#N/A"}},{"$f":"K120*VLOOKUP(ProjLoc,EmCost,4)/(1+DiscRate)^($B120+Construct-1)","v":{"$error":"#N/A"}},{"$f":"L120*VLOOKUP(ProjLoc,EmCost,5)/(1+DiscRate)^($B120+Construct-1)","v":{"$error":"#N/A"}},{"$f":"M120*VLOOKUP(ProjLoc,EmCost,6)/(1+DiscRate)^($B120+Construct-1)","v":{"$error":"#N/A"}},{"$f":"N120*VLOOKUP(ProjLoc,EmCost,7)/(1+DiscRate)^($B120+Construct-1)","v":{"$error":"#N/A"}}]
[null,3,{"$f":"TREND(C117:C118,B117:B118,B121)","v":0},{"$f":"TREND(D117:D118,B117:B118,B121)","v":0},{"$f":"TREND(E117:E118,B117:B118,B121)","v":480},{"$f":"TREND(F117:F118,B117:B118,B121)","v":480},null,null,0,0,0,0,0,0,0,{"$error":"#N/A"},{"$error":"#N/A"},{"$error":"#N/A"},{"$error":"#N/A"},{"$error":"#N/A"},{"$error":"#N/A"}]
[null,4,{"$f":"TREND(C117:C118,B117:B118,B122)","v":0},{"$f":"TREND(D117:D118,B117:B118,B122)","v":0},{"$f":"TREND(E117:E118,B117:B118,B122)","v":480},{"$f":"TREND(F117:F118,B117:B118,B122)","v":480},null,null,0,0,0,0,0,0,0,{"$error":"#N/A"},{"$error":"#N/A"},{"$error":"#N/A"},{"$error":"#N/A"},{"$error":"#N/A"},{"$error":"#N/A"}]
[null,5,{"$f":"TREND(C117:C118,B117:B118,B123)","v":0},{"$f":"TREND(D117:D118,B117:B118,B123)","v":0},{"$f":"TREND(E117:E118,B117:B118,B123)","v":480},{"$f":"TREND(F117:F118,B117:B118,B123)","v":480},null,null,0,0,0,0,0,0,0,{"$error":"#N/A"},{"$error":"#N/A"},{"$error":"#N/A"},{"$error":"#N/A"},{"$error":"#N/A"},{"$error":"#N/A"}]
[null,6,{"$f":"TREND(C117:C118,B117:B118,B124)","v":0},{"$f":"TREND(D117:D118,B117:B118,B124)","v":0},{"$f":"TREND(E117:E118,B117:B118,B124)","v":480},{"$f":"TREND(F117:F118,B117:B118,B124)","v":480},null,null,0,0,0,0,0,0,0,{"$error":"#N/A"},{"$error":"#N/A"},{"$error":"#N/A"},{"$error":"#N/A"},{"$error":"#N/A"},{"$error":"#N/A"}]
[null,7,{"$f":"TREND(C117:C118,B117:B118,B125)","v":0},{"$f":"TREND(D117:D118,B117:B118,B125)","v":0},{"$f":"TREND(E117:E118,B117:B118,B125)","v":480},{"$f":"TREND(F117:F118,B117:B118,B125)","v":480},null,null,0,0,0,0,0,0,0,{"$error":"#N/A"},{"$error":"#N/A"},{"$error":"#N/A"},{"$error":"#N/A"},{"$error":"#N/A"},{"$error":"#N/A"}]
[null,8,{"$f":"TREND(C117:C118,B117:B118,B126)","v":0},{"$f":"TREND(D117:D118,B117:B118,B126)","v":0},{"$f":"TREND(E117:E118,B117:B118,B126)","v":480},{"$f":"TREND(F117:F118,B117:B118,B126)","v":480},null,null,0,0,0,0,0,0,0,{"$error":"#N/A"},{"$error":"#N/A"},{"$error":"#N/A"},{"$error":"#N/A"},{"$error":"#N/A"},{"$error":"#N/A"}]
[null,9,{"$f":"TREND(C117:C118,B117:B118,B127)","v":0},{"$f":"TREND(D117:D118,B117:B118,B127)","v":0},{"$f":"TREND(E117:E118,B117:B118,B127)","v":480},{"$f":"TREND(F117:F118,B117:B118,B127)","v":480},null,null,0,0,0,0,0,0,0,{"$error":"#N/A"},{"$error":"#N/A"},{"$error":"#N/A"},{"$error":"#N/A"},{"$error":"#N/A"},{"$error":"#N/A"}]
[null,10,{"$f":"TREND(C117:C118,B117:B118,B128)","v":0},{"$f":"TREND(D117:D118,B117:B118,B128)","v":0},{"$f":"TREND(E117:E118,B117:B118,B128)","v":480},{"$f":"TREND(F117:F118,B117:B118,B128)","v":480},null,null,0,0,0,0,0,0,0,{"$error":"#N/A"},{"$error":"#N/A"},{"$error":"#N/A"},{"$error":"#N/A"},{"$error":"#N/A"},{"$error":"#N/A"}]
[null,11,{"$f":"TREND(C117:C118,B117:B118,B129)","v":0},{"$f":"TREND(D117:D118,B117:B118,B129)","v":0},{"$f":"TREND(E117:E118,B117:B118,B129)","v":480},{"$f":"TREND(F117:F118,B117:B118,B129)","v":480},null,null,0,0,0,0,0,0,0,{"$error":"#N/A"},{"$error":"#N/A"},{"$error":"#N/A"},{"$error":"#N/A"},{"$error":"#N/A"},{"$error":"#N/A"}]
[null,12,{"$f":"TREND(C117:C118,B117:B118,B130)","v":0},{"$f":"TREND(D117:D118,B117:B118,B130)","v":0},{"$f":"TREND(E117:E118,B117:B118,B130)","v":480},{"$f":"TREND(F117:F118,B117:B118,B130)","v":480},null,null,0,0,0,0,0,0,0,{"$error":"#N/A"},{"$error":"#N/A"},{"$error":"#N/A"},{"$error":"#N/A"},{"$error":"#N/A"},{"$error":"#N/A"}]
[null,13,{"$f":"TREND(C117:C118,B117:B118,B131)","v":0},{"$f":"TREND(D117:D118,B117:B118,B131)","v":0},{"$f":"TREND(E117:E118,B117:B118,B131)","v":480},{"$f":"TREND(F117:F118,B117:B118,B131)","v":480},null,null,0,0,0,0,0,0,0,{"$error":"#N/A"},{"$error":"#N/A"},{"$error":"#N/A"},{"$error":"#N/A"},{"$error":"#N/A"},{"$error":"#N/A"}]
[null,14,{"$f":"TREND(C117:C118,B117:B118,B132)","v":0},{"$f":"TREND(D117:D118,B117:B118,B132)","v":0},{"$f":"TREND(E117:E118,B117:B118,B132)","v":480},{"$f":"TREND(F117:F118,B117:B118,B132)","v":480},null,null,0,0,0,0,0,0,0,{"$error":"#N/A"},{"$error":"#N/A"},{"$error":"#N/A"},{"$error":"#N/A"},{"$error":"#N/A"},{"$error":"#N/A"}]
[null,15,{"$f":"TREND(C117:C118,B117:B118,B133)","v":0},{"$f":"TREND(D117:D118,B117:B118,B133)","v":0},{"$f":"TREND(E117:E118,B117:B118,B133)","v":480},{"$f":"TREND(F117:F118,B117:B118,B133)","v":480},null,null,0,0,0,0,0,0,0,{"$error":"#N/A"},{"$error":"#N/A"},{"$error":"#N/A"},{"$error":"#N/A"},{"$error":"#N/A"},{"$error":"#N/A"}]
[null,16,{"$f":"TREND(C117:C118,B117:B118,B134)","v":0},{"$f":"TREND(D117:D118,B117:B118,B134)","v":0},{"$f":"TREND(E117:E118,B117:B118,B134)","v":480},{"$f":"TREND(F117:F118,B117:B118,B134)","v":480},null,null,0,0,0,0,0,0,0,{"$error":"#N/A"},{"$error":"#N/A"},{"$error":"#N/A"},{"$error":"#N/A"},{"$error":"#N/A"},{"$error":"#N/A"}]
[null,17,{"$f":"TREND(C117:C118,B117:B118,B135)","v":0},{"$f":"TREND(D117:D118,B117:B118,B135)","v":0},{"$f":"TREND(E117:E118,B117:B118,B135)","v":480},{"$f":"TREND(F117:F118,B117:B118,B135)","v":480},null,null,0,0,0,0,0,0,0,{"$error":"#N/A"},{"$error":"#N/A"},{"$error":"#N/A"},{"$error":"#N/A"},{"$error":"#N/A"},{"$error":"#N/A"}]
[null,18,{"$f":"TREND(C117:C118,B117:B118,B136)","v":0},{"$f":"TREND(D117:D118,B117:B118,B136)","v":0},{"$f":"TREND(E117:E118,B117:B118,B136)","v":480},{"$f":"TREND(F117:F118,B117:B118,B136)","v":480},null,null,0,0,0,0,0,0,0,{"$error":"#N/A"},{"$error":"#N/A"},{"$error":"#N/A"},{"$error":"#N/A"},{"$error":"#N/A"},{"$error":"#N/A"}]
[null,19,{"$f":"TREND(C117:C118,B117:B118,B137)","v":0},{"$f":"TREND(D117:D118,B117:B118,B137)","v":0},{"$f":"TREND(E117:E118,B117:B118,B137)","v":480},{"$f":"TREND(F117:F118,B117:B118,B137)","v":480},null,null,0,0,0,0,0,0,0,{"$error":"#N/A"},{"$error":"#N/A"},{"$error":"#N/A"},{"$error":"#N/A"},{"$error":"#N/A"},{"$error":"#N/A"}]
[]
[null,"Total",null,null,null,null,null,null,{"$f":"SUM(I117:I137)","v":0},0,0,0,0,0,0,{"$error":"#N/A"},{"$error":"#N/A"},{"$error":"#N/A"},{"$error":"#N/A"},{"$error":"#N/A"},{"$error":"#N/A"}]

{"sheet":"PARAMETERS","index":5,"n_rows":219,"n_cols":137,"rows_kept":219,"cut":false,"hidden":false,"merged":[]}
["The column titles for this worksheet are in row 2. They span cells A2. The data spans cells A3 through EC219. There is information in every cell for column A through EC inclusive.  If you are not using a screen reader, you can press Alt + R, T for the Review Ribbon, Edit Comment to move to and open a Comment once you are on a cell with a Comment. When you are finished reading the Comment, press Escape to close the comment and return to the worksheet. If you are using the JAWS screen reader, press Ctrl + Shift + Apostrophe to get a list of Comments and their cell coordinates in the worksheet. Press Enter on the Comment you want to go to or Escape once you’ve read the Comment for a cell. You are returned to the workbook. Note that there is no keyboard command with JAWS to reread Comments or read Comments once you are on them in a cell. You must use the ability to list Comments in order to read them if you are using the JAWS screen reader.","Parameters"]
[]
[null,"This page contains all economic values and rate tables."]
[null,"To update economic values automatically, change \"Economic Update Factor.\"",null,null,null,null,null,null,null,null,null,null,null,null,null,null,null,null,null,null,null,null,null,null,null,null,null,null,null,null,null,"Travel Demand Tables",null,null,null,null,null,null,null,null,null,null,"Operating Cost Tables",null,null,null,null,null,null,"Accident Tables",null,null,null,null,null,null,null,null,null,null,null,null,null,null,null,null,"Emissions Tables",null,null,null,null,null,null,null,null,null,null,null,null,null,null,null,null,null,null,null,null,null,null,null,null,null,null,null,null,null,null,null,null,null,null,null,null,null,"Pavement Adjustments (used only for pavement projects)",null,null,null,null,null,null,null,null,null,null,null,null,null,"Weaving Adjustments (used only for freeway",null,null,null,null,null,null,"TMS Adjustments (used only for ramp metering, ramp metering signal coordination, incident"]
[null,null,null,null,null,null,null,null,null,null,null,null,null,null,null,null,null,null,null,null,null,null,null,null,null,null,null,null,null,null,null,null,null,null,null,null,null,null,null,null,null,null,null,null,null,null,null,null,null,null,null,null,null,null,null,null,null,null,null,null,null,null,null,null,null,null,null,null,null,null,null,null,null,null,null,null,null,null,null,null,null,null,null,null,null,null,null,null,null,null,null,null,null,null,null,null,null,null,null,null,null,null,null,null,null,null,null,null,null,null,null,null,null,null,null,null,null,null,"connector, HOV connector, and HOV drop ramp projects)",null,null,null,null,null,null,"management, traveler information projects, AVL, transit priority, and BRT projects)"]
[]
[null,"General Economic Parameters",null,null,null,null,null,null,null,null,null,null,null,null,null,null,null,null,null,null,null,null,null,null,"Project Types"]
[null,null,null,null,null,null,null,null,null,null,null,null,null,null,null,null,null,null,null,null,null,null,null,null,null,null,null,null,null,null,null,null,"DEMAND FOR TRAVEL IN PEAK PERIOD",null,null,null,null,null,null,null,null,null,null,"FUEL CONSUMPTION RATES",null,null,null,null,null,null,"HIGHWAY INJURY SEVERITY FREQUENCY",null,null,null,null,null,null,null,"RATES FOR NON-HIGHWAY ACCIDENT EVENTS",null,null,null,null,null,null,null,null,"HIGHWAY EMISSIONS FACTORS (g/mi)",null,null,null,null,null,null,null,null,null,null,null,"HIGHWAY EMISSIONS FACTORS (g/mi)",null,null,null,null,null,null,null,null,null,null,null,null,"HEALTH COST OF TRANSPORTATION EMISSIONS",null,null,null,null,null,null,null,null,null,null,null,null,"PAVEMENT DETERIORATION",null,null,null,null,null,null,"VEHICLE OPERATING SPEED",null,null,null,null,null,null,"VEHICLE OPERATING SPEED",null,null,null,null,null,null,"PEAK PERIOD SPEED, VOLUME, AND NON-HIGHWAY BENEFITS"]
[null,null,"Year of Current Dollars for Model",null,null,2021,null,null,null,null,null,null,null,null,null,null,null,null,null,null,null,null,null,null,null,"Highway Capacity Expansion",null,null,"Please select a type of highway project",null,null,null,"(percent of total daily travel)",null,null,null,null,null,null,null,null,null,null,"(gal/veh-mi)",null,null,null,null,null,null,"(percent of injuries)",null,null,null,null,null,null,null,"(events/million veh-mi)",null,null,null,null,null,null,null,null,"Model Year 2024",null,null,null,null,null,null,null,null,null,null,null,"Model Year 2044",null,null,null,null,null,null,null,null,null,null,null,null,"($/ton)",null,null,null,null,null,null,null,null,null,null,null,null,"(IRI in inches/mile)",null,null,null,null,null,null,"(percent adjustment)",null,null,null,null,null,null,"(percent adjustment)",null,null,null,null,null,null,"(percent adjustment)"]
[null,null,"Economic Update Factor (Using GDP Deflator)",null,null,1,null,1,null,null,null,null,null,null,null,null,null,null,null,null,null,null,null,null,null,"    General Highway",null,"GenHwy"]
[null,null,null,null,null,null,null,null,null,null,null,null,null,null,null,null,null,null,null,null,null,null,null,null,null,"    HOV Lane Addition",null,"HOV","Enter HOV restriction in section 1B",null,null,null,"Number of","Urban",null,null,null,null,null,null,null,null,null,"Speed","Auto*","Truck",null,null,null,null,"Event","Urban","Suburban","Rural","Average",null,null,null,"Event","Pass Train","Light Rail","Bus","Freight Rail",null,null,null,null,"Mode","Speed","CO","CO2","NOX","PM10","SOX","VOC","PM2.5",null,null,null,"Mode","Speed","CO","CO2","NOX","PM10","SOX","VOC","PM2.5",null,null,null,null,"Area","Proj Loc","CO","CO2e","NOX","PM10","SOX","VOC",null,null,null,null,null,null,"Year 20, By Loading",null,null,null,null,null,null,null,null,null,null,null,null,"Percent","Freeway","HOV",null,null,null,null,"TMS","Without",null,"With",null,"Non-Highway Benefits",null,null,"Total"]
[null,null,"Real Discount Rate",null,null,0.04,null,2,null,null,null,null,null,null,null,null,null,null,null,null,null,null,null,null,null,"    HOT Lane Addition",null,"HOT","Include toll payers as HOVs & check AVOs",null,null,null,"Hours in","So. California",null,"No. California",null,"Rural",null,null,null,null,null,5,5.1499999999999997E-2,0.14000000000000001,null,null,null,null,"Severe Injury (A)",{"$f":"ROUND((11713+2488)/277160,4)","v":5.1200000000000002E-2},{"$f":"ROUND((11713+2488)/277160,4)","v":5.1200000000000002E-2},{"$f":"ROUND((11713+2488)/277160,4)","v":5.1200000000000002E-2},{"$f":"ROUND((11713+2488)/277160,4)","v":5.1200000000000002E-2},null,null,null,"Fatality",8.0399999999999999E-2,0.24160000000000001,3.7199999999999997E-2,1.0367999999999999,null,null,null,null,"Auto",0,3.5182000000000002,78.918499999999995,0.30559999999999998,2.2000000000000001E-3,8.0000000000000004E-4,0.39,2E-3,null,null,null,"Auto",0,1.7535000000000001,60.228900000000003,0.1686,8.0000000000000004E-4,5.9999999999999995E-4,0.14510000000000001,8.0000000000000004E-4,null,null,null,null,"LA/South Coast",1,{"$f":"ROUND(115*(1.1578/0.78)*ValueUpdate/5,0)*5","v":170},{"$f":"ROUND(51*(1+2%)^(2021-2020)*(1.1578/1.1385)/1.10231*ValueUpdate,0)","v":48},{"$f":"ROUND(46615*(1.1578/0.78)*ValueUpdate,-2)","v":69200},{"$f":"ROUND(381859*(1.1578/0.78)*ValueUpdate,-2)","v":566800},{"$f":"ROUND(143469*(1.1578/0.78)*ValueUpdate,-2)","v":213000},{"$f":"ROUND(2898*(1.1578/0.78)*ValueUpdate/5,0)*5","v":4300},null,null,null,null,null,"Year 0","Light","Medium","Heavy",null,null,null,"IRI","Auto","Truck",null,null,null,null,"Weaving","Conn","Project",null,null,null,null,"Strategy","Speed","Volume","Speed","Volume","TT","VOC","Em","Benefit"]
[null,null,null,null,null,null,null,null,null,null,null,null,null,null,null,null,null,null,null,null,null,null,null,null,null,"    Passing Lane",null,"Passing","Enter a truck speed in section 1B",null,null,null,"Peak Period","Fwy/Exp","Other","Fwy/Exp","Other","Fwy/Exp","Other",null,null,null,null,6,5.0099999999999999E-2,0.13769999999999999,null,null,null,null,"Other Visible Injury (B)",{"$f":"ROUND((60380+9746)/277160,4)","v":0.253},{"$f":"ROUND((60380+9746)/277160,4)","v":0.253},{"$f":"ROUND((60380+9746)/277160,4)","v":0.253},{"$f":"ROUND((60380+9746)/277160,4)","v":0.253},null,null,null,"Injury",0.28549999999999998,2.9209000000000001,3.5526,7.3121,null,null,null,null,null,5,1.3615999999999999,555.43650000000002,9.5899999999999999E-2,7.0000000000000001E-3,5.4999999999999997E-3,8.6800000000000002E-2,6.4999999999999997E-3,null,null,null,null,5,0.55589999999999995,330.90339999999998,2.23E-2,1.9E-3,3.3E-3,2.4899999999999999E-2,1.8E-3,null,null,null,null,"CA Urban Area",2,{"$f":"ROUND(60*(1.1578/0.78)*ValueUpdate/5,0)*5","v":90},{"$f":"ROUND(51*(1+2%)^(2021-2020)*(1.1578/1.1385)/1.10231*ValueUpdate,0)","v":48},{"$f":"ROUND(13646*(1.1578/0.78)*ValueUpdate,-2)","v":20300},{"$f":"ROUND(110258*(1.1578/0.78)*ValueUpdate,-2)","v":163700},{"$f":"ROUND(55069*(1.1578/0.78)*ValueUpdate,-2)","v":81700},{"$f":"ROUND(954*(1.1578/0.78)*ValueUpdate/5,0)*5","v":1415},null,null,null,null,null,0,125,150,350,null,null,null,0,1,1.0249999999999999,null,null,null,null,0,1,1,null,null,null,null,"AMoth",1.024390243902439,0.95033206287590888,1.0226480836236935,0.95024785653448107,-5.0482654714564399,12.812004768254743,1.3685377639581497,0.73649754500818332]
[null,null,null,null,null,null,null,null,null,null,null,null,null,null,null,null,null,null,null,null,null,null,null,null,null,"    Intersection",null,"Intersect","Remember to run model for both roads",null,null,null,1,8.5000000000000006E-2,8.5000000000000006E-2,8.5000000000000006E-2,8.5000000000000006E-2,8.5000000000000006E-2,8.5000000000000006E-2,null,null,null,null,7,4.8800000000000003E-2,0.13550000000000001,null,null,null,null,"Complaint of Pain (C) ",{"$f":"ROUND((174210+18623)/277160,4)","v":0.69569999999999999},{"$f":"ROUND((174210+18623)/277160,4)","v":0.69569999999999999},{"$f":"ROUND((174210+18623)/277160,4)","v":0.69569999999999999},{"$f":"ROUND((174210+18623)/277160,4)","v":0.69569999999999999},null,null,null,"All Accidents",0.31280000000000002,4.1374000000000004,2.0522999999999998,13.250500000000001,null,null,null,null,null,6,1.3409,538.70389999999998,9.3299999999999994E-2,6.4999999999999997E-3,5.3E-3,7.9699999999999993E-2,6.0000000000000001E-3,null,null,null,null,6,0.55759999999999998,324.70420000000001,2.2100000000000002E-2,1.8E-3,3.2000000000000002E-3,2.3300000000000001E-2,1.6000000000000001E-3,null,null,null,null,"CA Rural Area",3,{"$f":"ROUND(54*(1.1578/0.78)*ValueUpdate/5,0)*5","v":80},{"$f":"ROUND(51*(1+2%)^(2021-2020)*(1.1578/1.1385)/1.10231*ValueUpdate,0)","v":48},{"$f":"ROUND(10144*(1.1578/0.78)*ValueUpdate,-2)","v":15100},{"$f":"ROUND(78618*(1.1578/0.78)*ValueUpdate,-2)","v":116700},{"$f":"ROUND(39732*(1.1578/0.78)*ValueUpdate,-2)","v":59000},{"$f":"ROUND(749*(1.1578/0.78)*ValueUpdate/5,0)*5","v":1110},null,null,null,null,null,25,150,200,500,null,null,null,25,1,1.0249999999999999,null,null,null,null,2E-3,0.98199999999999998,0.98799999999999999,null,null,null,null,"AMsev",1.5309734513274336,0.93858158077544918,1.5339233038348083,0.93652523253026121,1.2055967118725646,1.3795286778842835,-0.36526583947602581,1]
[null,null,null,null,null,null,null,null,null,null,null,null,null,null,null,null,null,null,null,null,null,null,null,null,null,"    Truck Only Lane",null,"TruckLane","Remember to run macro for truck lane",null,null,null,2,0.16800000000000001,0.16800000000000001,0.16800000000000001,0.16800000000000001,0.16800000000000001,0.16800000000000001,null,null,null,null,8,4.7600000000000003E-2,0.1333,null,null,null,null,null,null,null,null,null,null,null,null,null,null,null,null,null,null,null,null,null,null,7,1.3206,522.47540000000004,9.0700000000000003E-2,6.0000000000000001E-3,5.1999999999999998E-3,7.3200000000000001E-2,5.4999999999999997E-3,null,null,null,null,7,0.55940000000000001,318.62099999999998,2.1899999999999999E-2,1.6999999999999999E-3,3.0999999999999999E-3,2.1700000000000001E-2,1.5E-3,null,null,null,null,null,null,null,null,null,null,null,null,null,null,null,null,null,50,175,250,675,null,null,null,50,1,1.0249999999999999,null,null,null,null,4.0000000000000001E-3,0.96399999999999997,0.97599999999999998,null,null,null,null,"IMoth",0.87631975867269996,1.1787414968749441,0.97934595524956969,0.95560600171461807,0.51279967249004688,0.14821287797598934,5.8798924429168148E-2,0.73649754500818332]
[null,null,null,null,null,null,null,null,null,null,null,null,null,null,null,null,null,null,null,null,null,null,null,null,null,"    Bypass",null,"Bypass","Remember to run model for both roads",null,null,null,3,0.25,0.25,0.25,0.25,0.25,0.25,null,null,null,null,9,4.6399999999999997E-2,0.13120000000000001,null,null,null,null,null,null,null,null,null,null,null,null,null,null,null,null,null,null,null,null,null,null,8,1.3005,506.73579999999998,8.8099999999999998E-2,5.4999999999999997E-3,5.0000000000000001E-3,6.7199999999999996E-2,5.1000000000000004E-3,null,null,null,null,8,0.56120000000000003,312.65179999999998,2.18E-2,1.6000000000000001E-3,3.0999999999999999E-3,2.0299999999999999E-2,1.4E-3,null,null,null,null,null,null,"CO2e Uprater",0.02,"increase in value per year",null,null,null,null,null,null,null,null,75,200,300,750,null,null,null,75,1,1.0249999999999999,null,null,null,null,6.0000000000000001E-3,0.94499999999999995,0.96399999999999997,null,null,null,null,"IMsev",1.0063897763578276,0.97248628615245469,1.0095846645367412,0.94610556221859576,0.29570448855547743,0.31261145032655596,0.3020072068746259,1]
[null,"Travel Time Parameters",null,null,null,null,null,null,"Highway Operations Parameters",null,null,null,null,null,null,null,null,"Active Transportation Parameters",null,null,null,null,null,null,null,"    Queuing",null,"Queuing","Add arrival rate & check departure rate in 1B",null,null,null,4,0.32800000000000001,0.32800000000000001,0.32800000000000001,0.32800000000000001,0.32800000000000001,0.32800000000000001,null,null,null,null,10,4.5199999999999997E-2,0.12909999999999999,null,null,null,"Source: 2017 SWITRS Annual Report, Table 8C",null,null,null,null,null,null,null,"Sources: USDOT,Transportation Statistics Annual Report, Table 2-33, 2010 to 2019 average",null,null,null,null,null,null,null,null,null,null,9,1.2806999999999999,491.47030000000001,8.5699999999999998E-2,5.1000000000000004E-3,4.8999999999999998E-3,6.1699999999999998E-2,4.7000000000000002E-3,null,null,null,null,9,0.56299999999999994,306.79450000000003,2.1600000000000001E-2,1.4E-3,3.0000000000000001E-3,1.89E-2,1.2999999999999999E-3,null,null,null,null,null,null,null,null,null,null,null,null,null,null,null,null,null,100,275,400,750,null,null,null,100,1,1.0249999999999999,null,null,null,null,8.0000000000000002E-3,0.92700000000000005,0.95199999999999996,null,null,null,null,"NoAdj",1,1,1,1,0,0,0,1]
[null,null,null,null,"Value","Units",null,null,null,null,null,null,"Value","Units",null,null,null,null,null,null,null,null,null,null,null,"    Pavement",null,"Pavement","Enter pavement condition in section 1B",null,null,null,5,0.40300000000000002,0.40300000000000002,0.40300000000000002,0.40300000000000002,0.40300000000000002,0.40300000000000002,null,null,null,null,11,4.2900000000000001E-2,0.12379999999999999,null,null,null,null,null,null,null,null,null,null,null,null,"FRA, Office of Safety Analysis, Table 1.13, 2011 to 2020 CY average.",null,null,null,null,null,null,null,null,null,10,1.2613000000000001,476.66469999999998,8.3299999999999999E-2,4.7000000000000002E-3,4.7000000000000002E-3,5.67E-2,4.3E-3,null,null,null,null,10,0.56469999999999998,301.04689999999999,2.1399999999999999E-2,1.4E-3,3.0000000000000001E-3,1.77E-2,1.1999999999999999E-3,null,null,null,null,null,null,null,null,null,null,null,null,null,null,null,null,null,125,325,475,750,null,null,null,125,1,1.0249999999999999,null,null,null,null,0.01,0.90900000000000003,0.93899999999999995,null,null,null,null,"ORoth",{"$f":"1/1.025","v":0.97560975609756106},{"$f":"1/0.967507287790243","v":1.0335839456919951},1,1,-7.3566477910576925E-2,-3.0716152193242731E-2,-6.9602992603797764E-2,null,null,29]
[null,null,"Statewide Average Hourly Wage",null,{"$f":"31.61*(148.1/144.3)*ValueUpdate","v":32.442418572418568},"$/hr",null,3,null,"Maximum V/C Ratio",null,null,1.56,"-",null,null,16,null,"General Travel Activity Characteristics Parameters",null,"Value","Units",null,null,null,null,null,null,null,null,null,null,6,0.47400000000000003,0.47400000000000003,0.47400000000000003,0.47400000000000003,0.47400000000000003,0.47400000000000003,null,null,null,null,12,4.07E-2,0.1186,null,null,null,null,null,null,null,null,null,null,null,null,null,null,null,null,null,null,null,null,null,null,11,1.2222999999999999,452.58,8.0399999999999999E-2,4.3E-3,4.4999999999999997E-3,5.1799999999999999E-2,3.8999999999999998E-3,null,null,null,null,11,0.54790000000000005,285.95350000000002,2.06E-2,1.1999999999999999E-3,2.8E-3,1.61E-2,1.1000000000000001E-3,null,null,null,"Sources: McCubbin and Delucchi, 1996 for emissions other than CO2e",null,null,null,null,null,null,null,null,null,null,null,null,null,150,400,575,750,null,null,null,150,1,1.0129999999999999,null,null,null,null,1.2E-2,0.89100000000000001,0.92700000000000005,null,null,null,null,"ORsev",{"$f":"1/1.05014749262537","v":0.95224719101123478},{"$f":"1/0.972697289554735","v":1.0280690721958967},1,1,-1.4815053347415766E-3,-1.3238335688661946E-3,5.6743741804302186,null,null,29]
[null,null,null,null,null,null,null,null,null,null,null,null,null,null,null,null,null,null,null,"Cycling Days per Year",365,"days",null,null,null,"Rail or Transit Cap Expansion",null,null,"Please select a type of rail or transit project",null,null,null,7,0.54200000000000004,0.54200000000000004,0.54200000000000004,0.54200000000000004,0.54200000000000004,0.54200000000000004,null,null,null,null,13,3.8699999999999998E-2,0.1137,null,null,null,null,null,null,null,null,null,null,null,null,null,null,null,null,null,null,null,null,null,null,12,1.1846000000000001,429.7124,7.7499999999999999E-2,3.8999999999999998E-3,4.1999999999999997E-3,4.7300000000000002E-2,3.5999999999999999E-3,null,null,null,null,12,0.53149999999999997,271.61689999999999,1.9900000000000001E-2,1.1000000000000001E-3,2.7000000000000001E-3,1.47E-2,1E-3,null,null,null,null,"Interagency Working Group on Social Cost of Carbon, United States Government, 2021 for CO2e",null,null,null,null,null,null,null,null,null,null,null,null,175,500,700,750,null,null,null,175,1,1,null,null,null,null,1.4E-2,0.873,0.91500000000000004,null,null,null,null,"RMoth",1,1,1.0249999999999999,0.96750728779024331,-7.3566477910576925E-2,-3.0716152193242731E-2,-6.9602992603797764E-2,1]
[null,null,"Heavy and Light Truck Drivers",null,null,null,null,null,null,"Percent ADT in Peak Period",null,null,null,"%",null,null,null,null,null,"Walking Days per Year",365,"days",null,null,null,"    Passenger Rail",null,"PassRail","Enter data in both sections 1B & 1E",null,null,null,8,0.6080000000000001,0.6080000000000001,0.6080000000000001,0.6080000000000001,0.6080000000000001,0.6080000000000001,null,null,null,null,14,3.6700000000000003E-2,0.109,null,null,null,null,null,null,null,null,null,null,null,null,null,null,null,null,null,null,null,null,null,null,13,1.1479999999999999,408.00009999999997,7.4800000000000005E-2,3.5999999999999999E-3,4.0000000000000001E-3,4.3299999999999998E-2,3.3E-3,null,null,null,null,13,0.51559999999999995,257.9991,1.9199999999999998E-2,1E-3,2.5999999999999999E-3,1.34E-2,8.9999999999999998E-4,null,null,null,null,null,null,null,null,null,null,null,null,null,null,null,null,null,200,575,750,750,null,null,null,200,1,0.98,null,null,null,null,1.6E-2,0.85499999999999998,0.90300000000000002,null,null,null,null,"RMsev",1,1,1.0501474926253689,0.97269728955473456,-1.4815053347415766E-3,-1.3238335688661946E-3,5.6743741804302186,1]
[null,null,null,"Average Hourly Wage",{"$f":"(24.71*143150+22.09*111530)/(143150+111530)*(1.1578/1.1385)*ValueUpdate","v":23.962081108267203},"$/hr",null,3,null,"Percent ADT in Average Peak Hour",null,null,null,"%",null,null,null,null,null,"School Days per Year",180,"days",null,null,null,"    Light-Rail (LRT)",null,"LRT","Enter data in both sections 1B & 1E",null,null,null,9,0.67100000000000004,0.67100000000000004,0.67100000000000004,0.67100000000000004,0.67100000000000004,0.67100000000000004,null,null,null,null,15,3.49E-2,0.10440000000000001,null,null,null,null,"NUMBER OF FATALITIES",null,null,null,null,null,null,null,"COST OF NON-HIGHWAY ACCIDENT EVENTS",null,null,null,null,null,null,null,null,null,14,1.1126,387.38490000000002,7.2099999999999997E-2,3.3E-3,3.8E-3,3.9600000000000003E-2,3.0000000000000001E-3,null,null,null,null,14,0.50019999999999998,245.06399999999999,1.8499999999999999E-2,8.9999999999999998E-4,2.3999999999999998E-3,1.2200000000000001E-2,8.9999999999999998E-4,null,null,null,null,null,null,null,null,null,null,null,null,null,null,null,null,null,225,650,750,750,null,null,null,225,1,0.94899999999999995,null,null,null,null,1.7999999999999999E-2,0.83599999999999997,0.89100000000000001,null,null,null,null,"TIoth",1,1,1.0154639175257731,0.96913081774301524,-0.11026585870451545,-0.11872704768355995,-0.35180024680500832,1]
[null,null,null,"Benefits and Costs",{"$f":"WageTruck*(32.42/21.65-1)*ValueUpdate","v":11.920166906976345},"$/hr",null,4,null,null,null,null,null,null,null,null,null,null,null,null,null,null,null,null,null,"    Bus",null,"Bus","Enter data in both sections 1B & 1E",null,null,null,10,0.73399999999999999,0.73399999999999999,0.73399999999999999,0.73399999999999999,0.73399999999999999,0.73399999999999999,null,null,null,null,16,3.5099999999999999E-2,0.10290000000000001,null,null,null,null,"(events/crash)",null,null,null,null,null,null,null,"($/event)",null,null,null,null,null,null,null,null,null,15,1.0783,367.81139999999999,6.9599999999999995E-2,3.0000000000000001E-3,3.5999999999999999E-3,3.61E-2,2.7000000000000001E-3,null,null,null,null,15,0.48530000000000001,232.7774,1.78E-2,8.0000000000000004E-4,2.3E-3,1.11E-2,8.0000000000000004E-4,null,null,null,null,null,null,null,null,null,null,null,null,null,null,null,null,null,250,750,750,750,null,null,null,250,1,0.91900000000000004,null,null,null,null,0.02,0.78900000000000003,0.879,null,null,null,null,"TIsev",1,1,1.0058997050147493,0.97183048805227856,-0.39122572597877792,-0.39160228819315196,-0.35180024680500832,1]
[null,null,null,null,null,null,null,null,null,"Annualization Factor",null,null,365,"days/yr",null,null,null,null,"Vehicle Statistics",null,null,null,null,null,null,"    Hwy-Rail Grade Crossing",null,"HwyRail","Put hwy design in 1B, safety in 1C & crossing in 1D",null,null,null,11,0.79,0.79,0.79,0.79,0.79,0.79,null,null,null,null,17,3.5200000000000002E-2,0.10150000000000001,null,null,null,null,null,null,null,null,null,null,null,null,null,null,null,null,null,null,null,null,null,null,16,1.0942000000000001,366.76100000000002,7.0199999999999999E-2,2.8999999999999998E-3,3.5999999999999999E-3,3.4799999999999998E-2,2.5999999999999999E-3,null,null,null,null,16,0.50390000000000001,236.95599999999999,1.84E-2,8.0000000000000004E-4,2.3E-3,1.09E-2,8.0000000000000004E-4,null,null,null,null,"PASSENGER TRAIN EMISSIONS FACTORS",null,null,null,null,null,null,null,null,null,null,null,null,275,750,750,750,null,null,null,275,0.99099999999999999,0.89,null,null,null,null,2.1999999999999999E-2,0.747,0.86699999999999999]
[null,null,"Value of Time",null,null,null,null,null,null,null,null,null,null,null,null,null,null,null,null,"Average Vehicle Speed",25,"mph",null,null,null,null,null,null,null,null,null,null,12,0.84300000000000008,0.84300000000000008,0.84300000000000008,0.84300000000000008,0.84300000000000008,0.84300000000000008,null,null,null,null,18,3.5400000000000001E-2,0.1,null,null,null,null,"Accident Type","Urban","Suburban","Rural","Average",null,null,null,"Event","Pass Train","Light Rail","Bus","Freight Rail",null,null,null,null,null,17,1.1103000000000001,365.71359999999999,7.0800000000000002E-2,2.8E-3,3.5999999999999999E-3,3.3500000000000002E-2,2.5000000000000001E-3,null,null,null,null,17,0.5232,241.20959999999999,1.9E-2,8.0000000000000004E-4,2.3999999999999998E-3,1.0699999999999999E-2,8.0000000000000004E-4,null,null,null,null,"(g/train-mile)",null,null,null,null,null,null,null,null,null,null,null,null,300,750,750,750,null,null,null,300,0.98099999999999998,0.86199999999999999,null,null,null,null,2.4E-2,0.70599999999999996,0.85499999999999998]
[null,null,null,"Automobile",{"$f":"ROUND(WageStatewide*0.5/5,2)*5","v":16.200000000000003},"$/hr/per",null,5,null,null,null,null,null,"Capacity","Dep. Rate",null,null,null,null,"Average Vehicle Occupancy",1.25,"persons / veh",null,19,null,"Hwy Operational Improvement",null,null,"Please select a type of op. improvement",null,null,null,13,0.88600000000000012,0.88600000000000012,0.88600000000000012,0.88600000000000012,0.88600000000000012,0.88600000000000012,null,null,null,null,19,3.56E-2,9.8599999999999993E-2,null,null,null,null,"Fatal Accident",1.0900000000000001,1.08,1.1399999999999999,1.1100000000000001,null,null,null,"Fatality",{"$f":"FatValue","v":11800000},{"$f":"FatValue","v":11800000},{"$f":"FatValue","v":11800000},{"$f":"FatValue","v":11800000},null,null,null,null,null,18,1.1267,364.66930000000002,7.1400000000000005E-2,2.7000000000000001E-3,3.5999999999999999E-3,3.2300000000000002E-2,2.3999999999999998E-3,null,null,null,null,18,0.54330000000000001,245.53960000000001,1.9699999999999999E-2,8.0000000000000004E-4,2.3999999999999998E-3,1.0500000000000001E-2,6.9999999999999999E-4,null,null,null,null,null,null,null,null,null,null,null,null,null,null,null,null,null,325,750,750,750,null,null,null,325,0.97099999999999997,0.83399999999999996,null,null,null,null,2.5999999999999999E-2,0.66400000000000003,0.84199999999999997,null,null,null,"Source: California Department of Transportation TMS Master Plan, 2003"]
[null,null,null,"Truck",{"$f":"ROUND((WageTruck+FringeTruck)/5,2)*5","v":35.9},"$/hr/veh",null,5,null,null,null,"Alpha","Beta","(vphpl)","(vphpl)",null,null,null,null,null,null,null,null,null,null,"    Auxiliary Lane",null,"AuxLane","Enter ramp design speed & on-ramp volume",null,null,null,14,0.91600000000000015,0.91600000000000015,0.91600000000000015,0.91600000000000015,0.91600000000000015,0.91600000000000015,null,null,null,null,20,3.5799999999999998E-2,9.7199999999999995E-2,null,null,null,null,null,null,null,null,null,null,null,null,"Injury",{"$f":"ROUND((BC12*InjAValue+BC13*InjBValue)/SUM(BC12:BC13),-2)","v":211900},{"$f":"ROUND((BC12*InjAValue+BC13*InjBValue)/SUM(BC12:BC13),-2)","v":211900},{"$f":"ROUND((BC12*InjAValue+BC13*InjBValue)/SUM(BC12:BC13),-2)","v":211900},{"$f":"ROUND((BC12*InjAValue+BC13*InjBValue)/SUM(BC12:BC13),-2)","v":211900},null,null,null,null,null,19,1.1433,363.62779999999998,7.1999999999999995E-2,2.5999999999999999E-3,3.5999999999999999E-3,3.1099999999999999E-2,2.3999999999999998E-3,null,null,null,null,19,0.56410000000000005,249.94730000000001,2.0299999999999999E-2,8.0000000000000004E-4,2.5000000000000001E-3,1.03E-2,6.9999999999999999E-4,null,null,null,null,"Mode","Year","CO","CO2","NOX","PM10","SOX","VOC","PM2.5",null,null,null,null,350,750,750,750,null,null,null,350,0.96099999999999997,0.80800000000000005,null,null,null,null,2.8000000000000001E-2,0.623,0.81699999999999995,null,null,null,null,"29) Chaudhary and Messer, 2000"]
[null,null,null,"Auto & Truck Composite",{"$f":"ROUND((1.3*ValTimeAuto*0.91+ValTimeTruck*0.09)/5,2)*5","v":22.400000000000002},"$/hr/veh",null,6,null,"Freeway",null,0.2,10,2000,1800,null,"16, 17",null,"Active Transportation User Characteristics",null,null,null,null,null,null,"    Freeway Connector",null,"FreeConn","Check percent traffic in weave in section 1B",null,null,null,15,0.94300000000000017,0.94300000000000017,0.94300000000000017,0.94300000000000017,0.94300000000000017,0.94300000000000017,null,null,null,null,21,3.5400000000000001E-2,9.4E-2,null,null,null,null,null,null,null,null,null,null,null,null,"Prop Damage",90000,14200,4300,{"$f":"ROUND(156700, -2)","v":156700},null,null,null,null,null,20,1.1600999999999999,362.58940000000001,7.2599999999999998E-2,2.5000000000000001E-3,3.5999999999999999E-3,0.03,2.3E-3,null,null,null,null,20,0.58579999999999999,254.4341,2.1000000000000001E-2,8.0000000000000004E-4,2.5000000000000001E-3,1.01E-2,6.9999999999999999E-4,null,null,null,null,"Passenger Train",2010,8.1109406683496204,5150.4473244020091,96.114646919942999,2.0277351670874051,null,null,2.0277351670874051,null,null,null,null,375,750,750,750,null,null,null,375,0.95199999999999996,0.78200000000000003,null,null,null,null,0.03,0.58099999999999996,0.78900000000000003]
[null,null,null,"Transit",{"$f":"ROUND(WageStatewide*0.5/5,2)*5","v":16.200000000000003},"$/hr/per",null,5,null,"Expressway",null,0.2,10,2000,1800,null,"16, 17",null,null,"Average Cycling Speed",8.6999999999999993,"mph",null,20,null,"    HOV Connector",null,"HOVConn","Check percent traffic in weave in section 1B",null,null,null,16,0.96400000000000019,0.96400000000000019,0.96400000000000019,0.96400000000000019,0.96400000000000019,0.96400000000000019,null,null,null,null,22,3.5000000000000003E-2,9.0899999999999995E-2,null,null,null,null,"NUMBER OF INJURIES",null,null,null,null,null,null,null,null,null,null,null,null,null,null,null,null,null,21,1.1563000000000001,356.25099999999998,7.2400000000000006E-2,2.3999999999999998E-3,3.5000000000000001E-3,2.87E-2,2.2000000000000001E-3,null,null,null,null,21,0.59099999999999997,253.23840000000001,2.1100000000000001E-2,8.0000000000000004E-4,2.5000000000000001E-3,9.7999999999999997E-3,6.9999999999999999E-4,null,null,null,null,null,2040,0.40554703341748105,359.31467160788816,4.8665644010097724,0,null,null,0,null,null,null,null,400,750,750,750,null,null,null,400,0.94199999999999995,0.75800000000000001,null,null,null,null,3.2000000000000001E-2,0.54,0.76100000000000001]
[null,null,null,"Out-of-Vehicle Travel",2,"times",null,5,null,"Conventional Highway",null,0.05,10,800,1400,null,17,null,null,"Average Walking Speed",3.3,"mph",null,20,null,"    HOV Drop Ramp",null,"HOVDrop","Check percent traffic in weave in section 1B",null,null,null,17,0.9760000000000002,0.9760000000000002,0.9760000000000002,0.9760000000000002,0.9760000000000002,0.9760000000000002,null,null,null,null,23,3.4500000000000003E-2,8.7900000000000006E-2,null,null,null,null,"(events/crash)",null,null,null,null,null,null,null,null,null,null,null,null,null,null,null,null,null,22,1.1524000000000001,350.02339999999998,7.2300000000000003E-2,2.2000000000000001E-3,3.5000000000000001E-3,2.75E-2,2.0999999999999999E-3,null,null,null,null,22,0.59640000000000004,252.04820000000001,2.1299999999999999E-2,6.9999999999999999E-4,2.5000000000000001E-3,9.4000000000000004E-3,6.9999999999999999E-4,null,null,null,null,null,null,null,null,null,null,null,null,null,null,null,null,null,425,750,750,750,null,null,null,425,0.93200000000000005,0.73399999999999999,null,null,null,null,3.4000000000000002E-2,0.498,0.73399999999999999]
[null,null,null,"Incident-Related Travel",3,"times",null,7,null,"HOV Lanes",null,0.55000000000000004,8,1600,null,null,18,null,null,"Number of Unlinked Cycling Trips per Day",2.23,"trips",null,19,null,"    Off-Ramp Widening",null,"OffRamp","Check percent traffic in weave in section 1B",null,null,null,18,0.98500000000000021,0.98500000000000021,0.98500000000000021,0.98500000000000021,0.98500000000000021,0.98500000000000021,null,null,null,null,24,3.4099999999999998E-2,8.5000000000000006E-2,null,null,null,null,null,null,null,null,null,null,null,"Sources: FTA, Transit Safety & Security Statistics, 2002 to 2011 average",null,null,null,null,null,null,null,null,null,null,23,1.1486000000000001,343.90460000000002,7.2099999999999997E-2,2.2000000000000001E-3,3.3999999999999998E-3,2.63E-2,2E-3,null,null,null,null,23,0.6018,250.86359999999999,2.1499999999999998E-2,6.9999999999999999E-4,2.5000000000000001E-3,9.1000000000000004E-3,5.9999999999999995E-4,null,null,null,null,null,null,null,null,null,null,null,null,null,null,null,null,null,450,750,750,750,null,null,null,450,0.92300000000000004,0.70899999999999996,null,null,null,null,3.5999999999999997E-2,0.47599999999999998,0.70599999999999996]
[null,null,null,"Travel Time Uprater",0,"annual incr",null,null,null,null,null,null,null,null,null,null,null,null,null,"Number of Unlinked Pedestrian Trips per Day",2.1,"trips",null,19,null,"    On-Ramp Widening",null,"OnRamp","Enter on-ramp volume & metering strategy",null,null,null,19,0.99100000000000021,0.99100000000000021,0.99100000000000021,0.99100000000000021,0.99100000000000021,0.99100000000000021,null,null,null,null,25,3.3700000000000001E-2,8.2199999999999995E-2,null,null,null,null,"Accident Type","Urban","Suburban","Rural","Average",null,null,null,"FRA, Office of Safety Analysis, Table 3.16, 2018 to 2020 average",null,null,null,null,null,null,null,null,null,24,1.1448,337.89280000000002,7.1900000000000006E-2,2.0999999999999999E-3,3.3E-3,2.52E-2,1.9E-3,null,null,null,null,24,0.60719999999999996,249.68469999999999,2.1700000000000001E-2,6.9999999999999999E-4,2.5000000000000001E-3,8.8000000000000005E-3,5.9999999999999995E-4,null,null,null,null,"LIGHT RAIL EMISSIONS FACTORS",null,null,null,null,null,null,null,null,null,null,null,null,null,null,null,null,null,null,null,null,null,null,null,null,null,null,3.7999999999999999E-2,0.47299999999999998,0.67800000000000005,null,null,null,null,"TRANSIT TRAVEL TIME AND AGENCY COST SAVINGS"]
[null,null,null,null,null,null,null,null,null,null,null,null,null,"Capacity",null,null,null,null,null,"Diversion of Cyclists from Personal Vehicles",0.5,"assumption",null,null,null,"    HOV-2 to HOV-3 Conv",null,"HOV2to3","Check AVOs & trips in sections 1B & 2D ",null,null,null,20,0.99400000000000022,0.99400000000000022,0.99400000000000022,0.99400000000000022,0.99400000000000022,0.99400000000000022,null,null,null,null,26,3.3399999999999999E-2,8.1299999999999997E-2,null,null,null,null,"Fatal Accident",0.81,0.82,1.1200000000000001,0.95,null,null,null,null,null,null,null,null,null,null,null,null,null,25,1.141,331.98610000000002,7.1800000000000003E-2,2E-3,3.3E-3,2.4199999999999999E-2,1.8E-3,null,null,null,null,25,0.61270000000000002,248.5112,2.18E-2,6.9999999999999999E-4,2.5000000000000001E-3,8.5000000000000006E-3,5.9999999999999995E-4,null,null,null,null,"(g/veh-mile)",null,null,null,null,null,null,null,null,null,null,null,null,null,null,null,null,null,null,null,null,null,null,null,null,null,null,0.04,0.47099999999999997,0.65,null,null,null,null,"(percent savings)"]
[null,"Vehicle Operating Cost Parameters",null,null,null,null,null,null,null,"Non-HOV Lanes",null,"Alpha","Beta","(vphpl)",null,null,null,null,null,"Diversion of Pedestrians from Personal Vehicles",0.5,"assumption",null,null,null,"    HOT Lane Conversion",null,"HOTConv","Check AVOs & trips in sections 1B & 2D ",null,null,null,21,0.99700000000000022,0.99700000000000022,0.99700000000000022,0.99700000000000022,0.99700000000000022,0.99700000000000022,null,null,null,null,27,3.3099999999999997E-2,8.0299999999999996E-2,null,null,null,null,"Injury Accident",1.44,1.43,1.5,1.44,null,null,null,null,null,null,null,null,null,null,null,null,null,26,1.1286,327.27409999999998,7.1099999999999997E-2,1.9E-3,3.2000000000000002E-3,2.3199999999999998E-2,1.6999999999999999E-3,null,null,null,null,26,0.61439999999999995,247.79,2.1999999999999999E-2,5.9999999999999995E-4,2.3999999999999998E-3,8.3000000000000001E-3,5.9999999999999995E-4,null,null,null,null,null,null,null,null,null,null,null,null,null,null,null,null,"Source: Paterson, 1987",null,null,null,null,null,null,"Source: Botterill, 1996 and 1997",null,null,null,null,null,null,null,4.2000000000000003E-2,0.46800000000000003,0.623]
[null,null,null,null,null,null,null,null,null,null,"No Build",null,null,null,null,null,null,null,null,null,null,null,null,null,null,null,null,null,null,null,null,null,22,0.99800000000000022,0.99800000000000022,0.99800000000000022,0.99800000000000022,0.99800000000000022,0.99800000000000022,null,null,null,null,28,3.2800000000000003E-2,7.9399999999999998E-2,null,null,null,null,null,null,null,null,null,null,null,null,"COSTS OF NON-HIGHWAY ACCIDENTS",null,null,null,null,null,null,null,null,null,27,1.1164000000000001,322.62889999999999,7.0300000000000001E-2,1.8E-3,3.2000000000000002E-3,2.2200000000000001E-2,1.6999999999999999E-3,null,null,null,null,27,0.61609999999999998,247.07089999999999,2.2100000000000002E-2,5.9999999999999995E-4,2.3999999999999998E-3,8.0000000000000002E-3,5.9999999999999995E-4,null,null,null,null,"Mode","Year","CO","CO2","NOX","PM10","SOX","VOC","PM2.5",null,null,null,null,null,null,null,null,null,null,null,null,null,null,null,null,null,null,4.3999999999999997E-2,0.46600000000000003,0.59499999999999997,null,null,null,null,null,null,null,"Travel","Agency Costs"]
[null,null,"Average Fuel Price",null,null,null,null,null,null,null,"Build",null,null,null,null,null,null,null,"Value of Travel Time",null,null,null,null,null,null,"Transp Mgmt Systems (TMS)",null,null,"Please select a type of TMS project",null,null,null,23,0.99900000000000022,0.99900000000000022,0.99900000000000022,0.99900000000000022,0.99900000000000022,0.99900000000000022,null,null,null,null,29,3.2500000000000001E-2,7.85E-2,null,null,null,null,null,null,null,null,null,null,null,null,"($/million veh-mi)",null,null,null,null,null,null,null,null,null,28,1.1042000000000001,318.04969999999997,6.9599999999999995E-2,1.6999999999999999E-3,3.0999999999999999E-3,2.1299999999999999E-2,1.6000000000000001E-3,null,null,null,null,28,0.61780000000000002,246.35390000000001,2.2200000000000001E-2,5.9999999999999995E-4,2.3999999999999998E-3,7.7999999999999996E-3,5.9999999999999995E-4,null,null,null,null,"Light Rail",2021,0.30793468022032555,1241.7336277075171,0.38673042777796213,6.6299535089004408E-2,8.7287146098541088E-2,2.548694683471648E-2,6.433220275077213E-2,null,null,null,null,null,null,null,null,null,null,null,null,null,null,null,null,null,null,4.5999999999999999E-2,0.46300000000000002,0.56699999999999995,null,null,null,null,"TMS Strategy",null,null,"Time","Capital","O&M"]
[null,null,null,"Automobile (regular unleaded)",{"$f":"AVERAGE(3.227,4.39)*ValueUpdate","v":3.8084999999999996},"$/gal",null,8,null,null,null,null,null,null,null,null,null,null,null,"Adults",{"$f":"ValTimeAuto","v":16.200000000000003},"$/hr/per",null,null,null,"    Ramp Metering",null,"RM","Enter model data, if avail, in sections 2A & 2C",null,null,null,24,1.0000000000000002,1.0000000000000002,1.0000000000000002,1.0000000000000002,1.0000000000000002,1.0000000000000002,null,null,null,null,30,3.2199999999999999E-2,7.7600000000000002E-2,null,null,null,null,"NUMBER OF VEHICLES INVOLVED",null,null,null,null,null,null,null,null,null,null,null,null,null,null,null,null,null,29,1.0922000000000001,313.53550000000001,6.8900000000000003E-2,1.6999999999999999E-3,3.0999999999999999E-3,2.0400000000000001E-2,1.5E-3,null,null,null,null,29,0.61950000000000005,245.63890000000001,2.24E-2,5.9999999999999995E-4,2.3999999999999998E-3,7.6E-3,5.0000000000000001E-4,null,null,null,null,null,2022,0.30793468022032555,1241.7336277075171,0.38673042777796213,6.6299535089004408E-2,8.7287146098541088E-2,2.548694683471648E-2,6.433220275077213E-2,null,null,null,null,null,null,null,null,null,null,null,null,null,null,null,null,null,null,4.8000000000000001E-2,0.46,0.54,null,null,null,null,"Transit Vehicle Location (AVL)",null,null,0.15,0.02,0.08]
[null,null,null,"Truck (diesel)",{"$f":"AVERAGE(4.372,3.366)*ValueUpdate","v":3.8689999999999998},"$/gal",null,8,null,null,null,null,null,null,null,null,null,null,null,"Children",{"$f":"ValTimeAuto","v":16.200000000000003},"$/hr/per",null,null,null,"    Ramp Metering Signal Coord",null,"AM","Enter model data, if avail, in sections 2A & 2C",null,null,null,null,null,null,null,null,null,null,null,null,null,null,31,3.1699999999999999E-2,7.7799999999999994E-2,null,null,null,null,"(events/crash)",null,null,null,null,null,null,null,"Value","Pass Train","Light Rail","Bus","Freight Rail",null,null,null,null,null,30,1.0804,309.08539999999999,6.8199999999999997E-2,1.6000000000000001E-3,3.0999999999999999E-3,1.9599999999999999E-2,1.5E-3,null,null,null,null,30,0.62119999999999997,244.92609999999999,2.2499999999999999E-2,5.9999999999999995E-4,2.3999999999999998E-3,7.4000000000000003E-3,5.0000000000000001E-4,null,null,null,null,null,null,null,null,null,null,null,null,null,null,null,null,null,"FUEL CONSUMPTION",null,null,null,null,null,null,"NON-FUEL COSTS",null,null,null,null,null,null,0.05,0.45800000000000002,0.51200000000000001,null,null,null,null,"Transit Vehicle Signal Priority",null,null,0.1,"-","-"]
[null,null,null,null,null,null,null,null,"Sources: 16) Highway Capacity Manual, 17) NCHRP 387, 18) PeMS data",null,null,null,null,null,null,null,null,null,null,null,null,null,null,null,null,"    Incident Management",null,"IM","Enter model data, if avail, in sections 2A & 2C",null,null,null,null,null,null,null,null,null,null,null,null,null,null,32,3.1300000000000001E-2,7.8100000000000003E-2,null,null,null,null,null,null,null,null,null,null,null,null,"Cost",{"$f":"ROUND(BH12*BH26+BH13*BH27+BH14*BH28,-2)","v":1037400},{"$f":"ROUND(BI12*BI26+BI13*BI27+BI14*BI28,-2)","v":3528600},{"$f":"ROUND(BJ12*BJ26+BJ13*BJ27+BJ14*BJ28,-2)","v":1200600},{"$f":"ROUND(BK12*BK26+BK13*BK27+BK14*BK28,-2)","v":15860000},null,null,null,null,null,31,1.0681,304.8313,6.7900000000000002E-2,1.6000000000000001E-3,3.0000000000000001E-3,1.9E-2,1.4E-3,null,null,null,null,31,0.61260000000000003,241.3366,2.2200000000000001E-2,5.9999999999999995E-4,2.3999999999999998E-3,7.1000000000000004E-3,5.0000000000000001E-4,null,null,null,null,null,null,null,null,null,null,null,null,null,null,null,null,null,"(percent adjustment)",null,null,null,null,null,null,"(percent adjustment)",null,null,null,null,null,null,5.1999999999999998E-2,0.45500000000000002,0.48399999999999999,null,null,null,null,"Bus Rapid Transit (BRT)",null,null,0.28999999999999998,"-","-"]
[null,null,"Sales and Fuel Taxes",null,null,null,null,null,null,null,null,null,null,null,null,null,null,null,"Cycling Journey Quality - Facility Preference Factors as Function of Distance by Facility Class",null,null,null,null,null,null,"    Traveler Information",null,"TI","Enter model data, if avail, in sections 2A & 2C",null,null,"Source: California Department of Transportation, 2010-2012 California Household Travel",null,null,null,null,null,null,null,null,null,null,null,33,3.0800000000000001E-2,7.8399999999999997E-2,null,null,null,null,"Accident Type","Urban","Suburban","Rural","Average",null,null,null,null,null,null,null,null,null,null,null,null,null,32,1.0561,300.63569999999999,6.7500000000000004E-2,1.5E-3,3.0000000000000001E-3,1.84E-2,1.4E-3,null,null,null,null,32,0.60419999999999996,237.7997,2.1999999999999999E-2,5.0000000000000001E-4,2.3999999999999998E-3,6.7999999999999996E-3,5.0000000000000001E-4,null,null,null,null,"FREIGHT LOCOMOTIVE EMISSIONS FACTORS",null,null,null,null,null,null,null,null,null,null,null,null,null,null,null,null,null,null,null,null,null,null,null,null,null,null,5.3999999999999999E-2,0.45300000000000001,0.47599999999999998]
[null,null,null,"State Sales Tax (gasoline)",2.2499999999999999E-2,"%",null,9,null,null,null,null,null,null,null,null,null,null,null,"Class I",0.56999999999999995,"-",null,21,null,"    Arterial Signal Management",null,"ASM","Complete only sections 1A, 1E & 2C",null,null,"Survey, Final Report Appendix, June 2013",null,null,null,null,null,null,null,null,null,null,null,34,3.04E-2,7.8700000000000006E-2,null,null,null,null,"Fatal Accident",1.51,1.69,1.58,1.63,null,null,null,null,null,null,null,null,null,null,null,null,null,33,1.0441,296.49790000000002,6.7100000000000007E-2,1.4E-3,2.8999999999999998E-3,1.78E-2,1.2999999999999999E-3,null,null,null,null,33,0.59589999999999999,234.31469999999999,2.1700000000000001E-2,5.0000000000000001E-4,2.3E-3,6.4999999999999997E-3,5.0000000000000001E-4,null,null,null,null,"(g/gal)",null,null,null,null,null,null,null,null,null,null,null,null,"IRI","Auto","Truck",null,null,null,null,"IRI","Auto","Truck",null,null,null,null,5.6000000000000001E-2,0.45300000000000001,0.47399999999999998]
[null,null,null,"State Sales Tax (diesel)",0.13,"%",null,9,null,null,null,null,null,null,null,null,null,null,null,"Class II",0.49,"-",null,21,null,"    Transit Vehicle Location (AVL)",null,"AVL","Enter transit agency costs in section 1D",null,null,null,null,null,null,null,null,null,null,null,null,null,null,35,0.03,7.9000000000000001E-2,null,null,null,null,"Injury Accident",1.82,2.1,1.59,1.99,null,null,"Source: Combination of above two tables",null,null,null,null,null,null,null,null,null,null,34,1.0323,292.4171,6.6699999999999995E-2,1.4E-3,2.8999999999999998E-3,1.72E-2,1.2999999999999999E-3,null,null,null,null,34,0.5877,230.88069999999999,2.1499999999999998E-2,5.0000000000000001E-4,2.3E-3,6.3E-3,5.0000000000000001E-4,null,null,null,null,null,null,null,null,null,null,null,null,null,null,null,null,null,0,0.97099999999999997,0.96099999999999997,null,null,null,null,0,1,1,null,null,null,null,5.8000000000000003E-2,0.45300000000000001,0.47299999999999998,null,null,null,"Sources: FHWA ITS Deployment Analysis System (IDAS), California PATH"]
[null,null,null,"Average Local Sales Tax",5.0000000000000001E-3,"%",null,9,null,null,null,null,null,null,null,null,null,null,null,"Class III",0.92,"-",null,21,null,"    Transit Vehicle Signal Priority",null,"SigPriority","Check travel time in section 1D",null,null,null,null,null,null,null,null,null,null,null,null,null,null,36,2.98E-2,7.9399999999999998E-2,null,null,null,null,"PDO Accident",1.8,2.0299999999999998,1.59,1.96,null,null,null,null,null,null,null,null,null,null,null,null,null,35,1.0206,288.39240000000001,6.6299999999999998E-2,1.2999999999999999E-3,2.8999999999999998E-3,1.67E-2,1.1999999999999999E-3,null,null,null,null,35,0.5796,227.49700000000001,2.12E-2,5.0000000000000001E-4,2.2000000000000001E-3,6.0000000000000001E-3,4.0000000000000002E-4,null,null,null,null,"Mode","Year","CO","CO2","NOX","PM10","SOX","VOC","PM2.5",null,null,null,null,25,0.97699999999999998,0.96499999999999997,null,null,null,null,25,1,1,null,null,null,null,0.06,0.45300000000000001,0.47099999999999997]
[null,null,null,"Federal Fuel Excise Tax (gasoline)",0.183,"$/gal",null,9,null,null,null,null,null,null,null,null,null,null,null,"Class IV",{"$f":"CLASS2MRS","v":0.49},"-",null,21,null,"    Bus Rapid Transit (BRT)",null,"BRT","Enter free-flow bus lane speed in section 1B",null,null,null,null,null,null,null,null,null,null,null,null,null,null,37,2.9700000000000001E-2,7.9899999999999999E-2,null,null,null,null,null,null,null,null,null,null,null,null,null,null,null,null,null,null,null,null,null,null,36,1.0098,287.18729999999999,6.6100000000000006E-2,1.2999999999999999E-3,2.8E-3,1.6299999999999999E-2,1.1999999999999999E-3,null,null,null,null,36,0.57289999999999996,226.57159999999999,2.1100000000000001E-2,5.0000000000000001E-4,2.2000000000000001E-3,5.7999999999999996E-3,4.0000000000000002E-4,null,null,null,null,"Freight Rail",2020,26.62,10217,107.38,3.2,null,null,3.11,null,null,null,null,50,0.98,0.97,null,null,null,null,50,1,1,null,null,null,null,6.2E-2,0.45300000000000001,0.46899999999999997]
[null,null,null,"Federal Fuel Excise Tax (diesel)",0.24299999999999999,"$/gal",null,9,null,null,null,null,null,null,null,null,null,null,null,"Note: Class IV assumed to be the same as Class II",null,null,null,null,null,null,null,null,null,null,null,null,null,null,null,null,null,null,null,null,null,null,null,38,2.9600000000000001E-2,8.0299999999999996E-2,null,null,null,null,null,null,null,null,null,null,null,null,null,null,null,null,null,null,null,null,null,null,37,0.99909999999999999,285.98719999999997,6.5799999999999997E-2,1.2999999999999999E-3,2.8E-3,1.5900000000000001E-2,1.1999999999999999E-3,null,null,null,null,37,0.56640000000000001,225.6499,2.1000000000000001E-2,4.0000000000000002E-4,2.2000000000000001E-3,5.7000000000000002E-3,4.0000000000000002E-4,null,null,null,null,null,2030,26.62,10217,70.92,1.88,null,null,1.83,null,null,null,null,75,0.98199999999999998,0.97499999999999998,null,null,null,null,75,1,1,null,null,null,null,6.4000000000000001E-2,0.45300000000000001,0.46700000000000003]
[null,null,null,"State Fuel Excise Tax (gasoline)",0.51100000000000001,"$/gal",null,9,null,null,null,null,null,null,null,null,null,null,null,null,null,null,null,null,null,"    TMS Lookup Code",null,"TMSLookup",null,null,null,null,"AGE COHORTS FOR MORTALITY RISK REDUCTION",null,null,null,null,null,null,null,null,null,null,39,2.9499999999999998E-2,8.0799999999999997E-2,null,null,null,null,"DISTRIBUTION OF CRASH TYPES",null,null,null,null,null,null,null,"HIGHWAY-RAIL GRADE CROSSING INCIDENTS",null,null,null,null,null,null,null,null,null,38,0.98850000000000005,284.79219999999998,6.5600000000000006E-2,1.1999999999999999E-3,2.8E-3,1.55E-2,1.1000000000000001E-3,null,null,null,null,38,0.55989999999999995,224.7319,2.0799999999999999E-2,4.0000000000000002E-4,2.2000000000000001E-3,5.4999999999999997E-3,4.0000000000000002E-4,null,null,null,null,null,null,null,null,null,null,null,null,null,null,null,null,null,100,0.98499999999999999,0.98,null,null,null,null,100,1,1,null,null,null,null,6.6000000000000003E-2,0.45300000000000001,0.46600000000000003]
[null,null,null,"State Fuel Excise Tax (diesel)",0.38900000000000001,"$/gal",null,9,null,null,null,null,null,null,null,null,null,null,"Walking Journey Quality Values per Mile by Amentity",null,null,null,null,null,null,"    User Modified Inputs",null,"UserAdjInputs",null,null,null,null,"(percent of population)",null,null,null,null,null,null,null,null,null,null,40,2.93E-2,8.1199999999999994E-2,null,null,null,null,"(percent of crashes)",null,null,null,null,null,null,null,"(units in table)",null,null,null,null,null,null,null,null,null,39,0.97799999999999998,283.60210000000001,6.5299999999999997E-2,1.1999999999999999E-3,2.8E-3,1.52E-2,1.1000000000000001E-3,null,null,null,null,39,0.55349999999999999,223.8177,2.07E-2,4.0000000000000002E-4,2.2000000000000001E-3,5.3E-3,4.0000000000000002E-4,null,null,null,null,null,null,null,"Freight Rail Fuel Efficiency",480,"ton-miles/gal",null,null,null,null,null,null,null,125,0.99,0.98599999999999999,null,null,null,null,125,1,1,null,null,null,null,6.8000000000000005E-2,0.45300000000000001,0.46400000000000002]
[null,null,null,null,null,null,null,null,null,null,null,null,null,null,null,null,null,null,null,"Street Lighting ",0.11,"$/mi",null,22,null,null,null,null,null,null,null,null,null,null,null,null,null,null,null,null,null,null,null,41,2.9399999999999999E-2,8.1299999999999997E-2,null,null,null,null,null,null,null,null,null,null,null,null,null,null,null,null,null,null,null,null,null,null,40,0.9677,282.41699999999997,6.5100000000000005E-2,1.1999999999999999E-3,2.8E-3,1.4800000000000001E-2,1.1000000000000001E-3,null,null,null,null,40,0.54710000000000003,222.90719999999999,2.06E-2,4.0000000000000002E-4,2.2000000000000001E-3,5.1999999999999998E-3,4.0000000000000002E-4,null,null,null,null,null,null,null,"Fuel Burned at Idle",{"$f":"AVERAGE(3,5)","v":4},"gal/hr",null,null,null,null,null,null,null,150,0.995,0.99299999999999999,null,null,null,null,150,1.0169999999999999,1.018,null,null,null,null,7.0000000000000007E-2,0.45300000000000001,0.46200000000000002]
[null,null,"Fuel Cost Per Gallon (Exclude Taxes)",null,null,null,null,null,null,null,null,null,null,null,null,null,null,null,null,"Curb Level ",7.8E-2,"$/mi",null,22,null,null,null,null,null,null,null,null,null,null,null,"Urban",null,null,null,null,null,null,null,42,2.9399999999999999E-2,8.1299999999999997E-2,null,null,null,null,"Accident Type","Urban","Suburban","Rural","Average",null,null,null,"Value","Incident","Fatality","Injury",null,null,null,null,null,null,41,0.95420000000000005,282.63159999999999,6.4899999999999999E-2,1.1999999999999999E-3,2.8E-3,1.46E-2,1.1000000000000001E-3,null,null,null,null,41,0.53979999999999995,223.35849999999999,2.0500000000000001E-2,4.0000000000000002E-4,2.2000000000000001E-3,5.1000000000000004E-3,4.0000000000000002E-4,null,null,null,null,null,null,null,null,null,null,null,null,null,null,null,null,null,175,1,1,null,null,null,null,175,1.034,1.038,null,null,null,null,7.1999999999999995E-2,0.45300000000000001,0.46]
[null,null,null,"Automobile",{"$f":"ROUND((FuelPriceAuto/(1+SalesTaxGasState+SalesTaxLocal)-ExciseTaxGasFed-ExciseTaxGasState)/5,2)*5","v":3},"$/gal",null,null,null,null,null,null,null,null,null,null,null,null,null,"Crowding ",5.5E-2,"$/mi",null,22,null,null,null,null,null,null,null,null,"Mode","Age Cohort",null,"South","North","Rural",null,null,null,null,null,43,2.9499999999999998E-2,8.14E-2,null,null,null,null,"Fatal Accident",{"$f":"ROUND(553/123662,4)","v":4.4999999999999997E-3},{"$f":"ROUND(250/34195,4)","v":7.3000000000000001E-3},{"$f":"ROUND(559/27456,4)","v":2.0400000000000001E-2},{"$f":"ROUND(1362/185313,4)","v":7.3000000000000001E-3},null,26,null,"Total Events",847,80,462,null,null,null,null,null,null,42,0.94079999999999997,282.84640000000002,6.4699999999999994E-2,1.1000000000000001E-3,2.8E-3,1.44E-2,1E-3,null,null,null,null,42,0.53249999999999997,223.8107,2.0500000000000001E-2,4.0000000000000002E-4,2.2000000000000001E-3,5.0000000000000001E-3,4.0000000000000002E-4,null,null,null,null,null,null,null,null,null,null,null,null,null,null,null,null,null,200,1.0049999999999999,1.0069999999999999,null,null,null,null,200,1.052,1.0580000000000001,null,null,null,null,7.3999999999999996E-2,0.45300000000000001,0.45900000000000002]
[null,null,null,"Truck",{"$f":"ROUND((FuelPriceTruck/(1+SalesTaxDieselState)-ExciseTaxDieselFed-ExciseTaxDieselState)/5,2)*5","v":2.8000000000000003},"$/gal",null,null,null,null,null,null,null,null,null,null,null,null,null,"Pavement Evenness ",2.5999999999999999E-2,"$/mi",null,22,null,null,null,null,null,null,null,null,"Cycling","Age 16-64",null,0.54900000000000004,0.54900000000000004,0.44600000000000001,null,null,null,null,null,44,2.9499999999999998E-2,8.14E-2,null,null,null,null,"Injury Accident",{"$f":"ROUND(39513/123662,4)","v":0.31950000000000001},{"$f":"ROUND(11328/34195,4)","v":0.33129999999999998},{"$f":"ROUND(9886/27456,4)","v":0.36009999999999998},{"$f":"ROUND(60727/185313,4)","v":0.32769999999999999},null,26,null,"Avg per Incident",null,{"$f":"ROUND(BI50/BH50,4)","v":9.4500000000000001E-2},{"$f":"ROUND(BJ50/BH50,4)","v":0.54549999999999998},null,null,null,null,null,null,43,0.92769999999999997,283.06130000000002,6.4500000000000002E-2,1.1000000000000001E-3,2.8E-3,1.4200000000000001E-2,1E-3,null,null,null,null,43,0.52529999999999999,224.2638,2.0400000000000001E-2,4.0000000000000002E-4,2.2000000000000001E-3,5.0000000000000001E-3,4.0000000000000002E-4,null,null,null,"Sources: Argonne National Laboratory, Energy Systems, GREET Model, 2021",null,null,null,null,null,null,null,null,null,null,null,null,null,225,1.012,1.0169999999999999,null,null,null,null,225,1.07,1.0780000000000001,null,null,null,null,7.5999999999999998E-2,0.45300000000000001,0.45700000000000002]
[null,null,null,null,null,null,null,null,null,null,null,null,null,null,null,null,null,null,null,"Information Panels ",2.5999999999999999E-2,"$/mi",null,22,null,null,null,null,null,null,null,null,"Walking","Age 16-74",null,0.80500000000000005,0.80500000000000005,0.79900000000000004,null,null,null,null,null,45,2.9499999999999998E-2,8.14E-2,null,null,null,null,"PDO Accident",{"$f":"ROUND(83596/123662,4)","v":0.67600000000000005},{"$f":"ROUND(22617/34195,4)","v":0.66139999999999999},{"$f":"ROUND(17011/27456,4)","v":0.61960000000000004},{"$f":"ROUND(123224/185313,4)","v":0.66500000000000004},null,26,null,"Cost per Event",null,{"$f":"BH26","v":11800000},{"$f":"BH27","v":211900},null,null,null,null,null,null,44,0.91469999999999996,283.27640000000002,6.4299999999999996E-2,1.1000000000000001E-3,2.8E-3,1.4E-2,1E-3,null,null,null,null,44,0.51819999999999999,224.71789999999999,2.0299999999999999E-2,4.0000000000000002E-4,2.2000000000000001E-3,4.8999999999999998E-3,4.0000000000000002E-4,null,null,null,null,"FTA, National Transit Database, Fuel and Energy, 2019",null,null,null,null,null,null,null,null,null,null,null,null,250,1.0189999999999999,1.026,null,null,null,null,250,1.0880000000000001,1.097,null,null,null,null,7.8E-2,0.45300000000000001,0.45500000000000002]
[null,null,"Non-Fuel Cost Per Mile",null,null,null,null,null,null,null,null,null,null,null,null,null,null,null,null,"Benches ",1.7000000000000001E-2,"$/mi",null,22,null,null,null,null,null,null,null,null,null,null,null,null,null,null,null,null,null,null,null,46,2.9899999999999999E-2,7.8600000000000003E-2,null,null,null,null,null,null,null,null,null,null,null,null,null,null,null,null,null,null,null,null,null,null,45,0.90200000000000002,283.49169999999998,6.4100000000000004E-2,1.1000000000000001E-3,2.8E-3,1.38E-2,1E-3,null,null,null,null,45,0.51119999999999999,225.1728,2.0299999999999999E-2,4.0000000000000002E-4,2.2000000000000001E-3,4.7999999999999996E-3,4.0000000000000002E-4,null,null,null,null,"Energy Information Administration, Electricty Retail Sales, 2019",null,null,null,null,null,null,null,null,null,null,null,null,275,1.0269999999999999,1.036,null,null,null,null,275,1.105,1.117,null,null,null,null,0.08,0.45300000000000001,0.45300000000000001]
[null,null,null,"Automobile",0.35599999999999998,"$/mi",null,10,null,null,null,null,null,null,null,null,null,null,null,"Directional Signage ",1.7000000000000001E-2,"$/mi",null,22,null,null,null,null,null,null,null,null,null,null,null,null,null,null,null,null,null,null,null,47,3.0200000000000001E-2,7.5800000000000006E-2,null,null,null,null,null,null,null,null,null,null,null,null,null,null,null,null,null,null,null,null,null,null,46,0.89500000000000002,286.14699999999999,6.4299999999999996E-2,1.1000000000000001E-3,2.8E-3,1.38E-2,1E-3,null,null,null,null,46,0.5081,228.05520000000001,2.0299999999999999E-2,4.0000000000000002E-4,2.3E-3,4.7999999999999996E-3,4.0000000000000002E-4,null,null,null,null,"Association of American Railroads, Freight Rail & Preserving the Environment, April 2021",null,null,null,null,null,null,null,null,null,null,null,null,300,1.034,1.0469999999999999,null,null,null,null,300,1.123,1.137]
[null,null,null,"Truck",0.44,"$/mi",null,11,null,null,null,null,null,null,null,null,null,null,null,null,null,null,null,null,null,null,null,null,null,null,null,null,"AVERAGE DISTANCE PER ACTIVE TRANSPORTATION TRIP",null,null,null,null,null,null,null,null,null,null,48,3.0499999999999999E-2,7.3099999999999998E-2,null,null,null,"Source: California Department of Transportation,TASAS Unit, 2010 to 2013 average",null,null,null,null,null,null,null,"Source: FRA, Office of Safety Analysis, 5.10 - Hwy/Rail Incidents Summary",null,null,null,null,null,null,null,null,null,null,47,0.88819999999999999,288.82729999999998,6.4500000000000002E-2,1.1000000000000001E-3,2.8999999999999998E-3,1.38E-2,1E-3,null,null,null,null,47,0.50509999999999999,230.97450000000001,2.0400000000000001E-2,4.0000000000000002E-4,2.3E-3,4.7999999999999996E-3,4.0000000000000002E-4,null,null,null,null,"California Environmental Protection Agency / Air Resources Board, Technology Assessment: ",null,null,null,null,null,null,null,null,null,null,null,null,325,1.0409999999999999,1.0580000000000001,null,null,null,null,325,1.141,1.1559999999999999]
[null,null,null,null,null,null,null,null,null,null,null,null,null,null,null,null,null,null,"Health (Absenteeism Reduction)",null,null,null,null,null,null,null,null,null,null,null,null,null,"(miles/trip)",null,null,null,null,null,null,null,null,null,null,49,3.09E-2,7.0499999999999993E-2,null,null,null,null,null,null,null,null,null,null,null,null,"Table, California, Motor Vehicles, Public Crossings, Jan 2011 to Dec 2020",null,null,null,null,null,null,null,null,null,48,0.88139999999999996,291.5326,6.4699999999999994E-2,1.1000000000000001E-3,2.8999999999999998E-3,1.37E-2,1E-3,null,null,null,null,48,0.50209999999999999,233.93119999999999,2.0500000000000001E-2,4.0000000000000002E-4,2.3E-3,4.7999999999999996E-3,4.0000000000000002E-4,null,null,null,null,"Freight Locomotives, November 2016",null,null,null,null,null,null,null,null,null,null,null,null,350,1.05,1.07,null,null,null,null,350,1.159,1.1759999999999999,null,null,null,"Source: Fitzpatrick, Brewer, and Venglar, 2003"]
[null,null,"Idling Speed for Op. Costs and Emissions",null,5,"mph",null,null,null,null,null,null,null,null,null,null,null,null,null,"Average Absence of Employees",3.5,"days/yr",null,23,null,null,null,null,null,null,null,null,null,null,null,null,null,null,null,null,null,null,null,50,3.1199999999999999E-2,6.8000000000000005E-2,null,null,null,null,null,null,null,null,null,null,null,null,null,null,null,null,null,null,null,null,null,null,49,0.87460000000000004,294.26330000000002,6.4899999999999999E-2,1.1000000000000001E-3,2.8999999999999998E-3,1.37E-2,1E-3,null,null,null,null,49,0.49909999999999999,236.92570000000001,2.06E-2,4.0000000000000002E-4,2.3E-3,4.7999999999999996E-3,4.0000000000000002E-4,null,null,null,null,null,null,null,null,null,null,null,null,null,null,null,null,null,375,1.0609999999999999,1.085,null,null,null,null,375,1.1759999999999999,1.196]
[null,null,null,null,null,null,null,null,null,null,null,null,null,null,null,null,null,null,null,"Percentage Covered by Short-Term Sick Leave",0.66,"%",null,23,null,null,null,null,null,null,null,null,null,null,null,"Urban",null,null,null,null,null,null,null,51,3.1600000000000003E-2,7.0699999999999999E-2,null,null,null,null,null,null,null,null,null,null,null,null,null,null,null,null,null,null,null,null,null,null,50,0.8679,297.01949999999999,6.5199999999999994E-2,1.1000000000000001E-3,2.8999999999999998E-3,1.37E-2,1E-3,null,null,null,null,50,0.49609999999999999,239.95859999999999,2.07E-2,4.0000000000000002E-4,2.3999999999999998E-3,4.7999999999999996E-3,4.0000000000000002E-4,null,null,null,null,null,null,null,null,null,null,null,null,null,null,null,null,null,400,1.0720000000000001,1.1000000000000001,null,null,null,null,400,1.194,1.216]
[null,"Accident Cost Parameters",null,null,null,null,null,null,null,null,null,null,null,null,null,null,null,null,null,"Percentage of Sick Days Reduced When Active at Least 30 Minutes per Day",0.06,"%",null,24,null,null,null,null,null,null,null,null,"Mode","Age Cohort",null,"South","North","Rural",null,null,null,null,null,52,3.2099999999999997E-2,7.3499999999999996E-2,null,null,null,null,null,null,null,null,null,null,null,null,null,null,null,null,null,null,null,null,null,null,51,0.86080000000000001,300.5677,6.5500000000000003E-2,1.1000000000000001E-3,3.0000000000000001E-3,1.38E-2,1E-3,null,null,null,null,51,0.49370000000000003,243.83770000000001,2.0899999999999998E-2,4.0000000000000002E-4,2.3999999999999998E-3,4.8999999999999998E-3,4.0000000000000002E-4,null,null,null,null,null,null,null,null,null,null,null,null,null,null,null,null,null,425,1.0820000000000001,1.1140000000000001,null,null,null,null,425,1.212,1.2350000000000001]
[null,null,null,null,null,null,null,null,null,null,null,null,null,null,null,null,null,null,null,null,null,null,null,null,null,null,null,null,null,null,null,null,"Cycling","Adults",null,2.29,2.29,7.89,null,null,null,null,null,53,3.2500000000000001E-2,7.6399999999999996E-2,null,null,null,null,"COST OF HIGHWAY ACCIDENTS",null,null,null,null,null,null,null,"PASSING LANE ACCIDENT REDUCTION FACTORS",null,null,null,null,null,null,null,null,null,52,0.85370000000000001,304.1583,6.59E-2,1.1000000000000001E-3,3.0000000000000001E-3,1.3899999999999999E-2,1E-3,null,null,null,null,52,0.49130000000000001,247.77940000000001,2.1100000000000001E-2,4.0000000000000002E-4,2.3999999999999998E-3,4.8999999999999998E-3,4.0000000000000002E-4,null,null,null,null,null,null,null,null,null,null,null,null,null,null,null,null,null,450,1.093,1.129,null,null,null,null,450,1.23,1.2549999999999999]
[null,null,"Cost of a Fatality",null,{"$f":"ROUND(11600000*(1.1578/1.1385)*ValueUpdate,-5)","v":11800000},"$/event",null,12,null,null,null,null,null,null,null,null,null,null,"Health (Mortality Reduction)",null,null,null,null,null,null,null,null,null,null,null,null,null,null,"Children <16",null,0.99,0.99,0.78,null,null,null,null,null,54,3.3000000000000002E-2,7.9399999999999998E-2,null,null,null,null,"($/accident)",null,null,null,null,null,null,null,"(rate with passing lane/rate without passing lane)",null,null,null,null,null,null,null,null,null,53,0.84670000000000001,307.79180000000002,6.6299999999999998E-2,1.1000000000000001E-3,3.0000000000000001E-3,1.4E-2,1E-3,null,null,null,null,53,0.4889,251.78489999999999,2.1299999999999999E-2,4.0000000000000002E-4,2.5000000000000001E-3,5.0000000000000001E-3,4.0000000000000002E-4]
[null,null,null,null,null,null,null,null,null,null,null,null,null,null,null,null,null,null,null,"Percentage of Cyclists Aged 16-64",0.44600000000000001,"%",null,null,null,null,null,null,null,null,null,null,"Walking","Adults",null,0.68,0.68,0.6,null,null,null,null,null,55,3.3399999999999999E-2,8.2600000000000007E-2,null,null,null,null,null,null,null,null,null,null,null,null,null,null,null,null,null,null,null,null,null,null,54,0.83979999999999999,311.46870000000001,6.6699999999999995E-2,1.1000000000000001E-3,3.0999999999999999E-3,1.41E-2,1E-3,null,null,null,null,54,0.48659999999999998,255.8552,2.1499999999999998E-2,4.0000000000000002E-4,2.5000000000000001E-3,5.1000000000000004E-3,4.0000000000000002E-4]
[null,null,"Cost of an Injury",null,null,null,null,null,null,null,null,null,null,null,null,null,null,null,null,"Percentage of Pedestrians Aged 16-74",0.79900000000000004,"%",null,null,null,null,null,null,null,null,null,null,null,"Children <16",null,0.63,0.63,1.08,null,null,null,null,null,56,3.3700000000000001E-2,8.6499999999999994E-2,null,null,null,null,"Accident Type","Urban","Suburban","Rural","Average",null,null,null,"Minimum ADT","Fatality","Injury","PDO",null,null,null,null,null,null,55,0.83289999999999997,315.18950000000001,6.7100000000000007E-2,1.1000000000000001E-3,3.0999999999999999E-3,1.4200000000000001E-2,1E-3,null,null,null,null,55,0.48420000000000002,259.99119999999999,2.1700000000000001E-2,4.0000000000000002E-4,2.5999999999999999E-3,5.1000000000000004E-3,4.0000000000000002E-4,null,null,null,null,null,null,null,null,null,null,null,null,null,null,null,null,"Source: Texas Transportation Institute, 1994",null,null,null,null,null,null,"Source: ARRB Research Board TR VOC Model"]
[null,null,null,"Level A (Severe)",{"$f":"ROUND(521300*(1.1578/1.1244)*ValueUpdate,-2)","v":536800},"$/event",null,12,null,null,null,null,null,null,null,null,null,null,null,null,null,null,null,null,null,null,null,null,null,null,null,null,null,null,null,null,null,null,null,null,null,null,null,57,3.4000000000000002E-2,9.0700000000000003E-2,null,null,null,null,"Fatal Accident",{"$f":"ROUND(FatValue*AZ26+(InjAValue*AZ$12+InjBValue*AZ$13+InjCValue*AZ$14)*AZ33+NoInjValue*AZ41,-5)","v":13000000},{"$f":"ROUND(FatValue*BA26+(InjAValue*BA$12+InjBValue*BA$13+InjCValue*BA$14)*BA33+NoInjValue*BA41,-5)","v":12800000},{"$f":"ROUND(FatValue*BB26+(InjAValue*BB$12+InjBValue*BB$13+InjCValue*BB$14)*BB33+NoInjValue*BB41,-5)","v":13600000},{"$f":"ROUND(FatValue*BC26+(InjAValue*BC$12+InjBValue*BC$13+InjCValue*BC$14)*BC33+NoInjValue*BC41,-5)","v":13200000},null,null,null,0,0.25,0.69399999999999995,0.92600000000000005,null,null,null,null,null,null,56,0.81669999999999998,317.38749999999999,6.6799999999999998E-2,1.1000000000000001E-3,3.0999999999999999E-3,1.43E-2,1E-3,null,null,null,null,56,0.47720000000000001,262.64600000000002,2.18E-2,4.0000000000000002E-4,2.5999999999999999E-3,5.1999999999999998E-3,4.0000000000000002E-4]
[null,null,null,"Level B (Moderate)",{"$f":"ROUND(142000*(1.1578/1.1244)*ValueUpdate,-2)","v":146200},"$/event",null,12,null,null,null,null,null,null,null,null,null,null,null,"Percentage Reduction in Mortality per 365 Annual Cycling Miles",4.4999999999999998E-2,"%",null,20,null,null,null,null,null,null,null,null,null,null,null,null,null,null,null,null,null,null,null,58,3.4299999999999997E-2,9.5000000000000001E-2,null,null,null,null,"Injury Accident",{"$f":"ROUND((InjAValue*AZ$12+InjBValue*AZ$13+InjCValue*AZ$14)*AZ34+NoInjValue*AZ42,-2)","v":173000},{"$f":"ROUND((InjAValue*BA$12+InjBValue*BA$13+InjCValue*BA$14)*BA34+NoInjValue*BA42,-2)","v":172600},{"$f":"ROUND((InjAValue*BB$12+InjBValue*BB$13+InjCValue*BB$14)*BB34+NoInjValue*BB42,-2)","v":179300},{"$f":"ROUND((InjAValue*BC$12+InjBValue*BC$13+InjCValue*BC$14)*BC34+NoInjValue*BC42,-2)","v":173400},null,null,null,5000,0.192,0.80300000000000005,0.96499999999999997,null,null,null,null,null,null,57,0.80079999999999996,319.60090000000002,6.6600000000000006E-2,1.1000000000000001E-3,3.2000000000000002E-3,1.44E-2,1E-3,null,null,null,null,57,0.4703,265.3279,2.1999999999999999E-2,4.0000000000000002E-4,2.5999999999999999E-3,5.3E-3,4.0000000000000002E-4]
[null,null,null,"Level C (Minor)",{"$f":"ROUND(72500*(1.1578/1.1244)*ValueUpdate,-2)","v":74700},"$/event",null,12,null,null,null,null,null,null,null,null,null,null,null,"Percentage Reduction in Mortality per 365 Annual Walking Miles",0.09,"%",null,20,null,null,null,null,null,null,null,null,"TRIP PURPOSE FOR ACTIVE TRANSPORTATION TRIPS",null,null,null,null,null,null,null,null,null,null,59,3.4500000000000003E-2,9.9500000000000005E-2,null,null,null,null,"PDO Accident",{"$f":"ROUND(NoInjValue*AZ43*2,-2)","v":10400},{"$f":"ROUND(NoInjValue*BA43*2,-2)","v":11800},{"$f":"ROUND(NoInjValue*BB43*2,-2)","v":9200},{"$f":"ROUND(NoInjValue*BC43*2,-2)","v":11400},null,null,null,10000,0.84,0.57699999999999996,0.97799999999999998,null,null,null,null,null,null,58,0.78520000000000001,321.8297,6.6400000000000001E-2,1.1000000000000001E-3,3.2000000000000002E-3,1.44E-2,1.1000000000000001E-3,null,null,null,null,58,0.46350000000000002,268.03719999999998,2.2200000000000001E-2,4.0000000000000002E-4,2.5999999999999999E-3,5.4000000000000003E-3,4.0000000000000002E-4]
[null,null,null,null,null,null,null,null,null,null,null,null,null,null,null,null,null,null,null,null,null,null,null,null,null,null,null,null,null,null,null,null,"(percent of trips)",null,null,null,null,null,null,null,null,null,null,60,3.4799999999999998E-2,0.1043,null,null,null,null,"All Types",{"$f":"ROUND(AZ50*AZ64+AZ51*AZ65+AZ52*AZ66,-2)","v":120800},{"$f":"ROUND(BA50*BA64+BA51*BA65+BA52*BA66,-2)","v":158400},{"$f":"ROUND(BB50*BB64+BB51*BB65+BB52*BB66,-2)","v":347700},{"$f":"ROUND(BC50*BC64+BC51*BC65+BC52*BC66,-2)","v":160800},null,null,null,null,null,null,null,null,null,null,null,null,null,59,0.76990000000000003,324.07400000000001,6.6199999999999995E-2,1.1999999999999999E-3,3.2000000000000002E-3,1.4500000000000001E-2,1.1000000000000001E-3,null,null,null,null,59,0.45679999999999998,270.77409999999998,2.23E-2,4.0000000000000002E-4,2.7000000000000001E-3,5.4999999999999997E-3,4.0000000000000002E-4]
[null,null,"Cost of Property Damage",null,{"$f":"ROUND(2440*(1.1578/0.9622)*ValueUpdate,-2)","v":2900},"$/event",null,13,null,null,null,null,null,null,null,null,null,null,null,"Morality Rate - All Causes (Aged 20-64)",252,"#/100,000 people",null,25,null,null,null,null,null,null,null,null,null,null,null,null,null,null,null,null,null,null,null,61,3.5099999999999999E-2,0.1062,null,null,null,null,null,null,null,null,null,null,null,null,null,null,null,null,null,null,null,null,null,null,60,0.75490000000000002,326.334,6.6000000000000003E-2,1.1999999999999999E-3,3.2000000000000002E-3,1.46E-2,1.1000000000000001E-3,null,null,null,null,60,0.45019999999999999,273.53899999999999,2.2499999999999999E-2,4.0000000000000002E-4,2.7000000000000001E-3,5.7000000000000002E-3,4.0000000000000002E-4]
[null,null,null,null,null,null,null,null,null,null,null,null,null,null,null,null,null,null,null,"Morality Rate - All Causes (Aged 20-74)",392,"#/100,000 people",null,25,null,null,null,null,null,null,null,null,null,null,null,"Urban",null,null,null,null,null,null,null,62,3.5299999999999998E-2,0.10829999999999999,null,null,null,null,null,null,null,null,null,null,null,null,null,null,null,null,null,null,null,null,null,null,61,0.75190000000000001,328.7321,6.7199999999999996E-2,1.1999999999999999E-3,3.2000000000000002E-3,1.5100000000000001E-2,1.1000000000000001E-3,null,null,null,null,61,0.44550000000000001,275.30180000000001,2.2700000000000001E-2,5.0000000000000001E-4,2.7000000000000001E-3,5.7999999999999996E-3,4.0000000000000002E-4]
[null,null,"Cost of Highway Accident",null,null,null,null,null,null,null,null,null,null,null,null,null,null,null,null,null,null,null,null,null,null,null,null,null,null,null,null,null,"Mode","Trip Purpose",null,"South","North","Rural",null,null,null,null,null,63,3.56E-2,0.1104,null,null,null,"Source: Combination of above four tables",null,null,null,null,null,null,null,"Source: Taylor and Jain, 1991",null,null,null,null,null,null,null,null,null,null,62,0.749,331.14769999999999,6.8400000000000002E-2,1.1999999999999999E-3,3.3E-3,1.5599999999999999E-2,1.1000000000000001E-3,null,null,null,null,62,0.44080000000000003,277.07600000000002,2.29E-2,5.0000000000000001E-4,2.7000000000000001E-3,5.8999999999999999E-3,4.0000000000000002E-4]
[null,null,null,"Fatal Accident",{"$f":"IF(ProjLoc=3,HwyFatCostR,HwyFatCostU)","v":13000000},"$/accident",null,null,null,null,null,null,null,null,null,null,null,null,null,null,null,null,null,null,null,null,null,null,null,null,null,null,"Cycling","Commuting",null,0.186,0.186,9.9000000000000005E-2,null,null,null,null,null,64,3.5799999999999998E-2,0.1125,null,null,null,null,null,null,null,null,null,null,null,null,null,null,null,null,null,null,null,null,null,null,63,0.746,333.58120000000002,6.9699999999999998E-2,1.2999999999999999E-3,3.3E-3,1.6E-2,1.1999999999999999E-3,null,null,null,null,63,0.43619999999999998,278.86160000000001,2.3099999999999999E-2,5.0000000000000001E-4,2.8E-3,6.1000000000000004E-3,4.0000000000000002E-4]
[null,null,null,"Injury Accident",{"$f":"IF(ProjLoc=3,HwyInjCostR,HwyInjCostU)","v":173000},"$/accident",null,null,null,null,null,null,null,null,null,null,null,"Sources: 19) 2017 National Household Travel Survey, 20) 2017 WHO HEAT Model Documentation, 21) Hood et al., 2011, 22) Heuman et al., 2005, ","Sources: 19) 2017 National Household Travel Survey, 20) 2017 WHO HEAT Model Documentation, 21) Hood et al., 2011, 22) Heuman et al., 2005, ","Sources: 19) 2017 National Household Travel Survey, 20) 2017 WHO HEAT Model Documentation, 21) Hood et al., 2011, 22) Heuman et al., 2005, ",null,null,null,null,null,null,null,null,null,null,null,null,null,"Recreation",null,0.46100000000000002,0.46100000000000002,0.622,null,null,null,null,null,65,3.61E-2,0.11459999999999999,null,null,null,null,null,null,null,null,null,null,null,null,null,null,null,null,null,null,null,null,null,null,64,0.74299999999999999,336.03250000000003,7.0999999999999994E-2,1.2999999999999999E-3,3.3E-3,1.6500000000000001E-2,1.1999999999999999E-3,null,null,null,null,64,0.43159999999999998,280.65870000000001,2.3300000000000001E-2,5.0000000000000001E-4,2.8E-3,6.1999999999999998E-3,5.0000000000000001E-4]
[null,null,null,"PDO Accident",{"$f":"IF(ProjLoc=3,HwyPDOCostR,HwyPDOCostU)","v":10400},"$/accident",null,null,null,null,null,null,null,null,null,null,null,"23) Maestas et al., 2018, 24) World Health Organization, 2003, 25) California Health and Human Services Agency, 2019 Final Deaths","23) Maestas et al., 2018, 24) World Health Organization, 2003, 25) California Health and Human Services Agency, 2019 Final Deaths","23) Maestas et al., 2018, 24) World Health Organization, 2003, 25) California Health and Human Services Agency, 2019 Final Deaths",null,null,null,null,null,null,null,null,null,null,null,null,null,"Other Destination",null,0.35299999999999998,0.35299999999999998,0.27900000000000003,null,null,null,null,null,66,3.61E-2,0.1138,null,null,null,null,null,null,null,null,null,null,null,null,null,null,null,null,null,null,null,null,null,null,65,0.74009999999999998,338.5018,7.2300000000000003E-2,1.2999999999999999E-3,3.3E-3,1.7100000000000001E-2,1.1999999999999999E-3,null,null,null,null,65,0.42709999999999998,282.46730000000002,2.35E-2,5.0000000000000001E-4,2.8E-3,6.4000000000000003E-3,5.0000000000000001E-4]
[null,null,null,"Average Cost",{"$f":"IF(ProjLoc=3,AvgAccCostR,AvgAccCostU)","v":120800},"$/accident",null,null,null,null,null,null,null,null,null,null,null,null,null,null,null,null,null,null,null,null,null,null,null,null,null,null,"Walking","Commuting",null,5.1999999999999998E-2,5.1999999999999998E-2,6.2E-2,null,null,null,null,null,67,3.6200000000000003E-2,0.113,null,null,null,null,null,null,null,null,null,null,null,null,null,null,null,null,null,null,null,null,null,null,66,0.73799999999999999,339.07780000000002,7.2800000000000004E-2,1.4E-3,3.3999999999999998E-3,1.72E-2,1.1999999999999999E-3,null,null,null,null,66,0.42499999999999999,283.24509999999998,2.3599999999999999E-2,5.0000000000000001E-4,2.8E-3,6.4999999999999997E-3,5.0000000000000001E-4]
[null,null,null,null,null,null,null,null,null,null,null,null,null,null,null,null,null,null,null,null,null,null,null,null,null,null,null,null,null,null,null,null,null,"Recreation",null,0.55000000000000004,0.55000000000000004,0.63500000000000001,null,null,null,null,null,68,3.6299999999999999E-2,0.1123,null,null,null,null,null,null,null,null,null,null,null,null,null,null,null,null,null,null,null,null,null,null,67,0.7359,339.65469999999999,7.3200000000000001E-2,1.4E-3,3.3999999999999998E-3,1.7299999999999999E-2,1.2999999999999999E-3,null,null,null,null,67,0.4229,284.02499999999998,2.3699999999999999E-2,5.0000000000000001E-4,2.8E-3,6.6E-3,5.0000000000000001E-4]
[null,null,"Statewide Highway Accident Rates",null,null,null,null,null,null,null,null,null,null,null,null,null,null,null,null,null,null,null,null,null,null,null,null,null,null,null,null,null,null,"Other Destination",null,0.39800000000000002,0.39800000000000002,0.30299999999999999,null,null,null,null,null,69,3.6400000000000002E-2,0.1115,null,null,null,null,null,null,null,null,null,null,null,null,null,null,null,null,null,null,null,null,null,null,68,0.73380000000000001,340.23259999999999,7.3700000000000002E-2,1.4E-3,3.3999999999999998E-3,1.7500000000000002E-2,1.2999999999999999E-3,null,null,null,null,68,0.42080000000000001,284.80700000000002,2.3800000000000002E-2,5.0000000000000001E-4,2.8E-3,6.7000000000000002E-3,5.0000000000000001E-4]
[null,null,null,"Fatal Accident",{"$f":"ROUND(1105/178281.76,3)","v":6.0000000000000001E-3},"per mil veh-mi",null,14,null,null,null,null,null,null,null,null,null,null,null,null,null,null,null,null,null,null,null,null,null,null,null,null,null,null,null,null,null,null,null,null,null,null,null,70,3.6499999999999998E-2,0.11070000000000001,null,null,null,null,null,null,null,null,null,null,null,null,null,null,null,null,null,null,null,null,null,null,69,0.73180000000000001,340.81150000000002,7.4200000000000002E-2,1.4E-3,3.3999999999999998E-3,1.7600000000000001E-2,1.2999999999999999E-3,null,null,null,null,69,0.41870000000000002,285.59120000000001,2.3900000000000001E-2,5.0000000000000001E-4,2.8E-3,6.7999999999999996E-3,5.0000000000000001E-4]
[null,null,null,"Injury Accident",{"$f":"ROUND(51378/178281.76,2)","v":0.28999999999999998},"per mil veh-mi",null,14,null,null,null,null,null,null,null,null,null,null,null,null,null,null,null,null,null,null,null,null,null,null,null,null,null,null,null,null,null,null,null,null,null,null,null,null,null,null,null,null,null,null,null,null,null,null,null,null,null,null,null,null,null,null,null,null,null,null,null,null,70,0.72970000000000002,341.39139999999998,7.46E-2,1.4E-3,3.3999999999999998E-3,1.78E-2,1.2999999999999999E-3,null,null,null,null,70,0.41660000000000003,286.3775,2.41E-2,5.0000000000000001E-4,2.8E-3,6.8999999999999999E-3,5.0000000000000001E-4]
[null,null,null,"PDO Accident",{"$f":"ROUND(98338/178281.76,2)","v":0.55000000000000004},"per mil veh-mi",null,14,null,null,null,null,null,null,null,null,null,null,null,null,null,null,null,null,null,null,null,null,null,null,null,"Source: 2017 National Household Travel Survey, California Sample",null,null,null,null,null,null,null,null,null,null,"* Includes motorcycles & motorhomes"]
[null,null,null,"Non-Freeway",1.05,"per mil veh-mi",null,15,null,null,null,null,null,null,null,null,null,null,null,null,null,null,null,null,null,null,null,null,null,null,null,null,null,null,null,null,null,null,null,null,null,null,"Note: Five mph is best estimate for idling",null,null,null,null,null,null,null,null,null,null,null,null,null,null,null,null,null,null,null,null,null,null,null,null,"Truck",0,1.3149999999999999,11.029400000000001,1.0065,1E-4,1E-4,7.0300000000000001E-2,1E-4,null,null,null,"Truck",0,0.66590000000000005,5.1022999999999996,0.76559999999999995,0,1E-4,2.0299999999999999E-2,0]
[null,null,null,null,null,null,null,null,null,null,null,null,null,null,null,null,null,null,null,null,null,null,null,null,null,null,null,null,null,null,null,null,null,null,null,null,null,null,null,null,null,null,null,null,null,null,null,null,null,null,null,null,null,null,null,null,null,null,null,null,null,null,null,null,null,null,null,null,5,2.3136000000000001,1696.8925999999999,2.1959,4.82E-2,1.6400000000000001E-2,0.30649999999999999,4.5999999999999999E-2,null,null,null,null,5,0.65159999999999996,865.16229999999996,0.42770000000000002,0.01,8.3000000000000001E-3,4.7800000000000002E-2,9.4999999999999998E-3]
[null,null,null,null,null,null,null,null,null,null,null,null,null,null,null,null,null,null,null,null,null,null,null,null,null,null,null,null,null,null,null,null,null,null,null,null,null,null,null,null,null,null,"Source: California Air Resources Board,",null,null,null,null,null,null,null,null,null,null,null,null,null,null,null,null,null,null,null,null,null,null,null,null,null,6,2.2435999999999998,1668.3322000000001,2.2233000000000001,4.6399999999999997E-2,1.61E-2,0.28810000000000002,4.4299999999999999E-2,null,null,null,null,6,0.66249999999999998,866.04849999999999,0.50160000000000005,9.7000000000000003E-3,8.3000000000000001E-3,4.65E-2,9.1999999999999998E-3]
[null,"Sources: 1) Office of Management and Budget (OMB), 2) Review of OMB and State",null,null,null,null,null,null,null,null,null,null,null,null,null,null,null,null,null,null,null,null,null,null,null,null,null,null,null,null,null,null,null,null,null,null,null,null,null,null,null,null,"EMFAC2021, 2024 & 2044 average",null,null,null,null,null,null,null,null,null,null,null,null,null,null,null,null,null,null,null,null,null,null,null,null,null,7,2.1757,1640.2524000000001,2.2511000000000001,4.4699999999999997E-2,1.5699999999999999E-2,0.27079999999999999,4.2599999999999999E-2,null,null,null,null,7,0.67369999999999997,866.9357,0.58819999999999995,9.4000000000000004E-3,8.2000000000000007E-3,4.53E-2,8.9999999999999993E-3]
[null,"Treasurer's Office data, 3) Bureau of Labor Statistics (BLS) OES, 4) BLS Employment",null,null,null,null,null,null,null,null,null,null,null,null,null,null,null,null,null,null,null,null,null,null,null,null,null,null,null,null,null,null,null,null,null,null,null,null,null,null,null,null,null,null,null,null,null,null,null,null,null,null,null,null,null,null,null,null,null,null,null,null,null,null,null,null,null,null,8,2.1097999999999999,1612.6452999999999,2.2791999999999999,4.2999999999999997E-2,1.54E-2,0.25459999999999999,4.1000000000000002E-2,null,null,null,null,8,0.68500000000000005,867.82380000000001,0.68969999999999998,9.1000000000000004E-3,8.2000000000000007E-3,4.41E-2,8.6999999999999994E-3]
[null,"Cost Index, 5) USDOT Department Guidance, 6) California Department of Transportation",null,null,null,null,null,null,null,null,null,null,null,null,null,null,null,null,null,null,null,null,null,null,null,null,null,null,null,null,null,null,null,null,null,null,null,null,null,null,null,null,null,null,null,null,null,null,null,null,null,null,null,null,null,null,null,null,null,null,null,null,null,null,null,null,null,null,9,2.0459999999999998,1585.5029,2.3075999999999999,4.1399999999999999E-2,1.5100000000000001E-2,0.23930000000000001,3.95E-2,null,null,null,null,9,0.6966,868.71280000000002,0.80879999999999996,8.8000000000000005E-3,8.2000000000000007E-3,4.2999999999999997E-2,8.3999999999999995E-3]
[null,"TSI and Traffic Operations, 7) IDAS model, 8) AAA Daily Fuel Gauge Report, 9) California",null,null,null,null,null,null,null,null,null,null,null,null,null,null,null,null,null,null,null,null,null,null,null,null,null,null,null,null,null,null,null,null,null,null,null,null,null,null,null,null,null,null,null,null,null,null,null,null,null,null,null,null,null,null,null,null,null,null,null,null,null,null,null,null,null,null,10,1.9841,1558.8172,2.3365,3.9800000000000002E-2,1.4800000000000001E-2,0.22489999999999999,3.7999999999999999E-2,null,null,null,null,10,0.70830000000000004,869.60270000000003,0.94840000000000002,8.6E-3,8.0999999999999996E-3,4.19E-2,8.2000000000000007E-3]
[null,"Board of Equalization, 10) AAA Your Driving Costs, 11) American Transportation Research",null,null,null,null,null,null,null,null,null,null,null,null,null,null,null,null,null,null,null,null,null,null,null,null,null,null,null,null,null,null,null,null,null,null,null,null,null,null,null,null,null,null,null,null,null,null,null,null,null,null,null,null,null,null,null,null,null,null,null,null,null,null,null,null,null,null,11,1.8688,1490.2475999999999,2.1839,3.7699999999999997E-2,1.41E-2,0.21110000000000001,3.5999999999999997E-2,null,null,null,null,11,0.66,836.53880000000004,0.88519999999999999,8.3000000000000001E-3,7.7999999999999996E-3,3.9800000000000002E-2,7.9000000000000008E-3]
[null,"Institute, 12) USDOT VSL, 13) NHTSA, 14) TASAS summary 2013, 15) TASAS summary 2009",null,null,null,null,null,null,null,null,null,null,null,null,null,null,null,null,null,null,null,null,null,null,null,null,null,null,null,null,null,null,null,null,null,null,null,null,null,null,null,null,null,null,null,null,null,null,null,null,null,null,null,null,null,null,null,null,null,null,null,null,null,null,null,null,null,null,12,1.7601,1424.6943000000001,2.0413000000000001,3.5700000000000003E-2,1.35E-2,0.1981,3.4099999999999998E-2,null,null,null,null,12,0.61499999999999999,804.73209999999995,0.82609999999999995,8.0000000000000002E-3,7.4999999999999997E-3,3.78E-2,7.7000000000000002E-3]
[null,null,null,null,null,null,null,null,null,null,null,null,null,null,null,null,null,null,null,null,null,null,null,null,null,null,null,null,null,null,null,null,null,null,null,null,null,null,null,null,null,null,null,null,null,null,null,null,null,null,null,null,null,null,null,null,null,null,null,null,null,null,null,null,null,null,null,null,13,1.6577999999999999,1362.0246,1.9079999999999999,3.3799999999999997E-2,1.29E-2,0.186,3.2300000000000002E-2,null,null,null,null,13,0.57310000000000005,774.13480000000004,0.77100000000000002,7.7999999999999996E-3,7.3000000000000001E-3,3.5900000000000001E-2,7.4000000000000003E-3]
[null,null,null,null,null,null,null,null,null,null,null,null,null,null,null,null,null,null,null,null,null,null,null,null,null,null,null,null,null,null,null,null,null,null,null,null,null,null,null,null,null,null,null,null,null,null,null,null,null,null,null,null,null,null,null,null,null,null,null,null,null,null,null,null,null,null,null,null,14,1.5615000000000001,1302.1116,1.7834000000000001,3.2000000000000001E-2,1.24E-2,0.17460000000000001,3.0599999999999999E-2,null,null,null,null,14,0.53400000000000003,744.70079999999996,0.71960000000000002,7.6E-3,7.0000000000000001E-3,3.4099999999999998E-2,7.1999999999999998E-3]
[null,null,null,null,null,null,null,null,null,null,null,null,null,null,null,null,null,null,null,null,null,null,null,null,null,null,null,null,null,null,null,null,null,null,null,null,null,null,null,null,null,null,null,null,null,null,null,null,null,null,null,null,null,null,null,null,null,null,null,null,null,null,null,null,null,null,null,null,15,1.4706999999999999,1244.8340000000001,1.667,3.0300000000000001E-2,1.18E-2,0.16389999999999999,2.9000000000000001E-2,null,null,null,null,15,0.49759999999999999,716.38599999999997,0.67159999999999997,7.3000000000000001E-3,6.7000000000000002E-3,3.2399999999999998E-2,7.0000000000000001E-3]
[null,null,null,null,null,null,null,null,null,null,null,null,null,null,null,null,null,null,null,null,null,null,null,null,null,null,null,null,null,null,null,null,null,null,null,null,null,null,null,null,null,null,null,null,null,null,null,null,null,null,null,null,null,null,null,null,null,null,null,null,null,null,null,null,null,null,null,null,16,1.3769,1231.6228000000001,1.6476999999999999,2.8199999999999999E-2,1.17E-2,0.1517,2.69E-2,null,null,null,null,16,0.45839999999999997,707.56700000000001,0.67120000000000002,6.8999999999999999E-3,6.7000000000000002E-3,3.0300000000000001E-2,6.6E-3]
[null,null,null,null,null,null,null,null,null,null,null,null,null,null,null,null,null,null,null,null,null,null,null,null,null,null,null,null,null,null,null,null,null,null,null,null,null,null,null,null,null,null,null,null,null,null,null,null,null,null,null,null,null,null,null,null,null,null,null,null,null,null,null,null,null,null,null,null,17,1.2889999999999999,1218.5517,1.6286,2.6200000000000001E-2,1.1599999999999999E-2,0.1404,2.5100000000000001E-2,null,null,null,null,17,0.42220000000000002,698.85659999999996,0.67090000000000005,6.4999999999999997E-3,6.6E-3,2.8299999999999999E-2,6.1999999999999998E-3]
[null,null,null,null,null,null,null,null,null,null,null,null,null,null,null,null,null,null,null,null,null,null,null,null,null,null,null,null,null,null,null,null,null,null,null,null,null,null,null,null,null,null,null,null,null,null,null,null,null,null,null,null,null,null,null,null,null,null,null,null,null,null,null,null,null,null,null,null,18,1.2067000000000001,1205.6194,1.6096999999999999,2.4400000000000002E-2,1.15E-2,0.13,2.3300000000000001E-2,null,null,null,null,18,0.38900000000000001,690.25340000000006,0.67059999999999997,6.1000000000000004E-3,6.4999999999999997E-3,2.6499999999999999E-2,5.7999999999999996E-3]
[null,null,null,null,null,null,null,null,null,null,null,null,null,null,null,null,null,null,null,null,null,null,null,null,null,null,null,null,null,null,null,null,null,null,null,null,null,null,null,null,null,null,null,null,null,null,null,null,null,null,null,null,null,null,null,null,null,null,null,null,null,null,null,null,null,null,null,null,19,1.1296999999999999,1192.8244,1.591,2.2700000000000001E-2,1.1299999999999999E-2,0.12039999999999999,2.1700000000000001E-2,null,null,null,null,19,0.35830000000000001,681.75620000000004,0.67030000000000001,5.7000000000000002E-3,6.4000000000000003E-3,2.47E-2,5.4999999999999997E-3]
[null,null,null,null,null,null,null,null,null,null,null,null,null,null,null,null,null,null,null,null,null,null,null,null,null,null,null,null,null,null,null,null,null,null,null,null,null,null,null,null,null,null,null,null,null,null,null,null,null,null,null,null,null,null,null,null,null,null,null,null,null,null,null,null,null,null,null,null,20,1.0576000000000001,1180.1650999999999,1.5726,2.1100000000000001E-2,1.12E-2,0.1114,2.01E-2,null,null,null,null,20,0.33,673.36350000000004,0.66990000000000005,5.4000000000000003E-3,6.3E-3,2.3099999999999999E-2,5.1999999999999998E-3]
[null,null,null,null,null,null,null,null,null,null,null,null,null,null,null,null,null,null,null,null,null,null,null,null,null,null,null,null,null,null,null,null,null,null,null,null,null,null,null,null,null,null,null,null,null,null,null,null,null,null,null,null,null,null,null,null,null,null,null,null,null,null,null,null,null,null,null,null,21,1.0154000000000001,1138.1322,1.5314000000000001,2.0799999999999999E-2,1.0800000000000001E-2,0.1089,1.9900000000000001E-2,null,null,null,null,21,0.31569999999999998,654.89210000000003,0.63229999999999997,5.4000000000000003E-3,6.1999999999999998E-3,2.3E-2,5.1000000000000004E-3]
[null,null,null,null,null,null,null,null,null,null,null,null,null,null,null,null,null,null,null,null,null,null,null,null,null,null,null,null,null,null,null,null,null,null,null,null,null,null,null,null,null,null,null,null,null,null,null,null,null,null,null,null,null,null,null,null,null,null,null,null,null,null,null,null,null,null,null,null,22,0.97489999999999999,1097.5963999999999,1.4913000000000001,2.06E-2,1.04E-2,0.1065,1.9699999999999999E-2,null,null,null,null,22,0.30209999999999998,636.92740000000003,0.5968,5.3E-3,6.0000000000000001E-3,2.29E-2,5.1000000000000004E-3]
[null,null,null,null,null,null,null,null,null,null,null,null,null,null,null,null,null,null,null,null,null,null,null,null,null,null,null,null,null,null,null,null,null,null,null,null,null,null,null,null,null,null,null,null,null,null,null,null,null,null,null,null,null,null,null,null,null,null,null,null,null,null,null,null,null,null,null,null,23,0.93610000000000004,1058.5043000000001,1.4521999999999999,2.0400000000000001E-2,1.01E-2,0.1041,1.95E-2,null,null,null,null,23,0.28899999999999998,619.45550000000003,0.56320000000000003,5.3E-3,5.7999999999999996E-3,2.2700000000000001E-2,5.0000000000000001E-3]
[null,null,null,null,null,null,null,null,null,null,null,null,null,null,null,null,null,null,null,null,null,null,null,null,null,null,null,null,null,null,null,null,null,null,null,null,null,null,null,null,null,null,null,null,null,null,null,null,null,null,null,null,null,null,null,null,null,null,null,null,null,null,null,null,null,null,null,null,24,0.89880000000000004,1020.8046000000001,1.4140999999999999,2.01E-2,9.7000000000000003E-3,0.1017,1.9199999999999998E-2,null,null,null,null,24,0.27650000000000002,602.46289999999999,0.53159999999999996,5.1999999999999998E-3,5.7000000000000002E-3,2.2599999999999999E-2,5.0000000000000001E-3]
[null,null,null,null,null,null,null,null,null,null,null,null,null,null,null,null,null,null,null,null,null,null,null,null,null,null,null,null,null,null,null,null,null,null,null,null,null,null,null,null,null,null,null,null,null,null,null,null,null,null,null,null,null,null,null,null,null,null,null,null,null,null,null,null,null,null,null,null,25,0.8629,984.44749999999999,1.3771,1.9900000000000001E-2,9.2999999999999992E-3,9.9500000000000005E-2,1.9E-2,null,null,null,null,25,0.26450000000000001,585.93640000000005,0.50170000000000003,5.1999999999999998E-3,5.4999999999999997E-3,2.2499999999999999E-2,4.8999999999999998E-3]
[null,null,null,null,null,null,null,null,null,null,null,null,null,null,null,null,null,null,null,null,null,null,null,null,null,null,null,null,null,null,null,null,null,null,null,null,null,null,null,null,null,null,null,null,null,null,null,null,null,null,null,null,null,null,null,null,null,null,null,null,null,null,null,null,null,null,null,null,26,0.82969999999999999,974.59040000000005,1.3491,1.8800000000000001E-2,9.1999999999999998E-3,9.35E-2,1.7999999999999999E-2,null,null,null,null,26,0.2525,579.66480000000001,0.48359999999999997,5.0000000000000001E-3,5.4000000000000003E-3,2.1299999999999999E-2,4.7000000000000002E-3]
[null,null,null,null,null,null,null,null,null,null,null,null,null,null,null,null,null,null,null,null,null,null,null,null,null,null,null,null,null,null,null,null,null,null,null,null,null,null,null,null,null,null,null,null,null,null,null,null,null,null,null,null,null,null,null,null,null,null,null,null,null,null,null,null,null,null,null,null,27,0.79769999999999996,964.83190000000002,1.3216000000000001,1.78E-2,9.1000000000000004E-3,8.7900000000000006E-2,1.7000000000000001E-2,null,null,null,null,27,0.24099999999999999,573.46029999999996,0.4662,4.7000000000000002E-3,5.4000000000000003E-3,2.0199999999999999E-2,4.4999999999999997E-3]
[null,null,null,null,null,null,null,null,null,null,null,null,null,null,null,null,null,null,null,null,null,null,null,null,null,null,null,null,null,null,null,null,null,null,null,null,null,null,null,null,null,null,null,null,null,null,null,null,null,null,null,null,null,null,null,null,null,null,null,null,null,null,null,null,null,null,null,null,28,0.76700000000000002,955.1712,1.2948,1.6799999999999999E-2,8.9999999999999993E-3,8.2699999999999996E-2,1.61E-2,null,null,null,null,28,0.23,567.32219999999995,0.44929999999999998,4.4999999999999997E-3,5.3E-3,1.9099999999999999E-2,4.3E-3]
[null,null,null,null,null,null,null,null,null,null,null,null,null,null,null,null,null,null,null,null,null,null,null,null,null,null,null,null,null,null,null,null,null,null,null,null,null,null,null,null,null,null,null,null,null,null,null,null,null,null,null,null,null,null,null,null,null,null,null,null,null,null,null,null,null,null,null,null,29,0.73740000000000006,945.60720000000003,1.2684,1.5900000000000001E-2,8.8999999999999999E-3,7.7700000000000005E-2,1.52E-2,null,null,null,null,29,0.21959999999999999,561.24980000000005,0.43309999999999998,4.3E-3,5.3E-3,1.8100000000000002E-2,4.1000000000000003E-3]
[null,null,null,null,null,null,null,null,null,null,null,null,null,null,null,null,null,null,null,null,null,null,null,null,null,null,null,null,null,null,null,null,null,null,null,null,null,null,null,null,null,null,null,null,null,null,null,null,null,null,null,null,null,null,null,null,null,null,null,null,null,null,null,null,null,null,null,null,30,0.70899999999999996,936.13890000000004,1.2425999999999999,1.5100000000000001E-2,8.8000000000000005E-3,7.3099999999999998E-2,1.44E-2,null,null,null,null,30,0.20960000000000001,555.24239999999998,0.41749999999999998,4.1000000000000003E-3,5.1999999999999998E-3,1.72E-2,3.8999999999999998E-3]
[null,null,null,null,null,null,null,null,null,null,null,null,null,null,null,null,null,null,null,null,null,null,null,null,null,null,null,null,null,null,null,null,null,null,null,null,null,null,null,null,null,null,null,null,null,null,null,null,null,null,null,null,null,null,null,null,null,null,null,null,null,null,null,null,null,null,null,null,31,0.67789999999999995,941.27160000000003,1.2298,1.44E-2,8.8999999999999999E-3,6.8199999999999997E-2,1.37E-2,null,null,null,null,31,0.20180000000000001,559.83029999999997,0.41310000000000002,4.0000000000000001E-3,5.1999999999999998E-3,1.6199999999999999E-2,3.8E-3]
[null,null,null,null,null,null,null,null,null,null,null,null,null,null,null,null,null,null,null,null,null,null,null,null,null,null,null,null,null,null,null,null,null,null,null,null,null,null,null,null,null,null,null,null,null,null,null,null,null,null,null,null,null,null,null,null,null,null,null,null,null,null,null,null,null,null,null,null,32,0.6482,946.43230000000005,1.2171000000000001,1.38E-2,8.8999999999999999E-3,6.3600000000000004E-2,1.3100000000000001E-2,null,null,null,null,32,0.19420000000000001,564.45609999999999,0.4088,3.8999999999999998E-3,5.3E-3,1.5299999999999999E-2,3.8E-3]
[null,null,null,null,null,null,null,null,null,null,null,null,null,null,null,null,null,null,null,null,null,null,null,null,null,null,null,null,null,null,null,null,null,null,null,null,null,null,null,null,null,null,null,null,null,null,null,null,null,null,null,null,null,null,null,null,null,null,null,null,null,null,null,null,null,null,null,null,33,0.61980000000000002,951.62139999999999,1.2045999999999999,1.3100000000000001E-2,8.8999999999999999E-3,5.9299999999999999E-2,1.26E-2,null,null,null,null,33,0.187,569.12009999999998,0.40450000000000003,3.8999999999999998E-3,5.3E-3,1.44E-2,3.7000000000000002E-3]
[null,null,null,null,null,null,null,null,null,null,null,null,null,null,null,null,null,null,null,null,null,null,null,null,null,null,null,null,null,null,null,null,null,null,null,null,null,null,null,null,null,null,null,null,null,null,null,null,null,null,null,null,null,null,null,null,null,null,null,null,null,null,null,null,null,null,null,null,34,0.59260000000000002,956.83889999999997,1.1920999999999999,1.26E-2,8.9999999999999993E-3,5.5300000000000002E-2,1.2E-2,null,null,null,null,34,0.18,573.82259999999997,0.40029999999999999,3.8E-3,5.3E-3,1.3599999999999999E-2,3.5999999999999999E-3]
[null,null,null,null,null,null,null,null,null,null,null,null,null,null,null,null,null,null,null,null,null,null,null,null,null,null,null,null,null,null,null,null,null,null,null,null,null,null,null,null,null,null,null,null,null,null,null,null,null,null,null,null,null,null,null,null,null,null,null,null,null,null,null,null,null,null,null,null,35,0.56659999999999999,962.08500000000004,1.1798,1.2E-2,8.9999999999999993E-3,5.16E-2,1.15E-2,null,null,null,null,35,0.17330000000000001,578.56399999999996,0.39610000000000001,3.7000000000000002E-3,5.4000000000000003E-3,1.2800000000000001E-2,3.5000000000000001E-3]
[null,null,null,null,null,null,null,null,null,null,null,null,null,null,null,null,null,null,null,null,null,null,null,null,null,null,null,null,null,null,null,null,null,null,null,null,null,null,null,null,null,null,null,null,null,null,null,null,null,null,null,null,null,null,null,null,null,null,null,null,null,null,null,null,null,null,null,null,36,0.55049999999999999,967.41949999999997,1.1662999999999999,1.18E-2,9.1000000000000004E-3,4.8800000000000003E-2,1.1299999999999999E-2,null,null,null,null,36,0.16880000000000001,584.06709999999998,0.38829999999999998,3.8E-3,5.4000000000000003E-3,1.2200000000000001E-2,3.5999999999999999E-3]
[null,null,null,null,null,null,null,null,null,null,null,null,null,null,null,null,null,null,null,null,null,null,null,null,null,null,null,null,null,null,null,null,null,null,null,null,null,null,null,null,null,null,null,null,null,null,null,null,null,null,null,null,null,null,null,null,null,null,null,null,null,null,null,null,null,null,null,null,37,0.53490000000000004,972.78359999999998,1.1529,1.1599999999999999E-2,9.1000000000000004E-3,4.6199999999999998E-2,1.0999999999999999E-2,null,null,null,null,37,0.16450000000000001,589.62249999999995,0.38059999999999999,3.8E-3,5.4999999999999997E-3,1.1599999999999999E-2,3.7000000000000002E-3]
[null,null,null,null,null,null,null,null,null,null,null,null,null,null,null,null,null,null,null,null,null,null,null,null,null,null,null,null,null,null,null,null,null,null,null,null,null,null,null,null,null,null,null,null,null,null,null,null,null,null,null,null,null,null,null,null,null,null,null,null,null,null,null,null,null,null,null,null,38,0.51970000000000005,978.17750000000001,1.1395999999999999,1.1299999999999999E-2,9.1000000000000004E-3,4.3700000000000003E-2,1.0800000000000001E-2,null,null,null,null,38,0.1603,595.23080000000004,0.37309999999999999,3.8999999999999998E-3,5.4999999999999997E-3,1.11E-2,3.8E-3]
[null,null,null,null,null,null,null,null,null,null,null,null,null,null,null,null,null,null,null,null,null,null,null,null,null,null,null,null,null,null,null,null,null,null,null,null,null,null,null,null,null,null,null,null,null,null,null,null,null,null,null,null,null,null,null,null,null,null,null,null,null,null,null,null,null,null,null,null,39,0.505,983.60130000000004,1.1266,1.11E-2,9.1999999999999998E-3,4.1300000000000003E-2,1.06E-2,null,null,null,null,39,0.15609999999999999,600.89239999999995,0.36580000000000001,4.0000000000000001E-3,5.5999999999999999E-3,1.0500000000000001E-2,3.8E-3]
[null,null,null,null,null,null,null,null,null,null,null,null,null,null,null,null,null,null,null,null,null,null,null,null,null,null,null,null,null,null,null,null,null,null,null,null,null,null,null,null,null,null,null,null,null,null,null,null,null,null,null,null,null,null,null,null,null,null,null,null,null,null,null,null,null,null,null,null,40,0.49059999999999998,989.05510000000004,1.1135999999999999,1.09E-2,9.1999999999999998E-3,3.9100000000000003E-2,1.04E-2,null,null,null,null,40,0.15210000000000001,606.60789999999997,0.35859999999999997,4.1000000000000003E-3,5.5999999999999999E-3,0.01,3.8999999999999998E-3]
[null,null,{"$f":"0.00000110231131*($R117*FuelFreightRail*PARAMETERS!CQ44-$S117*VLOOKUP($U117,EmAuto1,2)+($V117-$W117)*VLOOKUP(0,EmAuto1,2))","v":0},null,null,null,null,null,null,null,null,null,null,null,null,null,null,null,null,null,null,null,null,null,null,null,null,null,null,null,null,null,null,null,null,null,null,null,null,null,null,null,null,null,null,null,null,null,null,null,null,null,null,null,null,null,null,null,null,null,null,null,null,null,null,null,null,null,41,0.48680000000000001,984.5077,1.0993999999999999,1.0999999999999999E-2,9.1999999999999998E-3,3.8199999999999998E-2,1.0500000000000001E-2,null,null,null,null,41,0.1479,611.86289999999997,0.35299999999999998,4.4000000000000003E-3,5.7000000000000002E-3,9.7999999999999997E-3,4.1999999999999997E-3]
[null,null,null,null,null,null,null,null,null,null,null,null,null,null,null,null,null,null,null,null,null,null,null,null,null,null,null,null,null,null,null,null,null,null,null,null,null,null,null,null,null,null,null,null,null,null,null,null,null,null,null,null,null,null,null,null,null,null,null,null,null,null,null,null,null,null,null,null,42,0.4829,979.98119999999994,1.0853999999999999,1.11E-2,9.1000000000000004E-3,3.7400000000000003E-2,1.06E-2,null,null,null,null,42,0.14380000000000001,617.16330000000005,0.34739999999999999,4.5999999999999999E-3,5.7000000000000002E-3,9.5999999999999992E-3,4.4000000000000003E-3]
[null,null,null,null,null,null,null,null,null,null,null,null,null,null,null,null,null,null,null,null,null,null,null,null,null,null,null,null,null,null,null,null,null,null,null,null,null,null,null,null,null,null,null,null,null,null,null,null,null,null,null,null,null,null,null,null,null,null,null,null,null,null,null,null,null,null,null,null,43,0.47910000000000003,975.47540000000004,1.0714999999999999,1.11E-2,9.1000000000000004E-3,3.6600000000000001E-2,1.06E-2,null,null,null,null,43,0.1399,622.50959999999998,0.34200000000000003,4.8999999999999998E-3,5.7999999999999996E-3,9.4000000000000004E-3,4.7000000000000002E-3]
[null,null,null,null,null,null,null,null,null,null,null,null,null,null,null,null,null,null,null,null,null,null,null,null,null,null,null,null,null,null,null,null,null,null,null,null,null,null,null,null,null,null,null,null,null,null,null,null,null,null,null,null,null,null,null,null,null,null,null,null,null,null,null,null,null,null,null,null,44,0.4753,970.99040000000002,1.0579000000000001,1.12E-2,9.1000000000000004E-3,3.5900000000000001E-2,1.0699999999999999E-2,null,null,null,null,44,0.13600000000000001,627.90229999999997,0.33660000000000001,5.1999999999999998E-3,5.7999999999999996E-3,9.2999999999999992E-3,5.0000000000000001E-3]
[null,null,null,null,null,null,null,null,null,null,null,null,null,null,null,null,null,null,null,null,null,null,null,null,null,null,null,null,null,null,null,null,null,null,null,null,null,null,null,null,null,null,null,null,null,null,null,null,null,null,null,null,null,null,null,null,null,null,null,null,null,null,null,null,null,null,null,null,45,0.47160000000000002,966.52610000000004,1.0444,1.1299999999999999E-2,8.9999999999999993E-3,3.5099999999999999E-2,1.0800000000000001E-2,null,null,null,null,45,0.1323,633.34169999999995,0.33139999999999997,5.5999999999999999E-3,5.8999999999999999E-3,9.1000000000000004E-3,5.3E-3]
[null,null,null,null,null,null,null,null,null,null,null,null,null,null,null,null,null,null,null,null,null,null,null,null,null,null,null,null,null,null,null,null,null,null,null,null,null,null,null,null,null,null,null,null,null,null,null,null,null,null,null,null,null,null,null,null,null,null,null,null,null,null,null,null,null,null,null,null,46,0.47620000000000001,930.22239999999999,1.0417000000000001,1.15E-2,8.6999999999999994E-3,3.6799999999999999E-2,1.0999999999999999E-2,null,null,null,null,46,0.13,609.35320000000002,0.31030000000000002,5.7000000000000002E-3,5.7000000000000002E-3,9.2999999999999992E-3,5.4000000000000003E-3]
[null,null,null,null,null,null,null,null,null,null,null,null,null,null,null,null,null,null,null,null,null,null,null,null,null,null,null,null,null,null,null,null,null,null,null,null,null,null,null,null,null,null,null,null,null,null,null,null,null,null,null,null,null,null,null,null,null,null,null,null,null,null,null,null,null,null,null,null,47,0.48089999999999999,895.28229999999996,1.0390999999999999,1.18E-2,8.3999999999999995E-3,3.8600000000000002E-2,1.12E-2,null,null,null,null,47,0.1278,586.27319999999997,0.29060000000000002,5.7999999999999996E-3,5.4999999999999997E-3,9.5999999999999992E-3,5.4999999999999997E-3]
[null,null,null,null,null,null,null,null,null,null,null,null,null,null,null,null,null,null,null,null,null,null,null,null,null,null,null,null,null,null,null,null,null,null,null,null,null,null,null,null,null,null,null,null,null,null,null,null,null,null,null,null,null,null,null,null,null,null,null,null,null,null,null,null,null,null,null,null,48,0.48570000000000002,861.65459999999996,1.0364,1.2E-2,8.0999999999999996E-3,4.0500000000000001E-2,1.15E-2,null,null,null,null,48,0.12559999999999999,564.06740000000002,0.2722,5.8999999999999999E-3,5.3E-3,9.9000000000000008E-3,5.5999999999999999E-3]
[null,null,null,null,null,null,null,null,null,null,null,null,null,null,null,null,null,null,null,null,null,null,null,null,null,null,null,null,null,null,null,null,null,null,null,null,null,null,null,null,null,null,null,null,null,null,null,null,null,null,null,null,null,null,null,null,null,null,null,null,null,null,null,null,null,null,null,null,49,0.49049999999999999,829.28989999999999,1.0338000000000001,1.23E-2,7.7999999999999996E-3,4.2500000000000003E-2,1.17E-2,null,null,null,null,49,0.1234,542.70270000000005,0.25490000000000002,6.0000000000000001E-3,5.1000000000000004E-3,1.0200000000000001E-2,5.7000000000000002E-3]
[null,null,null,null,null,null,null,null,null,null,null,null,null,null,null,null,null,null,null,null,null,null,null,null,null,null,null,null,null,null,null,null,null,null,null,null,null,null,null,null,null,null,null,null,null,null,null,null,null,null,null,null,null,null,null,null,null,null,null,null,null,null,null,null,null,null,null,null,50,0.49530000000000002,798.14099999999996,1.0310999999999999,1.2500000000000001E-2,7.4999999999999997E-3,4.4499999999999998E-2,1.2E-2,null,null,null,null,50,0.12130000000000001,522.1472,0.2387,6.1000000000000004E-3,4.8999999999999998E-3,1.0500000000000001E-2,5.7999999999999996E-3]
[null,null,null,null,null,null,null,null,null,null,null,null,null,null,null,null,null,null,null,null,null,null,null,null,null,null,null,null,null,null,null,null,null,null,null,null,null,null,null,null,null,null,null,null,null,null,null,null,null,null,null,null,null,null,null,null,null,null,null,null,null,null,null,null,null,null,null,null,51,0.48010000000000003,830.70860000000005,1.0417000000000001,1.3100000000000001E-2,7.7999999999999996E-3,4.2500000000000003E-2,1.2500000000000001E-2,null,null,null,null,51,0.11840000000000001,546.12260000000003,0.25480000000000003,6.7000000000000002E-3,5.1000000000000004E-3,1.01E-2,6.4000000000000003E-3]
[null,null,null,null,null,null,null,null,null,null,null,null,null,null,null,null,null,null,null,null,null,null,null,null,null,null,null,null,null,null,null,null,null,null,null,null,null,null,null,null,null,null,null,null,null,null,null,null,null,null,null,null,null,null,null,null,null,null,null,null,null,null,null,null,null,null,null,null,52,0.46529999999999999,864.60519999999997,1.0523,1.3599999999999999E-2,8.0999999999999996E-3,4.0500000000000001E-2,1.2999999999999999E-2,null,null,null,null,52,0.11559999999999999,571.19889999999998,0.27189999999999998,7.3000000000000001E-3,5.3E-3,9.7999999999999997E-3,7.0000000000000001E-3]
[null,null,null,null,null,null,null,null,null,null,null,null,null,null,null,null,null,null,null,null,null,null,null,null,null,null,null,null,null,null,null,null,null,null,null,null,null,null,null,null,null,null,null,null,null,null,null,null,null,null,null,null,null,null,null,null,null,null,null,null,null,null,null,null,null,null,null,null,53,0.45100000000000001,899.88480000000004,1.0630999999999999,1.4200000000000001E-2,8.5000000000000006E-3,3.8600000000000002E-2,1.3599999999999999E-2,null,null,null,null,53,0.1129,597.42660000000001,0.29020000000000001,7.9000000000000008E-3,5.5999999999999999E-3,9.4000000000000004E-3,7.6E-3]
[null,null,null,null,null,null,null,null,null,null,null,null,null,null,null,null,null,null,null,null,null,null,null,null,null,null,null,null,null,null,null,null,null,null,null,null,null,null,null,null,null,null,null,null,null,null,null,null,null,null,null,null,null,null,null,null,null,null,null,null,null,null,null,null,null,null,null,null,54,0.43709999999999999,936.60400000000004,1.0739000000000001,1.49E-2,8.8000000000000005E-3,3.6900000000000002E-2,1.4200000000000001E-2,null,null,null,null,54,0.11020000000000001,624.85850000000005,0.30969999999999998,8.6999999999999994E-3,5.7999999999999996E-3,9.1000000000000004E-3,8.3000000000000001E-3]
[null,null,null,null,null,null,null,null,null,null,null,null,null,null,null,null,null,null,null,null,null,null,null,null,null,null,null,null,null,null,null,null,null,null,null,null,null,null,null,null,null,null,null,null,null,null,null,null,null,null,null,null,null,null,null,null,null,null,null,null,null,null,null,null,null,null,null,null,55,0.42359999999999998,974.82159999999999,1.0849,1.55E-2,9.1000000000000004E-3,3.5200000000000002E-2,1.4800000000000001E-2,null,null,null,null,55,0.1076,653.55010000000004,0.3306,9.4999999999999998E-3,6.1000000000000004E-3,8.8000000000000005E-3,9.1000000000000004E-3]
[null,null,null,null,null,null,null,null,null,null,null,null,null,null,null,null,null,null,null,null,null,null,null,null,null,null,null,null,null,null,null,null,null,null,null,null,null,null,null,null,null,null,null,null,null,null,null,null,null,null,null,null,null,null,null,null,null,null,null,null,null,null,null,null,null,null,null,null,56,0.41,1022.8646,1.0831999999999999,1.6400000000000001E-2,9.5999999999999992E-3,3.15E-2,1.5699999999999999E-2,null,null,null,null,56,0.1045,686.27470000000005,0.36480000000000001,1.0500000000000001E-2,6.4000000000000003E-3,8.5000000000000006E-3,0.01]
[null,null,null,null,null,null,null,null,null,null,null,null,null,null,null,null,null,null,null,null,null,null,null,null,null,null,null,null,null,null,null,null,null,null,null,null,null,null,null,null,null,null,null,null,null,null,null,null,null,null,null,null,null,null,null,null,null,null,null,null,null,null,null,null,null,null,null,null,57,0.39689999999999998,1073.2754,1.0814999999999999,1.7299999999999999E-2,1.01E-2,2.8199999999999999E-2,1.6500000000000001E-2,null,null,null,null,57,0.10150000000000001,720.63789999999995,0.40250000000000002,1.1599999999999999E-2,6.7000000000000002E-3,8.3000000000000001E-3,1.11E-2]
[null,null,null,null,null,null,null,null,null,null,null,null,null,null,null,null,null,null,null,null,null,null,null,null,null,null,null,null,null,null,null,null,null,null,null,null,null,null,null,null,null,null,null,null,null,null,null,null,null,null,null,null,null,null,null,null,null,null,null,null,null,null,null,null,null,null,null,null,58,0.3841,1126.1706999999999,1.0797000000000001,1.83E-2,1.0500000000000001E-2,2.52E-2,1.7500000000000002E-2,null,null,null,null,58,9.8599999999999993E-2,756.72170000000006,0.44419999999999998,1.29E-2,7.1000000000000004E-3,8.0000000000000002E-3,1.23E-2]
[null,null,null,null,null,null,null,null,null,null,null,null,null,null,null,null,null,null,null,null,null,null,null,null,null,null,null,null,null,null,null,null,null,null,null,null,null,null,null,null,null,null,null,null,null,null,null,null,null,null,null,null,null,null,null,null,null,null,null,null,null,null,null,null,null,null,null,null,59,0.37180000000000002,1181.6728000000001,1.0780000000000001,1.9300000000000001E-2,1.11E-2,2.2599999999999999E-2,1.84E-2,null,null,null,null,59,9.5699999999999993E-2,794.6123,0.49020000000000002,1.43E-2,7.4000000000000003E-3,7.7999999999999996E-3,1.37E-2]
[null,null,null,null,null,null,null,null,null,null,null,null,null,null,null,null,null,null,null,null,null,null,null,null,null,null,null,null,null,null,null,null,null,null,null,null,null,null,null,null,null,null,null,null,null,null,null,null,null,null,null,null,null,null,null,null,null,null,null,null,null,null,null,null,null,null,null,null,60,0.3599,1239.9103,1.0763,2.0299999999999999E-2,1.1599999999999999E-2,2.0199999999999999E-2,1.95E-2,null,null,null,null,60,9.2999999999999999E-2,834.40020000000004,0.54090000000000005,1.5800000000000002E-2,7.7999999999999996E-3,7.6E-3,1.5100000000000001E-2]
[null,null,null,null,null,null,null,null,null,null,null,null,null,null,null,null,null,null,null,null,null,null,null,null,null,null,null,null,null,null,null,null,null,null,null,null,null,null,null,null,null,null,null,null,null,null,null,null,null,null,null,null,null,null,null,null,null,null,null,null,null,null,null,null,null,null,null,null,61,0.35010000000000002,1264.0963999999999,1.1266,2.1600000000000001E-2,1.18E-2,2.0199999999999999E-2,2.06E-2,null,null,null,null,61,9.1800000000000007E-2,852.48789999999997,0.58609999999999995,1.6899999999999998E-2,8.0000000000000002E-3,7.7999999999999996E-3,1.6199999999999999E-2]
[null,null,null,null,null,null,null,null,null,null,null,null,null,null,null,null,null,null,null,null,null,null,null,null,null,null,null,null,null,null,null,null,null,null,null,null,null,null,null,null,null,null,null,null,null,null,null,null,null,null,null,null,null,null,null,null,null,null,null,null,null,null,null,null,null,null,null,null,62,0.34060000000000001,1288.7544,1.1792,2.29E-2,1.21E-2,2.01E-2,2.1899999999999999E-2,null,null,null,null,62,9.0700000000000003E-2,870.96770000000004,0.6351,1.8100000000000002E-2,8.2000000000000007E-3,8.0999999999999996E-3,1.7299999999999999E-2]
[null,null,null,null,null,null,null,null,null,null,null,null,null,null,null,null,null,null,null,null,null,null,null,null,null,null,null,null,null,null,null,null,null,null,null,null,null,null,null,null,null,null,null,null,null,null,null,null,null,null,null,null,null,null,null,null,null,null,null,null,null,null,null,null,null,null,null,null,63,0.33129999999999998,1313.8933,1.2343,2.4299999999999999E-2,1.23E-2,2.01E-2,2.3199999999999998E-2,null,null,null,null,63,8.9599999999999999E-2,889.84810000000004,0.68820000000000003,1.9300000000000001E-2,8.3000000000000001E-3,8.3999999999999995E-3,1.8499999999999999E-2]
[null,null,null,null,null,null,null,null,null,null,null,null,null,null,null,null,null,null,null,null,null,null,null,null,null,null,null,null,null,null,null,null,null,null,null,null,null,null,null,null,null,null,null,null,null,null,null,null,null,null,null,null,null,null,null,null,null,null,null,null,null,null,null,null,null,null,null,null,64,0.32229999999999998,1339.5226,1.292,2.58E-2,1.26E-2,2.01E-2,2.47E-2,null,null,null,null,64,8.8499999999999995E-2,909.1377,0.74570000000000003,2.06E-2,8.5000000000000006E-3,8.6E-3,1.9699999999999999E-2]
[null,null,null,null,null,null,null,null,null,null,null,null,null,null,null,null,null,null,null,null,null,null,null,null,null,null,null,null,null,null,null,null,null,null,null,null,null,null,null,null,null,null,null,null,null,null,null,null,null,null,null,null,null,null,null,null,null,null,null,null,null,null,null,null,null,null,null,null,65,0.3135,1365.6518000000001,1.3524,2.7400000000000001E-2,1.2800000000000001E-2,0.02,2.6200000000000001E-2,null,null,null,null,65,8.7400000000000005E-2,928.84559999999999,0.80810000000000004,2.1999999999999999E-2,8.6999999999999994E-3,8.8999999999999999E-3,2.1100000000000001E-2]
[null,null,null,null,null,null,null,null,null,null,null,null,null,null,null,null,null,null,null,null,null,null,null,null,null,null,null,null,null,null,null,null,null,null,null,null,null,null,null,null,null,null,null,null,null,null,null,null,null,null,null,null,null,null,null,null,null,null,null,null,null,null,null,null,null,null,null,null,66,0.31309999999999999,1350.2911999999999,1.3589,2.76E-2,1.2699999999999999E-2,2.0899999999999998E-2,2.64E-2,null,null,null,null,66,8.6599999999999996E-2,929.4837,0.8155,2.23E-2,8.6999999999999994E-3,9.1000000000000004E-3,2.1299999999999999E-2]
[null,null,null,null,null,null,null,null,null,null,null,null,null,null,null,null,null,null,null,null,null,null,null,null,null,null,null,null,null,null,null,null,null,null,null,null,null,null,null,null,null,null,null,null,null,null,null,null,null,null,null,null,null,null,null,null,null,null,null,null,null,null,null,null,null,null,null,null,67,0.31269999999999998,1335.1033,1.3654999999999999,2.7799999999999998E-2,1.2500000000000001E-2,2.18E-2,2.6599999999999999E-2,null,null,null,null,67,8.5800000000000001E-2,930.12239999999997,0.82299999999999995,2.2499999999999999E-2,8.6999999999999994E-3,9.1999999999999998E-3,2.1600000000000001E-2]
[null,null,null,null,null,null,null,null,null,null,null,null,null,null,null,null,null,null,null,null,null,null,null,null,null,null,null,null,null,null,null,null,null,null,null,null,null,null,null,null,null,null,null,null,null,null,null,null,null,null,null,null,null,null,null,null,null,null,null,null,null,null,null,null,null,null,null,null,68,0.31240000000000001,1320.0862,1.3722000000000001,2.81E-2,1.24E-2,2.2800000000000001E-2,2.69E-2,null,null,null,null,68,8.5000000000000006E-2,930.76139999999998,0.8306,2.2800000000000001E-2,8.6999999999999994E-3,9.4000000000000004E-3,2.18E-2]
[null,null,null,null,null,null,null,null,null,null,null,null,null,null,null,null,null,null,null,null,null,null,null,null,null,null,null,null,null,null,null,null,null,null,null,null,null,null,null,null,null,null,null,null,null,null,null,null,null,null,null,null,null,null,null,null,null,null,null,null,null,null,null,null,null,null,null,null,69,0.312,1305.2381,1.3788,2.8299999999999999E-2,1.23E-2,2.3800000000000002E-2,2.7099999999999999E-2,null,null,null,null,69,8.4199999999999997E-2,931.40089999999998,0.83830000000000005,2.3E-2,8.8000000000000005E-3,9.4999999999999998E-3,2.1999999999999999E-2]
[null,null,null,null,null,null,null,null,null,null,null,null,null,null,null,null,null,null,null,null,null,null,null,null,null,null,null,null,null,null,null,null,null,null,null,null,null,null,null,null,null,null,null,null,null,null,null,null,null,null,null,null,null,null,null,null,null,null,null,null,null,null,null,null,null,null,null,null,70,0.31159999999999999,1290.5569,1.3855,2.86E-2,1.2200000000000001E-2,2.4799999999999999E-2,2.7300000000000001E-2,null,null,null,null,70,8.3400000000000002E-2,932.04079999999999,0.84599999999999997,2.3300000000000001E-2,8.8000000000000005E-3,9.7000000000000003E-3,2.23E-2]
[]
[null,null,null,null,null,null,null,null,null,null,null,null,null,null,null,null,null,null,null,null,null,null,null,null,null,null,null,null,null,null,null,null,null,null,null,null,null,null,null,null,null,null,null,null,null,null,null,null,null,null,null,null,null,null,null,null,null,null,null,null,null,null,null,null,null,null,null,"Bus",0,1.7524,13.2318,0.53969999999999996,1E-4,1E-4,8.1500000000000003E-2,1E-4,null,null,null,"Bus",0,0.75390000000000001,6.0008999999999997,0.39250000000000002,1E-4,1E-4,3.6299999999999999E-2,1E-4]
[null,null,null,null,null,null,null,null,null,null,null,null,null,null,null,null,null,null,null,null,null,null,null,null,null,null,null,null,null,null,null,null,null,null,null,null,null,null,null,null,null,null,null,null,null,null,null,null,null,null,null,null,null,null,null,null,null,null,null,null,null,null,null,null,null,null,null,null,5,31.963799999999999,5318.2891,4.1913,3.85E-2,1.6199999999999999E-2,0.35499999999999998,3.6799999999999999E-2,null,null,null,null,5,4.4132999999999996,1358.904,0.86209999999999998,5.5999999999999999E-3,8.3000000000000001E-3,6.9400000000000003E-2,5.3E-3]
[null,null,null,null,null,null,null,null,null,null,null,null,null,null,null,null,null,null,null,null,null,null,null,null,null,null,null,null,null,null,null,null,null,null,null,null,null,null,null,null,null,null,null,null,null,null,null,null,null,null,null,null,null,null,null,null,null,null,null,null,null,null,null,null,null,null,null,null,6,29.962599999999998,4954.2772999999997,3.8723000000000001,3.6200000000000003E-2,1.5699999999999999E-2,0.32640000000000002,3.4599999999999999E-2,null,null,null,null,6,3.5421999999999998,1229.3096,0.79279999999999995,5.1999999999999998E-3,7.9000000000000008E-3,6.0999999999999999E-2,4.8999999999999998E-3]
[null,null,null,null,null,null,null,null,null,null,null,null,null,null,null,null,null,null,null,null,null,null,null,null,null,null,null,null,null,null,null,null,null,null,null,null,null,null,null,null,null,null,null,null,null,null,null,null,null,null,null,null,null,null,null,null,null,null,null,null,null,null,null,null,null,null,null,null,7,28.0868,4615.1803,3.5775999999999999,3.4099999999999998E-2,1.5299999999999999E-2,0.3,3.2500000000000001E-2,null,null,null,null,7,2.8431000000000002,1112.0741,0.72899999999999998,4.7999999999999996E-3,7.4999999999999997E-3,5.3699999999999998E-2,4.5999999999999999E-3]
[null,null,null,null,null,null,null,null,null,null,null,null,null,null,null,null,null,null,null,null,null,null,null,null,null,null,null,null,null,null,null,null,null,null,null,null,null,null,null,null,null,null,null,null,null,null,null,null,null,null,null,null,null,null,null,null,null,null,null,null,null,null,null,null,null,null,null,null,8,26.328399999999998,4299.2929000000004,3.3052999999999999,3.2000000000000001E-2,1.49E-2,0.27579999999999999,3.0599999999999999E-2,null,null,null,null,8,2.282,1006.0191,0.6704,4.4999999999999997E-3,7.1000000000000004E-3,4.7199999999999999E-2,4.1999999999999997E-3]
[null,null,null,null,null,null,null,null,null,null,null,null,null,null,null,null,null,null,null,null,null,null,null,null,null,null,null,null,null,null,null,null,null,null,null,null,null,null,null,null,null,null,null,null,null,null,null,null,null,null,null,null,null,null,null,null,null,null,null,null,null,null,null,null,null,null,null,null,9,24.680099999999999,4005.0264999999999,3.0537000000000001,3.0099999999999998E-2,1.4500000000000001E-2,0.25359999999999999,2.87E-2,null,null,null,null,9,1.8315999999999999,910.07820000000004,0.61650000000000005,4.1999999999999997E-3,6.7000000000000002E-3,4.1500000000000002E-2,3.8999999999999998E-3]
[null,null,null,null,null,null,null,null,null,null,null,null,null,null,null,null,null,null,null,null,null,null,null,null,null,null,null,null,null,null,null,null,null,null,null,null,null,null,null,null,null,null,null,null,null,null,null,null,null,null,null,null,null,null,null,null,null,null,null,null,null,null,null,null,null,null,null,null,10,23.134899999999998,3730.9013,2.8212999999999999,2.8299999999999999E-2,1.41E-2,0.2331,2.7E-2,null,null,null,null,10,1.4701,823.28679999999997,0.56689999999999996,3.8999999999999998E-3,6.3E-3,3.6499999999999998E-2,3.7000000000000002E-3]
[null,null,null,null,null,null,null,null,null,null,null,null,null,null,null,null,null,null,null,null,null,null,null,null,null,null,null,null,null,null,null,null,null,null,null,null,null,null,null,null,null,null,null,null,null,null,null,null,null,null,null,null,null,null,null,null,null,null,null,null,null,null,null,null,null,null,null,null,11,21.849900000000002,3416.1437999999998,2.5832999999999999,2.53E-2,1.3299999999999999E-2,0.2059,2.41E-2,null,null,null,null,11,1.2748999999999999,759.99680000000001,0.50470000000000004,3.5000000000000001E-3,5.8999999999999999E-3,3.0800000000000001E-2,3.3E-3]
[null,null,null,null,null,null,null,null,null,null,null,null,null,null,null,null,null,null,null,null,null,null,null,null,null,null,null,null,null,null,null,null,null,null,null,null,null,null,null,null,null,null,null,null,null,null,null,null,null,null,null,null,null,null,null,null,null,null,null,null,null,null,null,null,null,null,null,null,12,20.636199999999999,3127.9409000000001,2.3654999999999999,2.2599999999999999E-2,1.2699999999999999E-2,0.18190000000000001,2.1600000000000001E-2,null,null,null,null,12,1.1055999999999999,701.57209999999998,0.44929999999999998,3.0999999999999999E-3,5.4999999999999997E-3,2.5899999999999999E-2,2.8999999999999998E-3]
[null,null,null,null,null,null,null,null,null,null,null,null,null,null,null,null,null,null,null,null,null,null,null,null,null,null,null,null,null,null,null,null,null,null,null,null,null,null,null,null,null,null,null,null,null,null,null,null,null,null,null,null,null,null,null,null,null,null,null,null,null,null,null,null,null,null,null,null,13,19.489899999999999,2864.0522000000001,2.1659999999999999,2.0199999999999999E-2,1.2E-2,0.16059999999999999,1.9300000000000001E-2,null,null,null,null,13,0.95879999999999999,647.63879999999995,0.4,2.8E-3,5.1999999999999998E-3,2.1899999999999999E-2,2.5999999999999999E-3]
[null,null,null,null,null,null,null,null,null,null,null,null,null,null,null,null,null,null,null,null,null,null,null,null,null,null,null,null,null,null,null,null,null,null,null,null,null,null,null,null,null,null,null,null,null,null,null,null,null,null,null,null,null,null,null,null,null,null,null,null,null,null,null,null,null,null,null,null,14,18.407299999999999,2622.4265,1.9833000000000001,1.7999999999999999E-2,1.14E-2,0.1419,1.72E-2,null,null,null,null,14,0.83150000000000002,597.85170000000005,0.35610000000000003,2.5000000000000001E-3,4.7999999999999996E-3,1.84E-2,2.3999999999999998E-3]
[null,null,null,null,null,null,null,null,null,null,null,null,null,null,null,null,null,null,null,null,null,null,null,null,null,null,null,null,null,null,null,null,null,null,null,null,null,null,null,null,null,null,null,null,null,null,null,null,null,null,null,null,null,null,null,null,null,null,null,null,null,null,null,null,null,null,null,null,15,17.384799999999998,2401.1855,1.8160000000000001,1.61E-2,1.0800000000000001E-2,0.12529999999999999,1.54E-2,null,null,null,null,15,0.72109999999999996,551.89189999999996,0.31709999999999999,2.2000000000000001E-3,4.4999999999999997E-3,1.55E-2,2.0999999999999999E-3]
[null,null,null,null,null,null,null,null,null,null,null,null,null,null,null,null,null,null,null,null,null,null,null,null,null,null,null,null,null,null,null,null,null,null,null,null,null,null,null,null,null,null,null,null,null,null,null,null,null,null,null,null,null,null,null,null,null,null,null,null,null,null,null,null,null,null,null,null,16,19.113299999999999,2343.2881000000002,1.5686,1.26E-2,9.1999999999999998E-3,0.10680000000000001,1.2E-2,null,null,null,null,16,0.53359999999999996,427.09750000000003,0.24460000000000001,1.6999999999999999E-3,3.5000000000000001E-3,1.1299999999999999E-2,1.6000000000000001E-3]
[null,null,null,null,null,null,null,null,null,null,null,null,null,null,null,null,null,null,null,null,null,null,null,null,null,null,null,null,null,null,null,null,null,null,null,null,null,null,null,null,null,null,null,null,null,null,null,null,null,null,null,null,null,null,null,null,null,null,null,null,null,null,null,null,null,null,null,null,17,21.0138,2286.7867000000001,1.3549,9.7999999999999997E-3,7.7999999999999996E-3,9.0999999999999998E-2,9.2999999999999992E-3,null,null,null,null,17,0.39489999999999997,330.52179999999998,0.1888,1.2999999999999999E-3,2.7000000000000001E-3,8.2000000000000007E-3,1.1999999999999999E-3]
[null,null,null,null,null,null,null,null,null,null,null,null,null,null,null,null,null,null,null,null,null,null,null,null,null,null,null,null,null,null,null,null,null,null,null,null,null,null,null,null,null,null,null,null,null,null,null,null,null,null,null,null,null,null,null,null,null,null,null,null,null,null,null,null,null,null,null,null,18,23.103100000000001,2231.6477,1.1702999999999999,7.6E-3,6.6E-3,7.7600000000000002E-2,7.3000000000000001E-3,null,null,null,null,18,0.29220000000000002,255.78389999999999,0.14560000000000001,1E-3,2.0999999999999999E-3,6.0000000000000001E-3,8.9999999999999998E-4]
[null,null,null,null,null,null,null,null,null,null,null,null,null,null,null,null,null,null,null,null,null,null,null,null,null,null,null,null,null,null,null,null,null,null,null,null,null,null,null,null,null,null,null,null,null,null,null,null,null,null,null,null,null,null,null,null,null,null,null,null,null,null,null,null,null,null,null,null,19,25.400200000000002,2177.8382000000001,1.0107999999999999,6.0000000000000001E-3,5.5999999999999999E-3,6.6100000000000006E-2,5.7000000000000002E-3,null,null,null,null,19,0.2162,197.94579999999999,0.1124,8.0000000000000004E-4,1.6999999999999999E-3,4.4000000000000003E-3,6.9999999999999999E-4]
[null,null,null,null,null,null,null,null,null,null,null,null,null,null,null,null,null,null,null,null,null,null,null,null,null,null,null,null,null,null,null,null,null,null,null,null,null,null,null,null,null,null,null,null,null,null,null,null,null,null,null,null,null,null,null,null,null,null,null,null,null,null,null,null,null,null,null,null,20,27.925699999999999,2125.3262,0.87309999999999999,4.5999999999999999E-3,4.7000000000000002E-3,5.6300000000000003E-2,4.4000000000000003E-3,null,null,null,null,20,0.16,153.18610000000001,8.6699999999999999E-2,5.9999999999999995E-4,1.2999999999999999E-3,3.2000000000000002E-3,5.0000000000000001E-4]
[null,null,null,null,null,null,null,null,null,null,null,null,null,null,null,null,null,null,null,null,null,null,null,null,null,null,null,null,null,null,null,null,null,null,null,null,null,null,null,null,null,null,null,null,null,null,null,null,null,null,null,null,null,null,null,null,null,null,null,null,null,null,null,null,null,null,null,null,21,21.3276,1958.9477999999999,0.96619999999999995,5.5999999999999999E-3,5.4999999999999997E-3,5.8900000000000001E-2,5.3E-3,null,null,null,null,21,0.19950000000000001,195.50790000000001,0.11,6.9999999999999999E-4,1.6000000000000001E-3,3.8999999999999998E-3,6.9999999999999999E-4]
[null,null,null,null,null,null,null,null,null,null,null,null,null,null,null,null,null,null,null,null,null,null,null,null,null,null,null,null,null,null,null,null,null,null,null,null,null,null,null,null,null,null,null,null,null,null,null,null,null,null,null,null,null,null,null,null,null,null,null,null,null,null,null,null,null,null,null,null,22,16.288399999999999,1805.5941,1.0691999999999999,6.7000000000000002E-3,6.4000000000000003E-3,6.1600000000000002E-2,6.3E-3,null,null,null,null,22,0.2487,249.5223,0.13950000000000001,8.9999999999999998E-4,2.0999999999999999E-3,4.8999999999999998E-3,8.9999999999999998E-4]
[null,null,null,null,null,null,null,null,null,null,null,null,null,null,null,null,null,null,null,null,null,null,null,null,null,null,null,null,null,null,null,null,null,null,null,null,null,null,null,null,null,null,null,null,null,null,null,null,null,null,null,null,null,null,null,null,null,null,null,null,null,null,null,null,null,null,null,null,23,12.4399,1664.2455,1.1832,8.0000000000000002E-3,7.4999999999999997E-3,6.4399999999999999E-2,7.6E-3,null,null,null,null,23,0.31,318.45960000000002,0.17699999999999999,1.1999999999999999E-3,2.7000000000000001E-3,6.1000000000000004E-3,1.1000000000000001E-3]
[null,null,null,null,null,null,null,null,null,null,null,null,null,null,null,null,null,null,null,null,null,null,null,null,null,null,null,null,null,null,null,null,null,null,null,null,null,null,null,null,null,null,null,null,null,null,null,null,null,null,null,null,null,null,null,null,null,null,null,null,null,null,null,null,null,null,null,null,24,9.5006000000000004,1533.9621,1.3093999999999999,9.4999999999999998E-3,8.6999999999999994E-3,6.7299999999999999E-2,9.1000000000000004E-3,null,null,null,null,24,0.38640000000000002,406.4427,0.22459999999999999,1.5E-3,3.3999999999999998E-3,7.6E-3,1.4E-3]
[null,null,null,null,null,null,null,null,null,null,null,null,null,null,null,null,null,null,null,null,null,null,null,null,null,null,null,null,null,null,null,null,null,null,null,null,null,null,null,null,null,null,null,null,null,null,null,null,null,null,null,null,null,null,null,null,null,null,null,null,null,null,null,null,null,null,null,null,25,7.2558999999999996,1413.8779,1.4490000000000001,1.14E-2,1.01E-2,7.0400000000000004E-2,1.09E-2,null,null,null,null,25,0.48170000000000002,518.73350000000005,0.28499999999999998,1.9E-3,4.4000000000000003E-3,9.4000000000000004E-3,1.8E-3]
[null,null,null,null,null,null,null,null,null,null,null,null,null,null,null,null,null,null,null,null,null,null,null,null,null,null,null,null,null,null,null,null,null,null,null,null,null,null,null,null,null,null,null,null,null,null,null,null,null,null,null,null,null,null,null,null,null,null,null,null,null,null,null,null,null,null,null,null,26,7.1788999999999996,1378.7891,1.4072,1.11E-2,9.9000000000000008E-3,6.7699999999999996E-2,1.06E-2,null,null,null,null,26,0.45240000000000002,503.87630000000001,0.27160000000000001,1.8E-3,4.3E-3,8.8999999999999999E-3,1.6999999999999999E-3]
[null,null,null,null,null,null,null,null,null,null,null,null,null,null,null,null,null,null,null,null,null,null,null,null,null,null,null,null,null,null,null,null,null,null,null,null,null,null,null,null,null,null,null,null,null,null,null,null,null,null,null,null,null,null,null,null,null,null,null,null,null,null,null,null,null,null,null,null,27,7.1028000000000002,1344.5709999999999,1.3666,1.0800000000000001E-2,9.7000000000000003E-3,6.5100000000000005E-2,1.03E-2,null,null,null,null,27,0.4249,489.44459999999998,0.25890000000000002,1.8E-3,4.1999999999999997E-3,8.5000000000000006E-3,1.6999999999999999E-3]
[null,null,null,null,null,null,null,null,null,null,null,null,null,null,null,null,null,null,null,null,null,null,null,null,null,null,null,null,null,null,null,null,null,null,null,null,null,null,null,null,null,null,null,null,null,null,null,null,null,null,null,null,null,null,null,null,null,null,null,null,null,null,null,null,null,null,null,null,28,7.0274999999999999,1311.2021999999999,1.3271999999999999,1.0500000000000001E-2,9.4999999999999998E-3,6.2600000000000003E-2,0.01,null,null,null,null,28,0.39910000000000001,475.42619999999999,0.24679999999999999,1.6999999999999999E-3,4.0000000000000001E-3,8.0999999999999996E-3,1.6999999999999999E-3]
[null,null,null,null,null,null,null,null,null,null,null,null,null,null,null,null,null,null,null,null,null,null,null,null,null,null,null,null,null,null,null,null,null,null,null,null,null,null,null,null,null,null,null,null,null,null,null,null,null,null,null,null,null,null,null,null,null,null,null,null,null,null,null,null,null,null,null,null,29,6.9528999999999996,1278.6614999999999,1.2889999999999999,1.0200000000000001E-2,9.4000000000000004E-3,6.0199999999999997E-2,9.7000000000000003E-3,null,null,null,null,29,0.37480000000000002,461.80939999999998,0.23519999999999999,1.6999999999999999E-3,3.8999999999999998E-3,7.7000000000000002E-3,1.6000000000000001E-3]
[null,null,null,null,null,null,null,null,null,null,null,null,null,null,null,null,null,null,null,null,null,null,null,null,null,null,null,null,null,null,null,null,null,null,null,null,null,null,null,null,null,null,null,null,null,null,null,null,null,null,null,null,null,null,null,null,null,null,null,null,null,null,null,null,null,null,null,null,30,6.8792,1246.9284,1.2518,9.9000000000000008E-3,9.1999999999999998E-3,5.79E-2,9.4999999999999998E-3,null,null,null,null,30,0.35199999999999998,448.58260000000001,0.22420000000000001,1.6999999999999999E-3,3.8E-3,7.3000000000000001E-3,1.6000000000000001E-3]
[null,null,null,null,null,null,null,null,null,null,null,null,null,null,null,null,null,null,null,null,null,null,null,null,null,null,null,null,null,null,null,null,null,null,null,null,null,null,null,null,null,null,null,null,null,null,null,null,null,null,null,null,null,null,null,null,null,null,null,null,null,null,null,null,null,null,null,null,31,6.6943999999999999,1222.2643,1.234,0.01,9.1000000000000004E-3,5.6399999999999999E-2,9.4999999999999998E-3,null,null,null,null,31,0.3357,444.99340000000001,0.218,1.6999999999999999E-3,3.8E-3,7.1000000000000004E-3,1.6000000000000001E-3]
[null,null,null,null,null,null,null,null,null,null,null,null,null,null,null,null,null,null,null,null,null,null,null,null,null,null,null,null,null,null,null,null,null,null,null,null,null,null,null,null,null,null,null,null,null,null,null,null,null,null,null,null,null,null,null,null,null,null,null,null,null,null,null,null,null,null,null,null,32,6.5145999999999997,1198.088,1.2164999999999999,0.01,8.9999999999999993E-3,5.5E-2,9.5999999999999992E-3,null,null,null,null,32,0.32019999999999998,441.43290000000002,0.21210000000000001,1.6999999999999999E-3,3.8E-3,7.0000000000000001E-3,1.6000000000000001E-3]
[null,null,null,null,null,null,null,null,null,null,null,null,null,null,null,null,null,null,null,null,null,null,null,null,null,null,null,null,null,null,null,null,null,null,null,null,null,null,null,null,null,null,null,null,null,null,null,null,null,null,null,null,null,null,null,null,null,null,null,null,null,null,null,null,null,null,null,null,33,6.3395999999999999,1174.3900000000001,1.1992,1.01E-2,8.8999999999999999E-3,5.3600000000000002E-2,9.5999999999999992E-3,null,null,null,null,33,0.3054,437.90089999999998,0.20619999999999999,1.8E-3,3.8E-3,6.7999999999999996E-3,1.6999999999999999E-3]
[null,null,null,null,null,null,null,null,null,null,null,null,null,null,null,null,null,null,null,null,null,null,null,null,null,null,null,null,null,null,null,null,null,null,null,null,null,null,null,null,null,null,null,null,null,null,null,null,null,null,null,null,null,null,null,null,null,null,null,null,null,null,null,null,null,null,null,null,34,6.1692999999999998,1151.1606999999999,1.1821999999999999,1.01E-2,8.8000000000000005E-3,5.2299999999999999E-2,9.7000000000000003E-3,null,null,null,null,34,0.2913,434.3972,0.2006,1.8E-3,3.8E-3,6.6E-3,1.6999999999999999E-3]
[null,null,null,null,null,null,null,null,null,null,null,null,null,null,null,null,null,null,null,null,null,null,null,null,null,null,null,null,null,null,null,null,null,null,null,null,null,null,null,null,null,null,null,null,null,null,null,null,null,null,null,null,null,null,null,null,null,null,null,null,null,null,null,null,null,null,null,null,35,6.0034999999999998,1128.3909000000001,1.1654,1.0200000000000001E-2,8.6999999999999994E-3,5.0999999999999997E-2,9.7000000000000003E-3,null,null,null,null,35,0.27789999999999998,430.92149999999998,0.1951,1.8E-3,3.7000000000000002E-3,6.4999999999999997E-3,1.6999999999999999E-3]
[null,null,null,null,null,null,null,null,null,null,null,null,null,null,null,null,null,null,null,null,null,null,null,null,null,null,null,null,null,null,null,null,null,null,null,null,null,null,null,null,null,null,null,null,null,null,null,null,null,null,null,null,null,null,null,null,null,null,null,null,null,null,null,null,null,null,null,null,36,5.7911999999999999,1115.9713999999999,1.1584000000000001,1.03E-2,8.6999999999999994E-3,4.9799999999999997E-2,9.9000000000000008E-3,null,null,null,null,36,0.26729999999999998,436.44970000000001,0.19259999999999999,1.9E-3,3.8E-3,6.4000000000000003E-3,1.8E-3]
[null,null,null,null,null,null,null,null,null,null,null,null,null,null,null,null,null,null,null,null,null,null,null,null,null,null,null,null,null,null,null,null,null,null,null,null,null,null,null,null,null,null,null,null,null,null,null,null,null,null,null,null,null,null,null,null,null,null,null,null,null,null,null,null,null,null,null,null,37,5.5864000000000003,1103.6886,1.1514,1.04E-2,8.6999999999999994E-3,4.87E-2,0.01,null,null,null,null,37,0.2571,442.04880000000003,0.19020000000000001,2E-3,3.8999999999999998E-3,6.4000000000000003E-3,1.9E-3]
[null,null,null,null,null,null,null,null,null,null,null,null,null,null,null,null,null,null,null,null,null,null,null,null,null,null,null,null,null,null,null,null,null,null,null,null,null,null,null,null,null,null,null,null,null,null,null,null,null,null,null,null,null,null,null,null,null,null,null,null,null,null,null,null,null,null,null,null,38,5.3888999999999996,1091.5409999999999,1.1445000000000001,1.06E-2,8.6999999999999994E-3,4.7600000000000003E-2,1.01E-2,null,null,null,null,38,0.24729999999999999,447.71980000000002,0.18770000000000001,2.0999999999999999E-3,3.8999999999999998E-3,6.3E-3,2E-3]
[null,null,null,null,null,null,null,null,null,null,null,null,null,null,null,null,null,null,null,null,null,null,null,null,null,null,null,null,null,null,null,null,null,null,null,null,null,null,null,null,null,null,null,null,null,null,null,null,null,null,null,null,null,null,null,null,null,null,null,null,null,null,null,null,null,null,null,null,39,5.1982999999999997,1079.5271,1.1375999999999999,1.0699999999999999E-2,8.6999999999999994E-3,4.6600000000000003E-2,1.0200000000000001E-2,null,null,null,null,39,0.23780000000000001,453.46339999999998,0.18540000000000001,2.2000000000000001E-3,4.0000000000000001E-3,6.3E-3,2.0999999999999999E-3]
[null,null,null,null,null,null,null,null,null,null,null,null,null,null,null,null,null,null,null,null,null,null,null,null,null,null,null,null,null,null,null,null,null,null,null,null,null,null,null,null,null,null,null,null,null,null,null,null,null,null,null,null,null,null,null,null,null,null,null,null,null,null,null,null,null,null,null,null,40,5.0145,1067.6455000000001,1.1308,1.0800000000000001E-2,8.6999999999999994E-3,4.5499999999999999E-2,1.03E-2,null,null,null,null,40,0.2288,459.2808,0.183,2.3E-3,4.1000000000000003E-3,6.1999999999999998E-3,2.2000000000000001E-3]
[null,null,null,null,null,null,null,null,null,null,null,null,null,null,null,null,null,null,null,null,null,null,null,null,null,null,null,null,null,null,null,null,null,null,null,null,null,null,null,null,null,null,null,null,null,null,null,null,null,null,null,null,null,null,null,null,null,null,null,null,null,null,null,null,null,null,null,null,41,4.8803999999999998,1062.5605,1.1354,1.09E-2,8.6999999999999994E-3,4.4600000000000001E-2,1.04E-2,null,null,null,null,41,0.2233,464.4658,0.1794,2.3E-3,4.1000000000000003E-3,6.1000000000000004E-3,2.2000000000000001E-3]
[null,null,null,null,null,null,null,null,null,null,null,null,null,null,null,null,null,null,null,null,null,null,null,null,null,null,null,null,null,null,null,null,null,null,null,null,null,null,null,null,null,null,null,null,null,null,null,null,null,null,null,null,null,null,null,null,null,null,null,null,null,null,null,null,null,null,null,null,42,4.7499000000000002,1057.4997000000001,1.1398999999999999,1.09E-2,8.6999999999999994E-3,4.36E-2,1.0500000000000001E-2,null,null,null,null,42,0.21790000000000001,469.70920000000001,0.1759,2.3999999999999998E-3,4.1999999999999997E-3,6.0000000000000001E-3,2.3E-3]
[null,null,null,null,null,null,null,null,null,null,null,null,null,null,null,null,null,null,null,null,null,null,null,null,null,null,null,null,null,null,null,null,null,null,null,null,null,null,null,null,null,null,null,null,null,null,null,null,null,null,null,null,null,null,null,null,null,null,null,null,null,null,null,null,null,null,null,null,43,4.6228999999999996,1052.463,1.1446000000000001,1.0999999999999999E-2,8.6999999999999994E-3,4.2700000000000002E-2,1.0500000000000001E-2,null,null,null,null,43,0.2127,475.01190000000003,0.1724,2.5000000000000001E-3,4.1999999999999997E-3,5.8999999999999999E-3,2.3999999999999998E-3]
[null,null,null,null,null,null,null,null,null,null,null,null,null,null,null,null,null,null,null,null,null,null,null,null,null,null,null,null,null,null,null,null,null,null,null,null,null,null,null,null,null,null,null,null,null,null,null,null,null,null,null,null,null,null,null,null,null,null,null,null,null,null,null,null,null,null,null,null,44,4.4992999999999999,1047.4503,1.1492,1.11E-2,8.6999999999999994E-3,4.1799999999999997E-2,1.06E-2,null,null,null,null,44,0.20760000000000001,480.37439999999998,0.1691,2.5999999999999999E-3,4.3E-3,5.8999999999999999E-3,2.5000000000000001E-3]
[null,null,null,null,null,null,null,null,null,null,null,null,null,null,null,null,null,null,null,null,null,null,null,null,null,null,null,null,null,null,null,null,null,null,null,null,null,null,null,null,null,null,null,null,null,null,null,null,null,null,null,null,null,null,null,null,null,null,null,null,null,null,null,null,null,null,null,null,45,4.3791000000000002,1042.4614999999999,1.1537999999999999,1.11E-2,8.8000000000000005E-3,4.0899999999999999E-2,1.06E-2,null,null,null,null,45,0.2026,485.79750000000001,0.16569999999999999,2.7000000000000001E-3,4.4000000000000003E-3,5.7999999999999996E-3,2.5999999999999999E-3]
[null,null,null,null,null,null,null,null,null,null,null,null,null,null,null,null,null,null,null,null,null,null,null,null,null,null,null,null,null,null,null,null,null,null,null,null,null,null,null,null,null,null,null,null,null,null,null,null,null,null,null,null,null,null,null,null,null,null,null,null,null,null,null,null,null,null,null,null,46,4.3262,1046.1259,1.1439999999999999,1.0999999999999999E-2,8.8000000000000005E-3,4.0099999999999997E-2,1.0500000000000001E-2,null,null,null,null,46,0.20119999999999999,489.00839999999999,0.1615,2.8E-3,4.4000000000000003E-3,5.7000000000000002E-3,2.5999999999999999E-3]
[null,null,null,null,null,null,null,null,null,null,null,null,null,null,null,null,null,null,null,null,null,null,null,null,null,null,null,null,null,null,null,null,null,null,null,null,null,null,null,null,null,null,null,null,null,null,null,null,null,null,null,null,null,null,null,null,null,null,null,null,null,null,null,null,null,null,null,null,47,4.274,1049.8033,1.1342000000000001,1.09E-2,8.8999999999999999E-3,3.9199999999999999E-2,1.04E-2,null,null,null,null,47,0.19969999999999999,492.24059999999997,0.1573,2.8E-3,4.4000000000000003E-3,5.5999999999999999E-3,2.7000000000000001E-3]
[null,null,null,null,null,null,null,null,null,null,null,null,null,null,null,null,null,null,null,null,null,null,null,null,null,null,null,null,null,null,null,null,null,null,null,null,null,null,null,null,null,null,null,null,null,null,null,null,null,null,null,null,null,null,null,null,null,null,null,null,null,null,null,null,null,null,null,null,48,4.2222999999999997,1053.4936,1.1245000000000001,1.0699999999999999E-2,8.8999999999999999E-3,3.8399999999999997E-2,1.03E-2,null,null,null,null,48,0.1983,495.49419999999998,0.1532,2.8999999999999998E-3,4.4999999999999997E-3,5.4999999999999997E-3,2.8E-3]
[null,null,null,null,null,null,null,null,null,null,null,null,null,null,null,null,null,null,null,null,null,null,null,null,null,null,null,null,null,null,null,null,null,null,null,null,null,null,null,null,null,null,null,null,null,null,null,null,null,null,null,null,null,null,null,null,null,null,null,null,null,null,null,null,null,null,null,null,49,4.1714000000000002,1057.1968999999999,1.1148,1.06E-2,8.9999999999999993E-3,3.7699999999999997E-2,1.01E-2,null,null,null,null,49,0.19689999999999999,498.76929999999999,0.14929999999999999,3.0000000000000001E-3,4.4999999999999997E-3,5.4000000000000003E-3,2.8E-3]
[null,null,null,null,null,null,null,null,null,null,null,null,null,null,null,null,null,null,null,null,null,null,null,null,null,null,null,null,null,null,null,null,null,null,null,null,null,null,null,null,null,null,null,null,null,null,null,null,null,null,null,null,null,null,null,null,null,null,null,null,null,null,null,null,null,null,null,null,50,4.1210000000000004,1060.9131,1.1052999999999999,1.0500000000000001E-2,8.9999999999999993E-3,3.6900000000000002E-2,0.01,null,null,null,null,50,0.19550000000000001,502.06599999999997,0.1454,3.0000000000000001E-3,4.4999999999999997E-3,5.4000000000000003E-3,2.8999999999999998E-3]
[null,null,null,null,null,null,null,null,null,null,null,null,null,null,null,null,null,null,null,null,null,null,null,null,null,null,null,null,null,null,null,null,null,null,null,null,null,null,null,null,null,null,null,null,null,null,null,null,null,null,null,null,null,null,null,null,null,null,null,null,null,null,null,null,null,null,null,null,51,4.0545,1079.6318000000001,1.1102000000000001,1.0699999999999999E-2,9.1999999999999998E-3,3.7100000000000001E-2,1.0200000000000001E-2,null,null,null,null,51,0.19739999999999999,514.7106,0.1497,3.2000000000000002E-3,4.7000000000000002E-3,5.4000000000000003E-3,3.0999999999999999E-3]
[null,null,null,null,null,null,null,null,null,null,null,null,null,null,null,null,null,null,null,null,null,null,null,null,null,null,null,null,null,null,null,null,null,null,null,null,null,null,null,null,null,null,null,null,null,null,null,null,null,null,null,null,null,null,null,null,null,null,null,null,null,null,null,null,null,null,null,null,52,3.9891000000000001,1098.6808000000001,1.115,1.0800000000000001E-2,9.4000000000000004E-3,3.73E-2,1.04E-2,null,null,null,null,52,0.19950000000000001,527.67370000000005,0.154,3.3999999999999998E-3,4.7999999999999996E-3,5.4999999999999997E-3,3.3E-3]
[null,null,null,null,null,null,null,null,null,null,null,null,null,null,null,null,null,null,null,null,null,null,null,null,null,null,null,null,null,null,null,null,null,null,null,null,null,null,null,null,null,null,null,null,null,null,null,null,null,null,null,null,null,null,null,null,null,null,null,null,null,null,null,null,null,null,null,null,53,3.9247999999999998,1118.0659000000001,1.1198999999999999,1.0999999999999999E-2,9.5999999999999992E-3,3.7400000000000003E-2,1.0500000000000001E-2,null,null,null,null,53,0.20150000000000001,540.9633,0.1585,3.7000000000000002E-3,4.8999999999999998E-3,5.5999999999999999E-3,3.5000000000000001E-3]
[null,null,null,null,null,null,null,null,null,null,null,null,null,null,null,null,null,null,null,null,null,null,null,null,null,null,null,null,null,null,null,null,null,null,null,null,null,null,null,null,null,null,null,null,null,null,null,null,null,null,null,null,null,null,null,null,null,null,null,null,null,null,null,null,null,null,null,null,54,3.8614999999999999,1137.7928999999999,1.1249,1.12E-2,9.7999999999999997E-3,3.7600000000000001E-2,1.0699999999999999E-2,null,null,null,null,54,0.2036,554.58759999999995,0.16320000000000001,3.8999999999999998E-3,5.0000000000000001E-3,5.7000000000000002E-3,3.7000000000000002E-3]
[null,null,null,null,null,null,null,null,null,null,null,null,null,null,null,null,null,null,null,null,null,null,null,null,null,null,null,null,null,null,null,null,null,null,null,null,null,null,null,null,null,null,null,null,null,null,null,null,null,null,null,null,null,null,null,null,null,null,null,null,null,null,null,null,null,null,null,null,55,3.7991999999999999,1157.8680999999999,1.1297999999999999,1.14E-2,1.01E-2,3.78E-2,1.09E-2,null,null,null,null,55,0.2056,568.55499999999995,0.16800000000000001,4.1000000000000003E-3,5.1999999999999998E-3,5.7999999999999996E-3,3.8999999999999998E-3]
[null,null,null,null,null,null,null,null,null,null,null,null,null,null,null,null,null,null,null,null,null,null,null,null,null,null,null,null,null,null,null,null,null,null,null,null,null,null,null,null,null,null,null,null,null,null,null,null,null,null,null,null,null,null,null,null,null,null,null,null,null,null,null,null,null,null,null,null,56,3.6829999999999998,1184.1948,1.1318999999999999,1.18E-2,1.03E-2,3.7999999999999999E-2,1.1299999999999999E-2,null,null,null,null,56,0.19969999999999999,594.13630000000001,0.18210000000000001,4.5999999999999999E-3,5.4000000000000003E-3,6.0000000000000001E-3,4.4000000000000003E-3]
[null,null,null,null,null,null,null,null,null,null,null,null,null,null,null,null,null,null,null,null,null,null,null,null,null,null,null,null,null,null,null,null,null,null,null,null,null,null,null,null,null,null,null,null,null,null,null,null,null,null,null,null,null,null,null,null,null,null,null,null,null,null,null,null,null,null,null,null,57,3.5703,1211.1202000000001,1.1338999999999999,1.2200000000000001E-2,1.06E-2,3.8199999999999998E-2,1.17E-2,null,null,null,null,57,0.19400000000000001,620.86860000000001,0.19750000000000001,5.1000000000000004E-3,5.7000000000000002E-3,6.1999999999999998E-3,4.7999999999999996E-3]
[null,null,null,null,null,null,null,null,null,null,null,null,null,null,null,null,null,null,null,null,null,null,null,null,null,null,null,null,null,null,null,null,null,null,null,null,null,null,null,null,null,null,null,null,null,null,null,null,null,null,null,null,null,null,null,null,null,null,null,null,null,null,null,null,null,null,null,null,58,3.4611000000000001,1238.6578,1.1359999999999999,1.2699999999999999E-2,1.09E-2,3.8399999999999997E-2,1.21E-2,null,null,null,null,58,0.1885,648.80370000000005,0.21410000000000001,5.5999999999999999E-3,5.8999999999999999E-3,6.4999999999999997E-3,5.3E-3]
[null,null,null,null,null,null,null,null,null,null,null,null,null,null,null,null,null,null,null,null,null,null,null,null,null,null,null,null,null,null,null,null,null,null,null,null,null,null,null,null,null,null,null,null,null,null,null,null,null,null,null,null,null,null,null,null,null,null,null,null,null,null,null,null,null,null,null,null,59,3.3552,1266.8214,1.1379999999999999,1.3100000000000001E-2,1.1299999999999999E-2,3.8600000000000002E-2,1.2500000000000001E-2,null,null,null,null,59,0.18310000000000001,677.99570000000006,0.2321,6.1999999999999998E-3,6.1999999999999998E-3,6.7000000000000002E-3,5.8999999999999999E-3]
[null,null,null,null,null,null,null,null,null,null,null,null,null,null,null,null,null,null,null,null,null,null,null,null,null,null,null,null,null,null,null,null,null,null,null,null,null,null,null,null,null,null,null,null,null,null,null,null,null,null,null,null,null,null,null,null,null,null,null,null,null,null,null,null,null,null,null,null,60,3.2524999999999999,1295.6255000000001,1.1400999999999999,1.3599999999999999E-2,1.1599999999999999E-2,3.8800000000000001E-2,1.2999999999999999E-2,null,null,null,null,60,0.17780000000000001,708.50120000000004,0.25169999999999998,6.7999999999999996E-3,6.4999999999999997E-3,7.0000000000000001E-3,6.4999999999999997E-3]
[null,null,null,null,null,null,null,null,null,null,null,null,null,null,null,null,null,null,null,null,null,null,null,null,null,null,null,null,null,null,null,null,null,null,null,null,null,null,null,null,null,null,null,null,null,null,null,null,null,null,null,null,null,null,null,null,null,null,null,null,null,null,null,null,null,null,null,null,61,3.1682000000000001,1321.8235,1.1445000000000001,1.41E-2,1.1900000000000001E-2,3.9300000000000002E-2,1.35E-2,null,null,null,null,61,0.17460000000000001,731.12099999999998,0.27350000000000002,7.4000000000000003E-3,6.7999999999999996E-3,7.1999999999999998E-3,7.1000000000000004E-3]
[null,null,null,null,null,null,null,null,null,null,null,null,null,null,null,null,null,null,null,null,null,null,null,null,null,null,null,null,null,null,null,null,null,null,null,null,null,null,null,null,null,null,null,null,null,null,null,null,null,null,null,null,null,null,null,null,null,null,null,null,null,null,null,null,null,null,null,null,62,3.0859999999999999,1348.5512000000001,1.149,1.46E-2,1.2200000000000001E-2,3.9699999999999999E-2,1.3899999999999999E-2,null,null,null,null,62,0.17150000000000001,754.46299999999997,0.29709999999999998,8.0999999999999996E-3,7.0000000000000001E-3,7.4999999999999997E-3,7.7000000000000002E-3]
[null,null,null,null,null,null,null,null,null,null,null,null,null,null,null,null,null,null,null,null,null,null,null,null,null,null,null,null,null,null,null,null,null,null,null,null,null,null,null,null,null,null,null,null,null,null,null,null,null,null,null,null,null,null,null,null,null,null,null,null,null,null,null,null,null,null,null,null,63,3.0059999999999998,1375.8194000000001,1.1535,1.5100000000000001E-2,1.2500000000000001E-2,4.02E-2,1.44E-2,null,null,null,null,63,0.16839999999999999,778.55029999999999,0.32279999999999998,8.8000000000000005E-3,7.1999999999999998E-3,7.7999999999999996E-3,8.3999999999999995E-3]
[null,null,null,null,null,null,null,null,null,null,null,null,null,null,null,null,null,null,null,null,null,null,null,null,null,null,null,null,null,null,null,null,null,null,null,null,null,null,null,null,null,null,null,null,null,null,null,null,null,null,null,null,null,null,null,null,null,null,null,null,null,null,null,null,null,null,null,null,64,2.9279999999999999,1403.6388999999999,1.1579999999999999,1.5599999999999999E-2,1.2800000000000001E-2,4.07E-2,1.49E-2,null,null,null,null,64,0.16539999999999999,803.40650000000005,0.3508,9.4999999999999998E-3,7.4999999999999997E-3,8.0999999999999996E-3,9.1000000000000004E-3]
[null,null,null,null,null,null,null,null,null,null,null,null,null,null,null,null,null,null,null,null,null,null,null,null,null,null,null,null,null,null,null,null,null,null,null,null,null,null,null,null,null,null,null,null,null,null,null,null,null,null,null,null,null,null,null,null,null,null,null,null,null,null,null,null,null,null,null,null,65,2.8521000000000001,1432.0209,1.1625000000000001,1.6199999999999999E-2,1.3100000000000001E-2,4.1200000000000001E-2,1.54E-2,null,null,null,null,65,0.16239999999999999,829.05629999999996,0.38109999999999999,1.03E-2,7.7999999999999996E-3,8.3999999999999995E-3,9.9000000000000008E-3]
[null,null,null,null,null,null,null,null,null,null,null,null,null,null,null,null,null,null,null,null,null,null,null,null,null,null,null,null,null,null,null,null,null,null,null,null,null,null,null,null,null,null,null,null,null,null,null,null,null,null,null,null,null,null,null,null,null,null,null,null,null,null,null,null,null,null,null,null,66,2.7292999999999998,1425.6288,1.1936,1.7299999999999999E-2,1.2999999999999999E-2,3.78E-2,1.6500000000000001E-2,null,null,null,null,66,0.16689999999999999,857.61479999999995,0.4042,1.12E-2,8.0000000000000002E-3,8.3000000000000001E-3,1.0699999999999999E-2]
[null,null,null,null,null,null,null,null,null,null,null,null,null,null,null,null,null,null,null,null,null,null,null,null,null,null,null,null,null,null,null,null,null,null,null,null,null,null,null,null,null,null,null,null,null,null,null,null,null,null,null,null,null,null,null,null,null,null,null,null,null,null,null,null,null,null,null,null,67,2.6118999999999999,1419.2653,1.2256,1.84E-2,1.29E-2,3.4799999999999998E-2,1.7600000000000001E-2,null,null,null,null,67,0.17150000000000001,887.15700000000004,0.42880000000000001,1.21E-2,8.3000000000000001E-3,8.2000000000000007E-3,1.15E-2]
[null,null,null,null,null,null,null,null,null,null,null,null,null,null,null,null,null,null,null,null,null,null,null,null,null,null,null,null,null,null,null,null,null,null,null,null,null,null,null,null,null,null,null,null,null,null,null,null,null,null,null,null,null,null,null,null,null,null,null,null,null,null,null,null,null,null,null,null,68,2.4994000000000001,1412.9301,1.2584,1.9699999999999999E-2,1.2800000000000001E-2,3.2000000000000001E-2,1.8800000000000001E-2,null,null,null,null,68,0.1762,917.71690000000001,0.45479999999999998,1.2999999999999999E-2,8.5000000000000006E-3,8.0999999999999996E-3,1.2500000000000001E-2]
[null,null,null,null,null,null,null,null,null,null,null,null,null,null,null,null,null,null,null,null,null,null,null,null,null,null,null,null,null,null,null,null,null,null,null,null,null,null,null,null,null,null,null,null,null,null,null,null,null,null,null,null,null,null,null,null,null,null,null,null,null,null,null,null,null,null,null,null,69,2.3919000000000001,1406.6232,1.2922,2.1000000000000001E-2,1.2699999999999999E-2,2.9399999999999999E-2,2.01E-2,null,null,null,null,69,0.18110000000000001,949.32939999999996,0.4824,1.41E-2,8.8000000000000005E-3,8.0999999999999996E-3,1.35E-2]
[null,null,null,null,null,null,null,null,null,null,null,null,null,null,null,null,null,null,null,null,null,null,null,null,null,null,null,null,null,null,null,null,null,null,null,null,null,null,null,null,null,null,null,null,null,null,null,null,null,null,null,null,null,null,null,null,null,null,null,null,null,null,null,null,null,null,null,null,70,2.2888999999999999,1400.3444999999999,1.3268,2.2499999999999999E-2,1.26E-2,2.7E-2,2.1499999999999998E-2,null,null,null,null,70,0.18609999999999999,982.03099999999995,0.51160000000000005,1.52E-2,9.1000000000000004E-3,8.0000000000000002E-3,1.46E-2]
[]
[]
[null,null,null,null,null,null,null,null,null,null,null,null,null,null,null,null,null,null,null,null,null,null,null,null,null,null,null,null,null,null,null,null,null,null,null,null,null,null,null,null,null,null,null,null,null,null,null,null,null,null,null,null,null,null,null,null,null,null,null,null,null,null,null,null,null,null,"Source: California Air Resources Board, EMFAC 2021"]
[]
[null,null,null,null,null,null,null,null,null,null,null,null,null,null,null,null,null,null,null,null,null,null,null,null,null,null,null,null,null,null,null,null,null,null,null,null,null,null,null,null,null,null,null,null,null,null,null,null,null,null,null,null,null,null,null,null,null,null,null,null,null,null,null,null,null,null,"Notes: 1) Zero mph corresponds to starts, 2) Other emissions factors include idling emissions and exclude diurnal and evaporative emissions, 3) Five mph is best estimate for idling"]