Workbook

Sheet FY24 APPORTIONMENT
A1: MPO | B1: (Cycle 3, 2024)
A2: AMBAG | B2: 1387278.4
A3: BCAG | B3: 379267.04
A4: FCOG | B4: 1832988.4
A5: KCAG | B5: 273271.12
A6: KCOG | B6: 1649608.3
A7: MCAG | B7: 503943.87
A8: MCTC | B8: 280025.57
A9: MTC | B9: 14155728
A10: SACOG | B10: 4610038.9
A11: SANDAG | B11: 6020392.4
A12: SJCOG | B12: 1411136.6
A13: SLOCOG | B13: 506133.82
... A19: TRPA (South Lake Tahoe, CA-NV) | B19: 264982.36
A22: NON-MPO RTPA | B22: (Cycle 3, 2024)
A23: Alpine County Local Transportation Commission (LTC) Total | B23: 2158
A24: Amador County Transportation Commission (CTC) Total | B24: 72533.71
A25: Calaveras Council of Governments (COG) Total | B25: 81168.078
A26: Colusa County Transportation Commission (CTC) Total | B26: 39137.809
A27: Del Norte Local Transportation Commission Total | B27: 49718.405
A28: Glenn County Transportation Commission (CTC) Total | B28: 51822.337
A29: Humboldt County Association of Governments Total | B29: 244556.2
A30: Inyo County Local Transportation Commission (LTC) Total | B30: 34078.693
A31: Lake County Congestion Management Agency and Planning Commission (CCAPC) Total | B31: 122155.34
A32: Lassen County Transportation Commission Total | B32: 58655.639
A33: Mariposa County Local Transportation Commission (LTC) Total | B33: 30700.573
A34: Mendocino Council of Governments (COG) Total | B34: 164158.73
... A43: Tuolumne County Transportation Council (TCTC) Total | B43: 99677
A45: Total FY24 Apportionments | B45: =SUM(B2:B43) -> 72160090

Sheet FY25 APPORTIONMENT
A1: MPO | B1: (Cycle 4, 2025)
A2: AMBAG | B2: 1415024
A3: BCAG | B3: 386852.38
A4: FCOG | B4: 1869648.1
A5: KCAG | B5: 278736.54
A6: KCOG | B6: 1682600.4
A7: MCAG | B7: 514022.75
A8: MCTC | B8: 285626.08
A9: MTC | B9: 14438843
A10: SACOG | B10: 4702239.7
A11: SANDAG | B11: 6140800.2
A12: SJCOG | B12: 1439359.4
A13: SLOCOG | B13: 516256.5
... A19: TRPA (South Lake Tahoe, CA-NV) | B19: 270282.01
A22: NON-MPO RTPA | B22: (Cycle 4, 2025)
A23: Alpine County Local Transportation Commission (LTC) Total | B23: 2200.8499
A24: Amador County Transportation Commission (CTC) Total | B24: 73984.384
A25: Calaveras Council of Governments (COG) Total | B25: 82791.44
A26: Colusa County Transportation Commission (CTC) Total | B26: 39920.565
A27: Del Norte Local Transportation Commission Total | B27: 50712.773
A28: Glenn County Transportation Commission (CTC) Total | B28: 52858.784
A29: Humboldt County Association of Governments Total | B29: 249447.32
A30: Inyo County Local Transportation Commission (LTC) Total | B30: 34760.267
A31: Lake County Congestion Management Agency and Planning Commission (CCAPC) Total | B31: 124598.45
A32: Lassen County Transportation Commission Total | B32: 59828.752
A33: Mariposa County Local Transportation Commission (LTC) Total | B33: 31314.584
A34: Mendocino Council of Governments (COG) Total | B34: 167441.9
... A43: Tuolumne County Transportation Council (TCTC) Total | B43: 101670
A45: Total FY25 Apportionments | B45: =SUM(B2:B43) -> 73603290

Sheet FUNDS LAPSING TABLE
A1: Carbon Reduction Program (CRP)
A2: Annual Federal Fiscal Year Apportionments - MPOs
A3: (as of 8/31/2025)
A5: MPO | B5: 2010 Census Population (Cycle 1-2) | C5: 2020 Census Population (Cycle 3) | D5: Apportionment Distribution¹ Cycle 1 (FFY 2022) | E5: Apportionment Distribution¹ Cycle 2 (FFY 2023) | F5: Apportionment Distribution¹ Cycle 3 (FFY 2024) | G5: Apportionment Distribution¹ Cycle 4 (FFY 2025) | H5: (Cycle 5, 2026) | I5: Combined Total | K5: FUNDS OBLIGATED | L5: FTA TRANSFER | M5: CYCLE 1 | N5: CYCLE 2 | O5: CYCLE 3 | P5: CYCLE 4 | Q5: TOTAL REMAINING TO OBLIGATE | R5: OVER-OBLIGATED
A6: AMBAG | B6: 732708 | C6: 774105 | D6: 1344707 | E6: 1371601 | F6: ='FY24 APPORTIONMENT'!B2 -> 1387278.4 | G6: ='FY25 APPORTIONMENT'!B2 -> 1415024 | I6: =SUM(D6:G6) -> 5518610.4 | K6: ='OBLIGATION (PROJECT BREAKDOWN)'!B2 -> 160452 | L6: ='FTA Transfer'!B2 -> 2000000 | M6: =IF(D6-SUM(K6:L6)<0,0,D6-SUM(K6:L6)) -> 0 | N6: =IF(SUM(D6:E6)-SUM(K6:L6)<0,0,SUM(D6:E6)-SUM(K6:L6)-M6) -> 555856 | O6: =IF(SUM(D6:F6)-SUM(K6:L6)<0,0,SUM(D6:F6)-SUM(K6:L6)-SUM(M6:N6)) -> 1387278.4 | P6: =IF(SUM(D6:G6)-SUM(K6:L6)<0,0,SUM(D6:G6)-SUM(K6:L6)-SUM(M6:O6)) -> 1415024 | Q6: =IF(I6-SUM(K6:L6)<0,0,I6-SUM(K6:L6)) -> 3358158.4 | R6: =IF(Q6>0,0,I6-SUM(K6:L6)) -> 0
A7: BCAG | B7: 220000 | C7: 211632 | D7: 403756 | E7: 411832 | F7: ='FY24 APPORTIONMENT'!B3 -> 379267.04 | G7: ='FY25 APPORTIONMENT'!B3 -> 386852.38 | I7: =SUM(D7:G7) -> 1581707.4 | K7: ='OBLIGATION (PROJECT BREAKDOWN)'!B12 -> 2051000 | L7: ='FTA Transfer'!B6 -> 0 | M7: =IF(D7-SUM(K7:L7)<0,0,D7-SUM(K7:L7)) -> 0 | N7: =IF(SUM(D7:E7)-SUM(K7:L7)<0,0,SUM(D7:E7)-SUM(K7:L7)-M7) -> 0 | O7: =IF(SUM(D7:F7)-SUM(K7:L7)<0,0,SUM(D7:F7)-SUM(K7:L7)-SUM(M7:N7)) -> 0 | P7: =IF(SUM(D7:G7)-SUM(K7:L7)<0,0,SUM(D7:G7)-SUM(K7:L7)-SUM(M7:O7)) -> 0 | Q7: =IF(I7-SUM(K7:L7)<0,0,I7-SUM(K7:L7)) -> 0 | R7: =IF(Q7>0,0,I7-SUM(K7:L7)) -> -469292.58
A8: FCOG | B8: 930450 | C8: 1008654 | D8: 1724967 | E8: 1759466 | F8: ='FY24 APPORTIONMENT'!B4 -> 1832988.4 | G8: ='FY25 APPORTIONMENT'!B4 -> 1869648.1 | I8: =SUM(D8:G8) -> 7187069.5 | K8: ='OBLIGATION (PROJECT BREAKDOWN)'!B16 -> 1158492 | L8: ='FTA Transfer'!B8 -> 1153600 | M8: =IF(D8-SUM(K8:L8)<0,0,D8-SUM(K8:L8)) -> 0 | N8: =IF(SUM(D8:E8)-SUM(K8:L8)<0,0,SUM(D8:E8)-SUM(K8:L8)-M8) -> 1172341 | O8: =IF(SUM(D8:F8)-SUM(K8:L8)<0,0,SUM(D8:F8)-SUM(K8:L8)-SUM(M8:N8)) -> 1832988.4 | P8: =IF(SUM(D8:G8)-SUM(K8:L8)<0,0,SUM(D8:G8)-SUM(K8:L8)-SUM(M8:O8)) -> 1869648.1 | Q8: =IF(I8-SUM(K8:L8)<0,0,I8-SUM(K8:L8)) -> 4874977.5 | R8: =IF(Q8>0,0,I8-SUM(K8:L8)) -> 0
A9: KCAG | B9: 152982 | C9: 152486 | D9: 280761 | E9: 286376 | F9: ='FY24 APPORTIONMENT'!B5 -> 273271.12 | G9: ='FY25 APPORTIONMENT'!B5 -> 278736.54 | I9: =SUM(D9:G9) -> 1119144.7 | K9: ='OBLIGATION (PROJECT BREAKDOWN)'!B30 -> 0 | L9: ='FTA Transfer'!B10 -> 286000 | M9: =IF(D9-SUM(K9:L9)<0,0,D9-SUM(K9:L9)) -> 0 | N9: =IF(SUM(D9:E9)-SUM(K9:L9)<0,0,SUM(D9:E9)-SUM(K9:L9)-M9) -> 281137 | O9: =IF(SUM(D9:F9)-SUM(K9:L9)<0,0,SUM(D9:F9)-SUM(K9:L9)-SUM(M9:N9)) -> 273271.12 | P9: =IF(SUM(D9:G9)-SUM(K9:L9)<0,0,SUM(D9:G9)-SUM(K9:L9)-SUM(M9:O9)) -> 278736.54 | Q9: =IF(I9-SUM(K9:L9)<0,0,I9-SUM(K9:L9)) -> 833144.66 | R9: =IF(Q9>0,0,I9-SUM(K9:L9)) -> 0
A10: KCOG | B10: 839631 | C10: 909235 | D10: 1554828 | E10: 1585924 | F10: ='FY24 APPORTIONMENT'!B6 -> 1649608.3 | G10: ='FY25 APPORTIONMENT'!B6 -> 1682600.4 | I10: =SUM(D10:G10) -> 6472960.7 | K10: ='OBLIGATION (PROJECT BREAKDOWN)'!B31 -> 3574006.6 | L10: ='FTA Transfer'!B12 -> 0 | M10: =IF(D10-SUM(K10:L10)<0,0,D10-SUM(K10:L10)) -> 0 | N10: =IF(SUM(D10:E10)-SUM(K10:L10)<0,0,SUM(D10:E10)-SUM(K10:L10)-M10) -> 0 | O10: =IF(SUM(D10:F10)-SUM(K10:L10)<0,0,SUM(D10:F10)-SUM(K10:L10)-SUM(M10:N10)) -> 1216353.7 | P10: =IF(SUM(D10:G10)-SUM(K10:L10)<0,0,SUM(D10:G10)-SUM(K10:L10)-SUM(M10:O10)) -> 1682600.4 | Q10: =IF(I10-SUM(K10:L10)<0,0,I10-SUM(K10:L10)) -> 2898954.1 | R10: =IF(Q10>0,0,I10-SUM(K10:L10)) -> 0
A11: MCAG | B11: 255793 | C11: 281202 | D11: 469446 | E11: 478835 | F11: ='FY24 APPORTIONMENT'!B7 -> 503943.87 | G11: ='FY25 APPORTIONMENT'!B7 -> 514022.75 | I11: =SUM(D11:G11) -> 1966247.6 | K11: ='OBLIGATION (PROJECT BREAKDOWN)'!B48 -> 1304428 | L11: ='FTA Transfer'!C14 -> 0 | M11: =IF(D11-SUM(K11:L11)<0,0,D11-SUM(K11:L11)) -> 0 | N11: =IF(SUM(D11:E11)-SUM(K11:L11)<0,0,SUM(D11:E11)-SUM(K11:L11)-M11) -> 0 | O11: =IF(SUM(D11:F11)-SUM(K11:L11)<0,0,SUM(D11:F11)-SUM(K11:L11)-SUM(M11:N11)) -> 147796.87 | P11: =IF(SUM(D11:G11)-SUM(K11:L11)<0,0,SUM(D11:G11)-SUM(K11:L11)-SUM(M11:O11)) -> 514022.75 | Q11: =IF(I11-SUM(K11:L11)<0,0,I11-SUM(K11:L11)) -> 661819.62 | R11: =IF(Q11>0,0,I11-SUM(K11:L11)) -> 0
A12: MCTC | B12: 150865 | C12: 156255 | D12: 276876 | E12: 282414 | F12: ='FY24 APPORTIONMENT'!B8 -> 280025.57 | G12: ='FY25 APPORTIONMENT'!B8 -> 285626.08 | I12: =SUM(D12:G12) -> 1124941.6 | K12: ='OBLIGATION (PROJECT BREAKDOWN)'!B56 -> 149000 | L12: ='FTA Transfer'!B16 -> 0 | M12: =IF(D12-SUM(K12:L12)<0,0,D12-SUM(K12:L12)) -> 127876 | N12: =IF(SUM(D12:E12)-SUM(K12:L12)<0,0,SUM(D12:E12)-SUM(K12:L12)-M12) -> 282414 | O12: =IF(SUM(D12:F12)-SUM(K12:L12)<0,0,SUM(D12:F12)-SUM(K12:L12)-SUM(M12:N12)) -> 280025.57 | P12: =IF(SUM(D12:G12)-SUM(K12:L12)<0,0,SUM(D12:G12)-SUM(K12:L12)-SUM(M12:O12)) -> 285626.08 | Q12: =IF(I12-SUM(K12:L12)<0,0,I12-SUM(K12:L12)) -> 975941.65 | R12: =IF(Q12>0,0,I12-SUM(K12:L12)) -> 0
A13: MTC | B13: 7150739 | C13: 7765640 | D13: 13286392 | E13: 13552119 | F13: ='FY24 APPORTIONMENT'!B9 -> 14155728 | G13: ='FY25 APPORTIONMENT'!B9 -> 14438843 | I13: =SUM(D13:G13) -> 55433082 | K13: ='OBLIGATION (PROJECT BREAKDOWN)'!B70 -> 11140000 | L13: ='FTA Transfer'!B18 -> 28266500 | M13: =IF(D13-SUM(K13:L13)<0,0,D13-SUM(K13:L13)) -> 0 | N13: =IF(SUM(D13:E13)-SUM(K13:L13)<0,0,SUM(D13:E13)-SUM(K13:L13)-M13) -> 0 | O13: =IF(SUM(D13:F13)-SUM(K13:L13)<0,0,SUM(D13:F13)-SUM(K13:L13)-SUM(M13:N13)) -> 1587739.5 | P13: =IF(SUM(D13:G13)-SUM(K13:L13)<0,0,SUM(D13:G13)-SUM(K13:L13)-SUM(M13:O13)) -> 14438843 | Q13: =IF(I13-SUM(K13:L13)<0,0,I13-SUM(K13:L13)) -> 16026582 | R13: =IF(Q13>0,0,I13-SUM(K13:L13)) -> 0
A14: SACOG | B14: 2274843 | C14: 2534007 | D14: 4220608 | E14: 4305021 | F14: ='FY24 APPORTIONMENT'!B10 -> 4610038.9 | G14: ='FY25 APPORTIONMENT'!B10 -> 4702239.7 | I14: =SUM(D14:G14) -> 17837908 | K14: ='OBLIGATION (PROJECT BREAKDOWN)'!B87 -> 11077431 | L14: ='FTA Transfer'!B33 -> 0 | M14: =IF(D14-SUM(K14:L14)<0,0,D14-SUM(K14:L14)) -> 0 | N14: =IF(SUM(D14:E14)-SUM(K14:L14)<0,0,SUM(D14:E14)-SUM(K14:L14)-M14) -> 0 | O14: =IF(SUM(D14:F14)-SUM(K14:L14)<0,0,SUM(D14:F14)-SUM(K14:L14)-SUM(M14:N14)) -> 2058236.9 | P14: =IF(SUM(D14:G14)-SUM(K14:L14)<0,0,SUM(D14:G14)-SUM(K14:L14)-SUM(M14:O14)) -> 4702239.7 | Q14: =IF(I14-SUM(K14:L14)<0,0,I14-SUM(K14:L14)) -> 6760476.6 | R14: =IF(Q14>0,0,I14-SUM(K14:L14)) -> 0
A15: SANDAG | B15: 3095313 | C15: 3298634 | D15: 5759290 | E15: 5874475 | F15: ='FY24 APPORTIONMENT'!B11 -> 6020392.4 | G15: ='FY25 APPORTIONMENT'!B11 -> 6140800.2 | I15: =SUM(D15:G15) -> 23794958 | K15: ='OBLIGATION (PROJECT BREAKDOWN)'!B109 -> 18925500 | L15: ='FTA Transfer'!B35 -> 0 | M15: =IF(D15-SUM(K15:L15)<0,0,D15-SUM(K15:L15)) -> 0 | N15: =IF(SUM(D15:E15)-SUM(K15:L15)<0,0,SUM(D15:E15)-SUM(K15:L15)-M15) -> 0 | O15: =IF(SUM(D15:F15)-SUM(K15:L15)<0,0,SUM(D15:F15)-SUM(K15:L15)-SUM(M15:N15)) -> 0 | P15: =IF(SUM(D15:G15)-SUM(K15:L15)<0,0,SUM(D15:G15)-SUM(K15:L15)-SUM(M15:O15)) -> 4869457.7 | Q15: =IF(I15-SUM(K15:L15)<0,0,I15-SUM(K15:L15)) -> 4869457.7 | R15: =IF(Q15>0,0,I15-SUM(K15:L15)) -> 0
A16: SJCOG | B16: 685306 | C16: 779233 | D16: 1267535 | E16: 1292886 | F16: ='FY24 APPORTIONMENT'!B12 -> 1411136.6 | G16: ='FY25 APPORTIONMENT'!B12 -> 1439359.4 | I16: =SUM(D16:G16) -> 5410917 | K16: ='OBLIGATION (PROJECT BREAKDOWN)'!B119 -> 1869381 | L16: ='FTA Transfer'!B37 -> 0 | M16: =IF(D16-SUM(K16:L16)<0,0,D16-SUM(K16:L16)) -> 0 | N16: =IF(SUM(D16:E16)-SUM(K16:L16)<0,0,SUM(D16:E16)-SUM(K16:L16)-M16) -> 691040 | O16: =IF(SUM(D16:F16)-SUM(K16:L16)<0,0,SUM(D16:F16)-SUM(K16:L16)-SUM(M16:N16)) -> 1411136.6 | P16: =IF(SUM(D16:G16)-SUM(K16:L16)<0,0,SUM(D16:G16)-SUM(K16:L16)-SUM(M16:O16)) -> 1439359.4 | Q16: =IF(I16-SUM(K16:L16)<0,0,I16-SUM(K16:L16)) -> 3541536 | R16: =IF(Q16>0,0,I16-SUM(K16:L16)) -> 0
A17: SLOCOG | B17: 269637 | C17: 282424 | D17: 494853 | E17: 504750 | F17: ='FY24 APPORTIONMENT'!B13 -> 506133.82 | G17: ='FY25 APPORTIONMENT'!B13 -> 516256.5 | I17: =SUM(D17:G17) -> 2021993.3 | K17: ='OBLIGATION (PROJECT BREAKDOWN)'!B132 -> 1490000 | L17: ='FTA Transfer'!B39 -> 0 | M17: =IF(D17-SUM(K17:L17)<0,0,D17-SUM(K17:L17)) -> 0 | N17: =IF(SUM(D17:E17)-SUM(K17:L17)<0,0,SUM(D17:E17)-SUM(K17:L17)-M17) -> 0 | O17: =IF(SUM(D17:F17)-SUM(K17:L17)<0,0,SUM(D17:F17)-SUM(K17:L17)-SUM(M17:N17)) -> 15736.824 | P17: =IF(SUM(D17:G17)-SUM(K17:L17)<0,0,SUM(D17:G17)-SUM(K17:L17)-SUM(M17:O17)) -> 516256.5 | Q17: =IF(I17-SUM(K17:L17)<0,0,I17-SUM(K17:L17)) -> 531993.33 | R17: =IF(Q17>0,0,I17-SUM(K17:L17)) -> 0
A18: SBCAG | B18: 423895 | C18: 448229 | D18: 777956 | E18: 793515 | F18: ='FY24 APPORTIONMENT'!B14 -> 803274.01 | G18: ='FY25 APPORTIONMENT'!B14 -> 819339.49 | I18: =SUM(D18:G18) -> 3194084.5 | K18: ='OBLIGATION (PROJECT BREAKDOWN)'!B138 -> 2364986 | L18: ='FTA Transfer'!B41 -> 0 | M18: =IF(D18-SUM(K18:L18)<0,0,D18-SUM(K18:L18)) -> 0 | N18: =IF(SUM(D18:E18)-SUM(K18:L18)<0,0,SUM(D18:E18)-SUM(K18:L18)-M18) -> 0 | O18: =IF(SUM(D18:F18)-SUM(K18:L18)<0,0,SUM(D18:F18)-SUM(K18:L18)-SUM(M18:N18)) -> 9759.0062 | P18: =IF(SUM(D18:G18)-SUM(K18:L18)<0,0,SUM(D18:G18)-SUM(K18:L18)-SUM(M18:O18)) -> 819339.49 | Q18: =IF(I18-SUM(K18:L18)<0,0,I18-SUM(K18:L18)) -> 829098.5 | R18: =IF(Q18>0,0,I18-SUM(K18:L18)) -> 0
A19: SRTA | B19: 177223 | C19: 182155 | D19: 325250 | E19: 331755 | F19: ='FY24 APPORTIONMENT'!B15 -> 326441.12 | G19: ='FY25 APPORTIONMENT'!B15 -> 332969.94 | I19: =SUM(D19:G19) -> 1316416.1 | K19: ='OBLIGATION (PROJECT BREAKDOWN)'!B144 -> 500000 | L19: ='FTA Transfer'!B43 -> 157005 | M19: =IF(D19-SUM(K19:L19)<0,0,D19-SUM(K19:L19)) -> 0 | N19: =IF(SUM(D19:E19)-SUM(K19:L19)<0,0,SUM(D19:E19)-SUM(K19:L19)-M19) -> 0 | O19: =IF(SUM(D19:F19)-SUM(K19:L19)<0,0,SUM(D19:F19)-SUM(K19:L19)-SUM(M19:N19)) -> 326441.12 | P19: =IF(SUM(D19:G19)-SUM(K19:L19)<0,0,SUM(D19:G19)-SUM(K19:L19)-SUM(M19:O19)) -> 332969.94 | Q19: =IF(I19-SUM(K19:L19)<0,0,I19-SUM(K19:L19)) -> 659411.06 | R19: =IF(Q19>0,0,I19-SUM(K19:L19)) -> 0
A20: SCAG | B20: 18051534 | C20: 18824382 | D20: 33578656 | E20: 34250229 | F20: ='FY24 APPORTIONMENT'!B16 -> 34358490 | G20: ='FY25 APPORTIONMENT'!B16 -> 35045659 | I20: =SUM(D20:G20) -> 1.3723303e+08 | K20: ='OBLIGATION (PROJECT BREAKDOWN)'!B146 -> 51455482 | L20: ='FTA Transfer'!B45 -> 79881111 | M20: =IF(D20-SUM(K20:L20)<0,0,D20-SUM(K20:L20)) -> 0 | N20: =IF(SUM(D20:E20)-SUM(K20:L20)<0,0,SUM(D20:E20)-SUM(K20:L20)-M20) -> 0 | O20: =IF(SUM(D20:F20)-SUM(K20:L20)<0,0,SUM(D20:F20)-SUM(K20:L20)-SUM(M20:N20)) -> 0 | P20: =IF(SUM(D20:G20)-SUM(K20:L20)<0,0,SUM(D20:G20)-SUM(K20:L20)-SUM(M20:O20)) -> 5896440.6 | Q20: =IF(I20-SUM(K20:L20)<0,0,I20-SUM(K20:L20)) -> 5896440.6 | R20: =IF(Q20>0,0,I20-SUM(K20:L20)) -> 0
A21: StanCOG | B21: 514453 | C21: 552878 | D21: 953647 | E21: 972720 | F21: ='FY24 APPORTIONMENT'!B17 -> 1003449.7 | G21: ='FY25 APPORTIONMENT'!B17 -> 1023518.7 | I21: =SUM(D21:G21) -> 3953335.4 | K21: ='OBLIGATION (PROJECT BREAKDOWN)'!B185 -> 194000 | L21: ='FTA Transfer'!B66 -> 0 | M21: =IF(D21-SUM(K21:L21)<0,0,D21-SUM(K21:L21)) -> 759647 | N21: =IF(SUM(D21:E21)-SUM(K21:L21)<0,0,SUM(D21:E21)-SUM(K21:L21)-M21) -> 972720 | O21: =IF(SUM(D21:F21)-SUM(K21:L21)<0,0,SUM(D21:F21)-SUM(K21:L21)-SUM(M21:N21)) -> 1003449.7 | P21: =IF(SUM(D21:G21)-SUM(K21:L21)<0,0,SUM(D21:G21)-SUM(K21:L21)-SUM(M21:O21)) -> 1023518.7 | Q21: =IF(I21-SUM(K21:L21)<0,0,I21-SUM(K21:L21)) -> 3759335.4 | R21: =IF(Q21>0,0,I21-SUM(K21:L21)) -> 0
A22: TCAG | B22: 442179 | C22: 473117 | D22: 817329 | E22: 833676 | F22: ='FY24 APPORTIONMENT'!B18 -> 853553.71 | G22: ='FY25 APPORTIONMENT'!B18 -> 870624.78 | I22: =SUM(D22:G22) -> 3375183.5 | K22: ='OBLIGATION (PROJECT BREAKDOWN)'!B189 -> 0 | L22: ='FTA Transfer'!B68 -> 0 | M22: =IF(D22-SUM(K22:L22)<0,0,D22-SUM(K22:L22)) -> 817329 | N22: =IF(SUM(D22:E22)-SUM(K22:L22)<0,0,SUM(D22:E22)-SUM(K22:L22)-M22) -> 833676 | O22: =IF(SUM(D22:F22)-SUM(K22:L22)<0,0,SUM(D22:F22)-SUM(K22:L22)-SUM(M22:N22)) -> 853553.71 | P22: =IF(SUM(D22:G22)-SUM(K22:L22)<0,0,SUM(D22:G22)-SUM(K22:L22)-SUM(M22:O22)) -> 870624.78 | Q22: =IF(I22-SUM(K22:L22)<0,0,I22-SUM(K22:L22)) -> 3375183.5 | R22: =IF(Q22>0,0,I22-SUM(K22:L22)) -> 0
A23: TRPA (South Lake Tahoe, CA-NV) | B23: 145000 | C23: 145000 | D23: 269956 | E23: 275355 | F23: ='FY24 APPORTIONMENT'!B19 -> 264982.36 | G23: ='FY25 APPORTIONMENT'!B19 -> 270282.01 | I23: =SUM(D23:G23) -> 1080575.4 | K23: ='OBLIGATION (PROJECT BREAKDOWN)'!B190 -> 545000 | L23: ='FTA Transfer'!B70 -> 0 | M23: =IF(D23-SUM(K23:L23)<0,0,D23-SUM(K23:L23)) -> 0 | N23: =IF(SUM(D23:E23)-SUM(K23:L23)<0,0,SUM(D23:E23)-SUM(K23:L23)-M23) -> 311 | O23: =IF(SUM(D23:F23)-SUM(K23:L23)<0,0,SUM(D23:F23)-SUM(K23:L23)-SUM(M23:N23)) -> 264982.36 | P23: =IF(SUM(D23:G23)-SUM(K23:L23)<0,0,SUM(D23:G23)-SUM(K23:L23)-SUM(M23:O23)) -> 270282.01 | Q23: =IF(I23-SUM(K23:L23)<0,0,I23-SUM(K23:L23)) -> 535575.37 | R23: =IF(Q23>0,0,I23-SUM(K23:L23)) -> 0
A24: 1 Total MPO amount may be spent anywhere within the MPO area.
A25: **For a detailed list of obligated projects per MPO/RTPA please contact Seng.Lo@dot.ca.gov
A26: =A1 -> Carbon Reduction Program (CRP)
A27: Annual Federal Fiscal Year Apportionments - Rural RTPAs
A28: =A3 -> (as of 8/31/2025)
A30: Rural RTPA | B30: 2010 Census Population (Cycle 1-2) | C30: 2020 Census Population (Cycle 3) | D30: Apportionment Distribution¹ Cycle 1 (FFY 2022) | E30: Apportionment Distribution¹ Cycle 2 (FFY 2023) | F30: Apportionment Distribution¹ Cycle 3 (FFY 2024) | G30: Apportionment Distribution¹ Cycle 4 (FFY 2025) | H30: (Cycle 5, 2026) | I30: Combined Total | K30: FUNDS OBLIGATED | L30: FTA TRANSFER | M30: CYCLE 1 | N30: CYCLE 2 | O30: CYCLE 3 | P30: CYCLE 4 | Q30: TOTAL REMAINING TO OBLIGATE | R30: OVER-OBLIGATED
A31: Alpine County Local Transportation Commission (LTC) Total | B31: 1175 | C31: 1204 | D31: 2156 | E31: 2200 | F31: 2158 | G31: ='FY25 APPORTIONMENT'!B23 -> 2200.8499 | I31: =SUM(D31:G31) -> 8714.8499 | K31: 0 | L31: 0 | M31: =IF(D31-SUM(K31:L31)<0,0,D31-SUM(K31:L31)) -> 2156 | N31: =IF(SUM(D31:E31)-SUM(K31:L31)<0,0,SUM(D31:E31)-SUM(K31:L31)-M31) -> 2200 | O31: =IF(SUM(D31:F31)-SUM(K31:L31)<0,0,SUM(D31:F31)-SUM(K31:L31)-SUM(M31:N31)) -> 2158 | P31: =IF(SUM(D31:G31)-SUM(K31:L31)<0,0,SUM(D31:G31)-SUM(K31:L31)-SUM(M31:O31)) -> 2200.8499 | Q31: =IF(I31-SUM(K31:L31)<0,0,I31-SUM(K31:L31)) -> 8714.8499 | R31: =IF(Q31>0,0,I31-SUM(K31:L31)) -> 0
A32: Amador County Transportation Commission (CTC) Total | B32: 38091 | C32: 40474 | D32: 69907 | E32: 71305 | F32: 72534 | G32: ='FY25 APPORTIONMENT'!B24 -> 73984.384 | I32: =SUM(D32:G32) -> 287730.38 | K32: 0 | L32: ='FTA Transfer'!B72 -> 69907 | M32: =IF(D32-SUM(K32:L32)<0,0,D32-SUM(K32:L32)) -> 0 | N32: =IF(SUM(D32:E32)-SUM(K32:L32)<0,0,SUM(D32:E32)-SUM(K32:L32)-M32) -> 71305 | O32: =IF(SUM(D32:F32)-SUM(K32:L32)<0,0,SUM(D32:F32)-SUM(K32:L32)-SUM(M32:N32)) -> 72534 | P32: =IF(SUM(D32:G32)-SUM(K32:L32)<0,0,SUM(D32:G32)-SUM(K32:L32)-SUM(M32:O32)) -> 73984.384 | Q32: =IF(I32-SUM(K32:L32)<0,0,I32-SUM(K32:L32)) -> 217823.38 | R32: =IF(Q32>0,0,I32-SUM(K32:L32)) -> 0
A33: Calaveras Council of Governments (COG) Total | B33: 45578 | C33: 45292 | D33: 83647 | E33: 85320 | F33: 81168 | G33: ='FY25 APPORTIONMENT'!B25 -> 82791.44 | I33: =SUM(D33:G33) -> 332926.44 | K33: 0 | L33: 0 | M33: =IF(D33-SUM(K33:L33)<0,0,D33-SUM(K33:L33)) -> 83647 | N33: =IF(SUM(D33:E33)-SUM(K33:L33)<0,0,SUM(D33:E33)-SUM(K33:L33)-M33) -> 85320 | O33: =IF(SUM(D33:F33)-SUM(K33:L33)<0,0,SUM(D33:F33)-SUM(K33:L33)-SUM(M33:N33)) -> 81168 | P33: =IF(SUM(D33:G33)-SUM(K33:L33)<0,0,SUM(D33:G33)-SUM(K33:L33)-SUM(M33:O33)) -> 82791.44 | Q33: =IF(I33-SUM(K33:L33)<0,0,I33-SUM(K33:L33)) -> 332926.44 | R33: =IF(Q33>0,0,I33-SUM(K33:L33)) -> 0
A34: Colusa County Transportation Commission (CTC) Total | B34: 21419 | C34: 21839 | D34: 39309 | E34: 40096 | F34: 39138 | G34: ='FY25 APPORTIONMENT'!B26 -> 39920.565 | I34: =SUM(D34:G34) -> 158463.57 | K34: 0 | L34: 0 | M34: =IF(D34-SUM(K34:L34)<0,0,D34-SUM(K34:L34)) -> 39309 | N34: =IF(SUM(D34:E34)-SUM(K34:L34)<0,0,SUM(D34:E34)-SUM(K34:L34)-M34) -> 40096 | O34: =IF(SUM(D34:F34)-SUM(K34:L34)<0,0,SUM(D34:F34)-SUM(K34:L34)-SUM(M34:N34)) -> 39138 | P34: =IF(SUM(D34:G34)-SUM(K34:L34)<0,0,SUM(D34:G34)-SUM(K34:L34)-SUM(M34:O34)) -> 39920.565 | Q34: =IF(I34-SUM(K34:L34)<0,0,I34-SUM(K34:L34)) -> 158463.57 | R34: =IF(Q34>0,0,I34-SUM(K34:L34)) -> 0
A35: Del Norte Local Transportation Commission (LTC) Total | B35: 28610 | C35: 27743 | D35: 52507 | E35: 53557 | F35: 49718 | G35: ='FY25 APPORTIONMENT'!B27 -> 50712.773 | I35: =SUM(D35:G35) -> 206494.77 | K35: ='OBLIGATION (PROJECT BREAKDOWN)'!B199 -> 206000 | L35: 0 | M35: =IF(D35-SUM(K35:L35)<0,0,D35-SUM(K35:L35)) -> 0 | N35: =IF(SUM(D35:E35)-SUM(K35:L35)<0,0,SUM(D35:E35)-SUM(K35:L35)-M35) -> 0 | O35: =IF(SUM(D35:F35)-SUM(K35:L35)<0,0,SUM(D35:F35)-SUM(K35:L35)-SUM(M35:N35)) -> 0 | P35: =IF(SUM(D35:G35)-SUM(K35:L35)<0,0,SUM(D35:G35)-SUM(K35:L35)-SUM(M35:O35)) -> 494.77292 | Q35: =IF(I35-SUM(K35:L35)<0,0,I35-SUM(K35:L35)) -> 494.77292 | R35: =IF(Q35>0,0,I35-SUM(K35:L35)) -> 0
A36: Glenn County Transportation Commission (CTC) Total | B36: 28122 | C36: 28917 | D36: 51611 | E36: 52643 | F36: 51822 | G36: ='FY25 APPORTIONMENT'!B28 -> 52858.784 | I36: =SUM(D36:G36) -> 208934.78 | K36: 0 | L36: 0 | M36: =IF(D36-SUM(K36:L36)<0,0,D36-SUM(K36:L36)) -> 51611 | N36: =IF(SUM(D36:E36)-SUM(K36:L36)<0,0,SUM(D36:E36)-SUM(K36:L36)-M36) -> 52643 | O36: =IF(SUM(D36:F36)-SUM(K36:L36)<0,0,SUM(D36:F36)-SUM(K36:L36)-SUM(M36:N36)) -> 51822 | P36: =IF(SUM(D36:G36)-SUM(K36:L36)<0,0,SUM(D36:G36)-SUM(K36:L36)-SUM(M36:O36)) -> 52858.784 | Q36: =IF(I36-SUM(K36:L36)<0,0,I36-SUM(K36:L36)) -> 208934.78 | R36: =IF(Q36>0,0,I36-SUM(K36:L36)) -> 0
A37: Humboldt County Association of Governments (CAG) Total | B37: 134623 | C37: 136463 | D37: 247068 | E37: 252009 | F37: 244556 | G37: ='FY25 APPORTIONMENT'!B29 -> 249447.32 | I37: =SUM(D37:G37) -> 993080.32 | K37: ='OBLIGATION (PROJECT BREAKDOWN)'!B204 -> 248000 | L37: ='FTA Transfer'!B74 -> 7000000 | M37: =IF(D37-SUM(K37:L37)<0,0,D37-SUM(K37:L37)) -> 0 | N37: =IF(SUM(D37:E37)-SUM(K37:L37)<0,0,SUM(D37:E37)-SUM(K37:L37)-M37) -> 0 | O37: =IF(SUM(D37:F37)-SUM(K37:L37)<0,0,SUM(D37:F37)-SUM(K37:L37)-SUM(M37:N37)) -> 0 | P37: =IF(SUM(D37:G37)-SUM(K37:L37)<0,0,SUM(D37:G37)-SUM(K37:L37)-SUM(M37:O37)) -> 0 | Q37: =IF(I37-SUM(K37:L37)<0,0,I37-SUM(K37:L37)) -> 0 | R37: =IF(Q37>0,0,I37-SUM(K37:L37)) -> -6254919.7
A38: Inyo County Local Transportation Commission (LTC) Total | B38: 18546 | C38: 19016 | D38: 34037 | E38: 34717 | F38: 34079 | G38: ='FY25 APPORTIONMENT'!B30 -> 34760.267 | I38: =SUM(D38:G38) -> 137593.27 | K38: 0 | L38: 0 | M38: =IF(D38-SUM(K38:L38)<0,0,D38-SUM(K38:L38)) -> 34037 | N38: =IF(SUM(D38:E38)-SUM(K38:L38)<0,0,SUM(D38:E38)-SUM(K38:L38)-M38) -> 34717 | O38: =IF(SUM(D38:F38)-SUM(K38:L38)<0,0,SUM(D38:F38)-SUM(K38:L38)-SUM(M38:N38)) -> 34079 | P38: =IF(SUM(D38:G38)-SUM(K38:L38)<0,0,SUM(D38:G38)-SUM(K38:L38)-SUM(M38:O38)) -> 34760.267 | Q38: =IF(I38-SUM(K38:L38)<0,0,I38-SUM(K38:L38)) -> 137593.27 | R38: =IF(Q38>0,0,I38-SUM(K38:L38)) -> 0
A39: Lake County/City Area Planning Council (LCCAPC) Total | B39: 64665 | C39: 68163 | D39: 118677 | E39: 121050 | F39: 122155 | G39: ='FY25 APPORTIONMENT'!B31 -> 124598.45 | I39: =SUM(D39:G39) -> 486480.45 | K39: ='OBLIGATION (PROJECT BREAKDOWN)'!B209 -> 105064.75 | L39: 0 | M39: =IF(D39-SUM(K39:L39)<0,0,D39-SUM(K39:L39)) -> 13612.25 | N39: =IF(SUM(D39:E39)-SUM(K39:L39)<0,0,SUM(D39:E39)-SUM(K39:L39)-M39) -> 121050 | O39: =IF(SUM(D39:F39)-SUM(K39:L39)<0,0,SUM(D39:F39)-SUM(K39:L39)-SUM(M39:N39)) -> 122155 | P39: =IF(SUM(D39:G39)-SUM(K39:L39)<0,0,SUM(D39:G39)-SUM(K39:L39)-SUM(M39:O39)) -> 124598.45 | Q39: =IF(I39-SUM(K39:L39)<0,0,I39-SUM(K39:L39)) -> 381415.7 | R39: =IF(Q39>0,0,I39-SUM(K39:L39)) -> 0
A40: Lassen County Transportation Commission (LCTC) Total | B40: 34895 | C40: 32730 | D40: 64041 | E40: 65322 | F40: 58656 | G40: ='FY25 APPORTIONMENT'!B32 -> 59828.752 | I40: =SUM(D40:G40) -> 247847.75 | K40: 0 | L40: 0 | M40: =IF(D40-SUM(K40:L40)<0,0,D40-SUM(K40:L40)) -> 64041 | N40: =IF(SUM(D40:E40)-SUM(K40:L40)<0,0,SUM(D40:E40)-SUM(K40:L40)-M40) -> 65322 | O40: =IF(SUM(D40:F40)-SUM(K40:L40)<0,0,SUM(D40:F40)-SUM(K40:L40)-SUM(M40:N40)) -> 58656 | P40: =IF(SUM(D40:G40)-SUM(K40:L40)<0,0,SUM(D40:G40)-SUM(K40:L40)-SUM(M40:O40)) -> 59828.752 | Q40: =IF(I40-SUM(K40:L40)<0,0,I40-SUM(K40:L40)) -> 247847.75 | R40: =IF(Q40>0,0,I40-SUM(K40:L40)) -> 0
A41: Mariposa County Local Transportation Commission (LTC) Total | B41: 18251 | C41: 17131 | D41: 33495 | E41: 34165 | F41: 30701 | G41: ='FY25 APPORTIONMENT'!B33 -> 31314.584 | I41: =SUM(D41:G41) -> 129675.58 | K41: 0 | L41: 0 | M41: =IF(D41-SUM(K41:L41)<0,0,D41-SUM(K41:L41)) -> 33495 | N41: =IF(SUM(D41:E41)-SUM(K41:L41)<0,0,SUM(D41:E41)-SUM(K41:L41)-M41) -> 34165 | O41: =IF(SUM(D41:F41)-SUM(K41:L41)<0,0,SUM(D41:F41)-SUM(K41:L41)-SUM(M41:N41)) -> 30701 | P41: =IF(SUM(D41:G41)-SUM(K41:L41)<0,0,SUM(D41:G41)-SUM(K41:L41)-SUM(M41:O41)) -> 31314.584 | Q41: =IF(I41-SUM(K41:L41)<0,0,I41-SUM(K41:L41)) -> 129675.58 | R41: =IF(Q41>0,0,I41-SUM(K41:L41)) -> 0
A42: Mendocino Council of Governments (COG) Total | B42: 87841 | C42: 91601 | D42: 161211 | E42: 164435 | F42: 164159 | G42: ='FY25 APPORTIONMENT'!B34 -> 167441.9 | I42: =SUM(D42:G42) -> 657246.9 | K42: 0 | L42: 0 | M42: =IF(D42-SUM(K42:L42)<0,0,D42-SUM(K42:L42)) -> 161211 | N42: =IF(SUM(D42:E42)-SUM(K42:L42)<0,0,SUM(D42:E42)-SUM(K42:L42)-M42) -> 164435 | O42: =IF(SUM(D42:F42)-SUM(K42:L42)<0,0,SUM(D42:F42)-SUM(K42:L42)-SUM(M42:N42)) -> 164159 | P42: =IF(SUM(D42:G42)-SUM(K42:L42)<0,0,SUM(D42:G42)-SUM(K42:L42)-SUM(M42:O42)) -> 167441.9 | Q42: =IF(I42-SUM(K42:L42)<0,0,I42-SUM(K42:L42)) -> 657246.9 | R42: =IF(Q42>0,0,I42-SUM(K42:L42)) -> 0
...

Sheet OBLIGATION (PROJECT BREAKDOWN)
A1: MPO/RTPA | B1: FUNDS OBLIGATED | C1: OBLIGATION PER PROJECT | D1: FPN | E1: PROGRAM CODE | F1: TRANSACTION DATE
A2: AMBAG | B2: =SUM(C3:C11) -> 160452
C3: 160452 | D3: 5304(012) | E3: Y606 | F3: 45855
A12: BCAG | B12: =SUM(C13:C15) -> 2051000
C13: 2051000 | D13: 5037(046) | E13: Y600 | F13: 45421
C14: -2051000 | D14: 5037(046) | E14: Y600 | F14: 45447
C15: 2051000 | D15: 5037(046) | E15: Y601 | F15: 45447
A16: FCOG | B16: =SUM(C17:C29) -> 1158492
C17: 131109 | D17: 5942(324) | E17: Y601 | F17: 45453
C18: 40000 | D18: 5060(410) | E18: Y601 | F18: 07/09/2024
C19: 60560 | D19: 5146(033) | E19: Y601 | F19: 11/18/2024
C20: 318830 | D20: 5252(040) | E20: Y601 | F20: 45806
C21: 565593 | D21: 5942(330) | E21: Y601 | F21: 07/18/2025
C22: 4000 | D22: 5096(048) | E22: Y601 | F22: 07/16/2025
C23: 13600 | D23: 5170(071) | E23: Y607 | F23: 07/18/2025
C24: 24800 | D24: 5170(072) | E24: Y607 | F24: 07/18/2025
A30: KCAG | B30: 0
A31: KCOG | B31: =SUM(C32:C47) -> 3574006.6
C32: 35848 | D32: 5109(290) | E32: Y601 | F32: 45399
C33: 569585 | D33: 5109(290) | E33: Y601 | F33: 45399
C34: 54503 | D34: 5109(291) | E34: Y601 | F34: 45399
C35: 894892 | D35: 5109(291) | E35: Y601 | F35: 45399
C36: 141774.6 | D36: 5109(290) | E36: Y601 | F36: 07/18/2024
C37: 219480 | D37: 5109(291) | E37: Y601 | F37: 07/18/2024
C38: 72000 | D38: 5184(046) | E38: Y607 | F38: 07/09/2024
C39: 18004.04 | D39: 5109(296) | E39: Y601 | F39: 07/02/2025
C40: 495113.96 | D40: 5109(296) | E40: Y601 | F40: 07/02/2025
C41: 37641.8 | D41: 5109(297) | E41: Y601 | F41: 08/20/2025
C42: 1035164.2 | D42: 5109(297) | E42: Y601 | F42: 08/20/2025
A48: MCAG | B48: =SUM(C49:C55) -> 1304428
C49: 167248 | D49: 5254(031) | E49: Y607 | F49: 06/03/2024
C50: 1100501 | D50: 5254(031) | E50: Y607 | F50: 06/03/2024
C51: 36679 | D51: 5085(062) | E51: Y607 | F51: 07/29/2024
C52: 834032 | D52: 5254(031) | E52: Y606 | F52: 45833
C53: 234265 | D53: 5254(031) | E53: Y606 | F53: 45833
C54: -901049 | D54: 5254(031) | E54: Y607 | F54: 45833
C55: -167248 | D55: 5254(031) | E55: Y607 | F55: 45833
A56: MCTC | B56: =SUM(C57:C68) -> 149000
C57: 24000 | D57: 5157(136) | E57: Y601 | F57: 45790
C58: 31000 | D58: 5157(138) | E58: Y606 | F58: 45790
...

Sheet FTA Transfer
A1: MPO/RTPA | B1: TOTAL FUNDING AMOUNT TRANSFERRED | C1: TRANSFERRED PER PROJECT | D1: FPN | E1: PROGRAM CODE | F1: TRANSACTION DATE
A2: AMBAG | B2: =SUM(C3:C4) -> 2000000
C3: 1653724 | D3: FTACRPL-6011(017) | E3: Y606 | F3: 45719
C4: 346276 | D4: FTACRPL-6011(017) | E4: Y608 | F4: 45719
A6: BCAG
A8: FCOG | B8: =SUM(C9) -> 1153600
C9: 1153600 | D9: FTACRP-6008(019) | E9: Y601 | F9: 8/5/2025
A10: KCAG | B10: =SUM(C11) -> 286000
C11: 286000 | D11: FTACML-6198(025) | E11: Y601 | F11: 45742
A12: KCOG
A14: MCAG
A16: MCTC
A18: MTC | B18: =SUM(C19:C32) -> 28266500
C19: 3000000 | D19: FTACRPL-6000(077) | E19: Y601 | F19: 45329
C20: 6591250 | D20: FTACRPL-6193(013) | E20: Y601 | F20: 45356
C21: 6591250 | D21: FTACRPL-6193(014) | E21: Y601 | F21: 45357
C22: 5900000 | D22: FTACRPL-6000(080) | E22: Y601 | F22: 45440
C23: 3750000 | D23: FTACRPL-6365(008) | E23: Y601 | F23: 45700
C24: 376000 | D24: FTACRPL-5941(143) | E24: Y606 | F24: 45811
C25: 1029000 | D25: FTACRP-6193(015) | E25: Y601 | F25: 45862
C26: 1029000 | D26: FTACRP-6193(016) | E26: Y601 | F26: 7/24/2025
A33: SACOG
A35: SANDAG
A37: SJCOG
A39: SLOCOG
A41: SBCAG
A43: SRTA | B43: =SUM(C44) -> 157005
C44: 157005 | D44: FTACRPL-6516(001) | E44: Y606 | F44: 45497
A45: SCAG | B45: =SUM(C46:C59) -> 79881111
C46: 4500000 | D46: FTACML-6052(011) | E46: Y601 | F46: 45131
C47: 5748000 | D47: FTACRPL-6071(186) | E47: Y601 | F47: 45113
C48: 17915334 | D48: FTACRPL-6065(265) | E48: Y601 | F48: 45113
C49: 1022160 | D49: FTACRPL-6155(121) | E49: Y601 | F49: 45265
C50: 12503000 | D50: FTACRP-6071(198) | E50: Y601 | F50: 45482
C51: 2544896 | D51: FTACML-6071(206) | E51: Y601 | F51: 45709
C52: 168000 | D52: FTACRPL-5405(105) | E52: Y606 | F52: 45757
C53: 2544896 | D53: FTACRP-6071(206) | E53: Y601 | F53: 45776
C54: 1469350 | D54: FTACRP-6052(012) | E54: Y608 | F54: 45834
C55: 24000000 | D55: FTACRP-6065(277) | E55: Y601 | F55: 7/18/2025
C56: 3637525 | D56: FTACRPL-5953(812) | E56: Y601 | F56: 7/24/2025
...
