Workbook

Sheet Remove Non STIP-SHOPP, IA
A1: Project ID | B1: EA | C1: PRSM Status | D1: Fiscal Year | E1: CTIPS Funding Sources | F1: CTIPS STIP/SHOPP Amount | G1: Funding Sources | H1: Task Code | I1: M200 | J1: M225 | K1: M410 | L1: 050 Acq of Real Property (k$) | M1: 052 Est Damages to Excess Land (k$) | N1: 053 Int on Condmntn (k$) | O1: 059 Acq of Personal Prop (k$) | P1: 080 Real Prop Excess Lands Acq (k$) | Q1: 083 Early Acq (k$) | R1: 090 Condmntn Deposits (k$) | S1: 130 Jury Recording Reporter Fees Exp Condmntn (k$) | T1: 131 Expert Appraiser Witness Condmntn (k$) | U1: 034-Title & Escrow (k$) | V1: 042 Railroad (k$) | W1: 051 Pos Loc Util (k$) | X1: 054 ROW Util Reloc(k$) | Y1: 055 Reloc Asst(k$) | Z1: 056 CI or Demo (k$) | AA1: 060 Proj Spec Permit (k$) | AB1: 081 Mitigation (k$) | AC1: 088 Proj Permit FeesFed Inelig (k$) | AD1: 170 Claims Legal Payments Fed Inelig (k$) | AE1: 230 Jury Recording Reptr Fees Exp–IC-Fed Inelig (k$) | AF1: 231 Exp Appr/ Witness IC-Fed Inelig (k$) | AG1: 253 Interest on IC- Fed Inelig (k$) | AH1: Total | AI1: Data Sheet Date
A2: 0100000154 | B2: 01-40110 | C2: APL | D2: 2024 | E2: 20.XX.201.2XX | F2: 8465000 | G2: 2020201.110 | H2: 1500 | I2: 45512 | J2: 45512 | K2: 46239 | L2: 0 | M2: 0 | N2: 0 | O2: 0 | P2: 0 | Q2: 0 | R2: 0 | S2: 0 | T2: 0 | U2: 0 | V2: 0 | W2: 0 | X2: 66 | Y2: 0 | Z2: 0 | AA2: 0 | AB2: 0 | AC2: 0 | AD2: 0 | AE2: 0 | AF2: 0 | AG2: 0 | AH2: =SUM(L2:AG2) -> 66 | AI2: 42789
A3: 0100000154 | B3: 01-40110 | C3: APL | D3: 2025 | E3: 20.XX.201.2XX | F3: 8465000 | G3: 2020201.110 | H3: 1500 | I3: 45512 | J3: 45512 | K3: 46239 | L3: 0 | M3: 0 | N3: 0 | O3: 0 | P3: 0 | Q3: 0 | R3: 0 | S3: 0 | T3: 0 | U3: 8 | V3: 0 | W3: 0 | X3: 0 | Y3: 0 | Z3: 0 | AA3: 115 | AB3: 0 | AC3: 0 | AD3: 0 | AE3: 0 | AF3: 0 | AG3: 0 | AH3: =SUM(L3:AG3) -> 123 | AI3: 42789
A4: 0100000154 | B4: 01-40110 | C4: APL | D4: 2026 | E4: 20.XX.201.2XX | F4: 8465000 | G4: 2020201.110 | H4: 1500 | I4: 45512 | J4: 45512 | K4: 46239 | L4: 1679 | M4: 0 | N4: 0 | O4: 0 | P4: 0 | Q4: 0 | R4: 0 | S4: 0 | T4: 0 | U4: 0 | V4: 0 | W4: 0 | X4: 0 | Y4: 0 | Z4: 0 | AA4: 0 | AB4: 0 | AC4: 0 | AD4: 0 | AE4: 0 | AF4: 0 | AG4: 0 | AH4: =SUM(L4:AG4) -> 1679 | AI4: 44817
A5: 0100000154 | B5: 01-40110 | C5: APL | D5: 2027 | E5: 20.XX.201.2XX | F5: 8465000 | G5: 2020201.110 | H5: 1500 | I5: 45512 | J5: 45512 | K5: 46239 | L5: 0 | M5: 0 | N5: 0 | O5: 0 | P5: 0 | Q5: 0 | R5: 0 | S5: 0 | T5: 0 | U5: 26 | V5: 0 | W5: 0 | X5: 0 | Y5: 0 | Z5: 0 | AA5: 0 | AB5: 2413 | AC5: 0 | AD5: 0 | AE5: 0 | AF5: 0 | AG5: 0 | AH5: =SUM(L5:AG5) -> 2439 | AI5: 42789
A6: 0100000155 | B6: 01-40140 | C6: APL | D6: 2024 | E6: 20.XX.201.2XX | F6: 6324000 | G6: 2020201.110 | H6: 1510 | I6: 46583 | J6: 46639 | K6: 47007 | L6: 354 | M6: 0 | N6: 0 | O6: 0 | P6: 0 | Q6: 0 | R6: 0 | S6: 0 | T6: 0 | U6: 3 | V6: 0 | W6: 0 | X6: 15 | Y6: 0 | Z6: 0 | AA6: 0 | AB6: 0 | AC6: 14 | AD6: 0 | AE6: 0 | AF6: 0 | AG6: 0 | AH6: =SUM(L6:AG6) -> 386 | AI6: 42593
A7: 0100000155 | B7: 01-40140 | C7: APL | D7: 2025 | E7: 20.XX.201.2XX | F7: 6324000 | G7: 2020201.110 | H7: 1510 | I7: 46583 | J7: 46639 | K7: 47007 | L7: 409 | M7: 0 | N7: 0 | O7: 0 | P7: 0 | Q7: 0 | R7: 0 | S7: 0 | T7: 0 | U7: 10 | V7: 0 | W7: 0 | X7: 0 | Y7: 0 | Z7: 0 | AA7: 0 | AB7: 0 | AC7: 0 | AD7: 0 | AE7: 0 | AF7: 0 | AG7: 0 | AH7: =SUM(L7:AG7) -> 419 | AI7: 42593
A8: 0100000155 | B8: 01-40140 | C8: APL | D8: 2029 | E8: 20.XX.201.2XX | F8: 6324000 | G8: 2020201.110 | H8: 1510 | I8: 46583 | J8: 46639 | K8: 47007 | L8: 0 | M8: 0 | N8: 0 | O8: 0 | P8: 0 | Q8: 0 | R8: 0 | S8: 0 | T8: 0 | U8: 0 | V8: 0 | W8: 0 | X8: 287 | Y8: 0 | Z8: 0 | AA8: 0 | AB8: 5127 | AC8: 0 | AD8: 0 | AE8: 0 | AF8: 0 | AG8: 0 | AH8: =SUM(L8:AG8) -> 5414 | AI8: 42593
A9: 0100000193 | B9: 01-43640 | C9: APL | D9: 2024 | E9: 20.XX.201.110 | F9: 6499000 | G9: 2020201.110 | H9: 1510 | I9: 43909 | J9: 43945 | K9: 44301 | L9: 0 | M9: 0 | N9: 0 | O9: 0 | P9: 0 | Q9: 0 | R9: 0 | S9: 0 | T9: 0 | U9: 0 | V9: 0 | W9: 0 | X9: 0 | Y9: 0 | Z9: 0 | AA9: 0 | AB9: 3726 | AC9: 0 | AD9: 0 | AE9: 0 | AF9: 0 | AG9: 0 | AH9: =SUM(L9:AG9) -> 3726 | AI9: 43615
A10: 0100000266 | B10: 01-46480 | C10: APL | D10: 2024 | E10: 20.XX.201.310 | F10: 72000 | G10: 2020201.310 | H10: 1510 | I10: 44956 | J10: 45078 | K10: 45413 | L10: 0 | M10: 0 | N10: 0 | O10: 0 | P10: 0 | Q10: 0 | R10: 0 | S10: 0 | T10: 0 | U10: 0 | V10: 0 | W10: 0 | X10: 0 | Y10: 0 | Z10: 0 | AA10: 23 | AB10: 0 | AC10: 0 | AD10: 0 | AE10: 0 | AF10: 0 | AG10: 0 | AH10: =SUM(L10:AG10) -> 23 | AI10: 44673
A11: 0112000180 | B11: 01-43730 | C11: APL | D11: 2027 | E11: 20.XX.201.310 | F11: 2550000 | G11: 2020201.310 | H11: 1510 | I11: 42034 | J11: 42156 | K11: 42641 | L11: 0 | M11: 0 | N11: 0 | O11: 0 | P11: 0 | Q11: 0 | R11: 0 | S11: 0 | T11: 0 | U11: 0 | V11: 0 | W11: 0 | X11: 427 | Y11: 0 | Z11: 0 | AA11: 0 | AB11: 0 | AC11: 0 | AD11: 0 | AE11: 0 | AF11: 0 | AG11: 0 | AH11: =SUM(L11:AG11) -> 427 | AI11: 42451
A12: 0112000202 | B12: 01-26202 | C12: APL | D12: 2025 | E12: 20.XX.025.700, 20.XX.075.600 | F12: 21530000 | G12: 2020025.700 | H12: 1510 | I12: 32799 | J12: 39508 | K12: 41317 | L12: 0 | M12: 0 | N12: 0 | O12: 0 | P12: 0 | Q12: 0 | R12: 0 | S12: 0 | T12: 0 | U12: 0 | V12: 0 | W12: 0 | X12: 0 | Y12: 0 | Z12: 0 | AA12: 0 | AB12: 555 | AC12: 0 | AD12: 0 | AE12: 0 | AF12: 0 | AG12: 0 | AH12: =SUM(L12:AG12) -> 555 | AI12: 43740
A13: 0112000202 | B13: 01-26202 | C13: APL | D13: 2025 | E13: 20.XX.025.700, 20.XX.075.600 | F13: 21530000 | G13: 2020075.600 | H13: 1510 | I13: 32799 | J13: 39508 | K13: 41317 | L13: 0 | M13: 0 | N13: 0 | O13: 0 | P13: 0 | Q13: 0 | R13: 0 | S13: 0 | T13: 0 | U13: 0 | V13: 0 | W13: 0 | X13: 0 | Y13: 0 | Z13: 0 | AA13: 0 | AB13: 555 | AC13: 0 | AD13: 0 | AE13: 0 | AF13: 0 | AG13: 0 | AH13: =SUM(L13:AG13) -> 555 | AI13: 43740
A14: 0113000032 | B14: 01-0C720 | C14: APL | D14: 2024 | E14: 20.XX.075.600 | F14: 390000 | G14: 2020025.700 | H14: 1510 | I14: 45120 | J14: 45120 | K14: 45715 | L14: 158 | U14: 15 | V14: 0 | W14: 0 | X14: 88 | Y14: 0 | Z14: 0 | AA14: 0 | AC14: 16 | AH14: =SUM(L14:AG14) -> 277 | AI14: 43616
A15: 0113000032 | B15: 01-0C720 | C15: APL | D15: 2025 | E15: 20.XX.075.600 | F15: 390000 | G15: 2020025.700 | H15: 1510 | I15: 45120 | J15: 45120 | K15: 45715 | U15: 3 | V15: 0 | W15: 0 | X15: 0 | Y15: 0 | Z15: 7 | AA15: 0 | AH15: =SUM(L15:AG15) -> 10 | AI15: 43616
A16: 0113000090 | B16: 01-0E010 | C16: APL | D16: 2024 | E16: 20.XX.201.015 | F16: 3427000 | G16: 2020201.015 | H16: 1510 | I16: 44078 | J16: 44263 | K16: 44673 | L16: 146 | M16: 0 | N16: 0 | O16: 0 | P16: 0 | Q16: 0 | R16: 0 | S16: 0 | T16: 0 | U16: 0 | V16: 0 | W16: 0 | X16: 89 | Y16: 0 | Z16: 53 | AA16: 12 | AB16: 22 | AC16: 0 | AD16: 0 | AE16: 0 | AF16: 0 | AG16: 0 | AH16: =SUM(L16:AG16) -> 322 | AI16: 43917
A17: 0113000090 | B17: 01-0E010 | C17: APL | D17: 2025 | E17: 20.XX.201.015 | F17: 3427000 | G17: 2020201.015 | H17: 1510 | I17: 44078 | J17: 44263 | K17: 44673 | L17: 407 | M17: 0 | N17: 0 | O17: 0 | P17: 0 | Q17: 0 | R17: 0 | S17: 0 | T17: 0 | U17: 0 | V17: 0 | W17: 0 | X17: 0 | Y17: 0 | Z17: 0 | AA17: 12 | AB17: 0 | AC17: 0 | AD17: 0 | AE17: 0 | AF17: 0 | AG17: 0 | AH17: =SUM(L17:AG17) -> 419 | AI17: 43917
A18: 0113000106 | B18: 01-48400 | C18: APL | D18: 2024 | E18: 20.XX.201.151 | F18: 103000 | G18: 2020201.151 | H18: 1530 | I18: 44484 | J18: 44460 | K18: 44728 | L18: 0 | M18: 0 | N18: 0 | O18: 0 | P18: 0 | Q18: 0 | R18: 0 | S18: 0 | T18: 0 | U18: 0 | V18: 0 | W18: 0 | X18: 0 | Y18: 0 | Z18: 0 | AA18: 3 | AB18: 0 | AC18: 0 | AD18: 0 | AE18: 0 | AF18: 0 | AG18: 0 | AH18: =SUM(L18:AG18) -> 3 | AI18: 44468
A19: 0113000125 | B19: 01-0E110 | C19: APL | D19: 2024 | E19: 20.XX.201.112 | F19: 400000 | G19: 2020201.112 | H19: 1510 | I19: 44554 | J19: 44517 | K19: 44783 | L19: 0 | M19: 0 | N19: 0 | O19: 0 | P19: 0 | Q19: 0 | R19: 0 | S19: 0 | T19: 0 | U19: 0 | V19: 0 | W19: 0 | X19: 0 | Y19: 0 | Z19: 0 | AA19: 0 | AB19: 912 | AC19: 0 | AD19: 0 | AE19: 0 | AF19: 0 | AG19: 0 | AH19: =SUM(L19:AG19) -> 912 | AI19: 44509
A20: 0114000043 | B20: 01-29811 | C20: APL | D20: 2024 | E20: 20.XX.201.010 | F20: 9777000 | G20: 2020201.010 | H20: 1530 | I20: 42704 | J20: 42993 | K20: 43590 | L20: 0 | M20: 0 | N20: 0 | O20: 0 | P20: 0 | Q20: 0 | R20: 0 | S20: 0 | T20: 0 | U20: 0 | V20: 0 | W20: 0 | X20: 0 | Y20: 0 | Z20: 0 | AA20: 0 | AB20: 1138 | AC20: 0 | AD20: 0 | AE20: 0 | AF20: 0 | AG20: 0 | AH20: =SUM(L20:AG20) -> 1138 | AI20: 44645
A21: 0114000043 | B21: 01-29811 | C21: APL | D21: 2024 | E21: 20.XX.201.010 | F21: 9777000 | G21: 2020201.010 | H21: 1530 | I21: 42704 | J21: 42993 | K21: 43590 | L21: 198 | M21: 0 | N21: 0 | O21: 0 | P21: 0 | Q21: 0 | R21: 0 | S21: 0 | T21: 36 | U21: 0 | V21: 0 | W21: 0 | X21: 0 | Y21: 0 | Z21: 0 | AA21: 0 | AB21: 0 | AC21: 0 | AD21: 0 | AE21: 0 | AF21: 0 | AG21: 0 | AH21: =SUM(L21:AG21) -> 234 | AI21: 44645
A22: 0115000003 | B22: 01-0E720 | C22: APL | D22: 2024 | E22: 20.XX.201.010 | F22: 945000 | G22: 2020201.010 | H22: 1510 | I22: 43496 | J22: 43501 | K22: 43854 | L22: 0 | M22: 0 | N22: 0 | O22: 0 | P22: 0 | Q22: 0 | R22: 0 | S22: 0 | T22: 0 | U22: 0 | V22: 0 | W22: 0 | X22: 0 | Y22: 0 | Z22: 0 | AA22: 0 | AB22: 658 | AC22: 0 | AD22: 0 | AE22: 0 | AF22: 0 | AG22: 0 | AH22: =SUM(L22:AG22) -> 658 | AI22: 44680
A23: 0115000003 | B23: 01-0E720 | C23: APL | D23: 2025 | E23: 20.XX.201.010 | F23: 945000 | G23: 2020201.010 | H23: 1510 | I23: 43496 | J23: 43501 | K23: 43854 | L23: 88 | M23: 0 | N23: 0 | O23: 0 | P23: 0 | Q23: 0 | R23: 0 | S23: 0 | T23: 0 | U23: 0 | V23: 0 | W23: 0 | X23: 0 | Y23: 0 | Z23: 0 | AA23: 0 | AB23: 0 | AC23: 0 | AD23: 0 | AE23: 0 | AF23: 0 | AG23: 0 | AH23: =SUM(L23:AG23) -> 88 | AI23: 44680
A24: 0115000004 | B24: 01-0E730 | C24: APL | D24: 2024 | E24: 20.XX.201.010 | F24: 339000 | G24: 2020201.010 | H24: 1510 | I24: 43357 | J24: 43332 | K24: 43706 | L24: 0 | M24: 0 | N24: 0 | O24: 0 | P24: 0 | Q24: 0 | R24: 0 | S24: 0 | T24: 0 | U24: 0 | V24: 0 | W24: 0 | X24: 0 | Y24: 0 | Z24: 0 | AA24: 0 | AB24: 159 | AC24: 0 | AD24: 0 | AE24: 0 | AF24: 0 | AG24: 0 | AH24: =SUM(L24:AG24) -> 159 | AI24: 44657
A25: 0115000076 | B25: 01-0F160 | C25: APL | D25: 2024 | E25: 20.XX.201.010 | F25: 312000 | G25: 2020201.010 | H25: 1510 | I25: 44060 | J25: 44060 | K25: 44252 | L25: 0 | M25: 0 | N25: 0 | O25: 0 | P25: 0 | Q25: 0 | R25: 0 | S25: 0 | T25: 0 | U25: 0 | V25: 0 | W25: 0 | X25: 0 | Y25: 0 | Z25: 0 | AA25: 3 | AB25: 0 | AC25: 0 | AD25: 0 | AE25: 0 | AF25: 0 | AG25: 0 | AH25: =SUM(L25:AG25) -> 3 | AI25: 44628
A26: 0115000076 | B26: 01-0F160 | C26: APL | D26: 2025 | E26: 20.XX.201.010 | F26: 312000 | G26: 2020201.010 | H26: 1510 | I26: 44060 | J26: 44060 | K26: 44252 | L26: 0 | M26: 0 | N26: 0 | O26: 0 | P26: 0 | Q26: 0 | R26: 0 | S26: 0 | T26: 0 | U26: 0 | V26: 0 | W26: 0 | X26: 0 | Y26: 0 | Z26: 0 | AA26: 3 | AB26: 0 | AC26: 0 | AD26: 0 | AE26: 0 | AF26: 0 | AG26: 0 | AH26: =SUM(L26:AG26) -> 3 | AI26: 44628
A27: 0115000076 | B27: 01-0F160 | C27: APL | D27: 2026 | E27: 20.XX.201.010 | F27: 312000 | G27: 2020201.010 | H27: 1510 | I27: 44060 | J27: 44060 | K27: 44252 | L27: 0 | M27: 0 | N27: 0 | O27: 0 | P27: 0 | Q27: 0 | R27: 0 | S27: 0 | T27: 0 | U27: 0 | V27: 0 | W27: 0 | X27: 0 | Y27: 0 | Z27: 0 | AA27: 3 | AB27: 0 | AC27: 0 | AD27: 0 | AE27: 0 | AF27: 0 | AG27: 0 | AH27: =SUM(L27:AG27) -> 3 | AI27: 44628
... A38: 0117000115 | B38: 01-0H140 | C38: APL | D38: 2025 | E38: 20.XX.201.361 | F38: 804000 | G38: 2020201.361 | H38: 1530 | I38: 44732 | J38: 44939 | K38: 45474 | L38: 0 | M38: 0 | N38: 0 | O38: 0 | P38: 0 | Q38: 0 | R38: 0 | S38: 0 | T38: 0 | U38: 30 | V38: 0 | W38: 0 | X38: 0 | Y38: 0 | Z38: 0 | AA38: 0 | AB38: 0 | AC38: 0 | AD38: 0 | AE38: 0 | AF38: 0 | AG38: 0 | AH38: =SUM(L38:AG38) -> 30 | AI38: 44727
A39: 0117000116 | B39: 01-0H150 | C39: APL | D39: 2024 | E39: 20.XX.201.120 | F39: 109000 | G39: 2020201.121 | H39: 1510 | I39: 44722 | J39: 44783 | K39: 45200 | L39: 23 | U39: 0 | V39: 0 | W39: 0 | X39: 0 | Y39: 0 | Z39: 0 | AA39: 0 | AB39: 0 | AH39: =SUM(L39:AG39) -> 23 | AI39: 44705
A40: 0117000133 | B40: 01-43484 | C40: APL | D40: 2024 | E40: 20.XX.201.112 | F40: 385000 | G40: 2020201.112 | H40: 1510 | I40: 44617 | J40: 44536 | K40: 44937 | M40: 0 | N40: 0 | O40: 0 | P40: 0 | Q40: 0 | R40: 0 | S40: 0 | T40: 0 | U40: 0 | V40: 0 | W40: 0 | X40: 0 | Y40: 0 | Z40: 0 | AA40: 0 | AB40: 98 | AC40: 0 | AD40: 0 | AE40: 0 | AF40: 0 | AG40: 0 | AH40: =SUM(L40:AG40) -> 98 | AI40: 44585
A41: 0117000133 | B41: 01-43484 | C41: APL | D41: 2026 | E41: 20.XX.201.112 | F41: 385000 | G41: 2020201.112 | H41: 1500 | I41: 44617 | J41: 44536 | K41: 44937 | L41: 162 | M41: 0 | N41: 0 | O41: 0 | P41: 0 | Q41: 0 | R41: 0 | S41: 0 | T41: 0 | U41: 0 | V41: 0 | W41: 0 | X41: 0 | Y41: 0 | Z41: 0 | AA41: 0 | AB41: 0 | AC41: 0 | AD41: 0 | AE41: 0 | AF41: 0 | AG41: 0 | AH41: =SUM(L41:AG41) -> 162 | AI41: 44585
A42: 0117000140 | B42: 01-0H240 | C42: APL | D42: 2024 | E42: 20.XX.201.151 | F42: 700000 | G42: 2020201.151 | H42: 1510 | I42: 45352 | J42: 45352 | K42: 46157 | L42: 0 | M42: 0 | N42: 0 | O42: 0 | P42: 0 | Q42: 0 | R42: 0 | S42: 0 | T42: 0 | U42: 0 | V42: 0 | W42: 0 | X42: 18 | Y42: 0 | Z42: 0 | AA42: 0 | AB42: 0 | AC42: 0 | AD42: 0 | AE42: 0 | AF42: 0 | AG42: 0 | AH42: =SUM(L42:AG42) -> 18 | AI42: 44529
A43: 0117000140 | B43: 01-0H240 | C43: APL | D43: 2025 | E43: 20.XX.201.151 | F43: 700000 | G43: 2020201.151 | H43: 1510 | I43: 45352 | J43: 45352 | K43: 46157 | L43: 103 | M43: 0 | N43: 0 | O43: 0 | P43: 0 | Q43: 0 | R43: 0 | S43: 0 | T43: 0 | U43: 17 | V43: 0 | W43: 0 | X43: 0 | Y43: 0 | Z43: 0 | AA43: 0 | AB43: 0 | AC43: 82 | AD43: 0 | AE43: 0 | AF43: 0 | AG43: 0 | AH43: =SUM(L43:AG43) -> 202 | AI43: 44529
A44: 0117000140 | B44: 01-0H240 | C44: APL | D44: 2026 | E44: 20.XX.201.151 | F44: 700000 | G44: 2020201.151 | H44: 1510 | I44: 45352 | J44: 45352 | K44: 46157 | L44: 22 | M44: 0 | N44: 0 | O44: 0 | P44: 0 | Q44: 0 | R44: 0 | S44: 0 | T44: 0 | U44: 0 | V44: 0 | W44: 0 | X44: 0 | Y44: 0 | Z44: 0 | AA44: 0 | AB44: 0 | AC44: 0 | AD44: 0 | AE44: 0 | AF44: 0 | AG44: 0 | AH44: =SUM(L44:AG44) -> 22 | AI44: 44529
A45: 0117000169 | B45: 01-0H410 | C45: APL | D45: 2024 | E45: 20.XX.201.151 | F45: 474000 | G45: 2020201.151 | H45: 1510 | I45: 44733 | K45: 45266 | L45: 0 | M45: 0 | N45: 0 | O45: 0 | P45: 0 | Q45: 0 | R45: 0 | S45: 0 | T45: 0 | U45: 0 | V45: 0 | W45: 0 | X45: 0 | Y45: 0 | Z45: 0 | AA45: 356 | AB45: 0 | AC45: 0 | AD45: 0 | AE45: 0 | AF45: 0 | AG45: 0 | AH45: =SUM(L45:AG45) -> 356 | AI45: 44698
A46: 0117000169 | B46: 01-0H410 | C46: APL | D46: 2029 | E46: 20.XX.201.151 | F46: 474000 | G46: 2020201.151 | H46: 1510 | I46: 44733 | K46: 45266 | L46: 0 | M46: 0 | N46: 0 | O46: 0 | P46: 0 | Q46: 0 | R46: 0 | S46: 0 | T46: 0 | U46: 0 | V46: 0 | W46: 0 | X46: 7 | Y46: 0 | Z46: 0 | AA46: 0 | AB46: 0 | AC46: 0 | AD46: 0 | AE46: 0 | AF46: 0 | AG46: 0 | AH46: =SUM(L46:AG46) -> 7 | AI46: 44698
A47: 0117000223 | B47: 01-0A131 | C47: APL | D47: 2024 | E47: 20.XX.201.113 | F47: 251000 | G47: 2020201.113 | H47: 1530 | I47: 44180 | J47: 44195 | K47: 44792 | L47: 0 | M47: 0 | N47: 0 | O47: 0 | P47: 0 | Q47: 0 | R47: 0 | S47: 0 | T47: 0 | U47: 0 | V47: 0 | W47: 0 | X47: 0 | Y47: 0 | Z47: 0 | AA47: 24 | AB47: 0 | AC47: 0 | AD47: 0 | AE47: 0 | AF47: 0 | AG47: 0 | AH47: =SUM(L47:AG47) -> 24 | AI47: 44907
A48: 0117000245 | B48: 01-0H640 | C48: APL | D48: 2024 | E48: 20.XX.201.151 | F48: 1775000 | G48: 2020201.151 | H48: 1510 | I48: 45061 | J48: 45061 | K48: 45383 | L48: 26 | U48: 19 | V48: 0 | W48: 0 | X48: 0 | Y48: 0 | Z48: 0 | AB48: 823 | AC48: 24 | AH48: =SUM(L48:AG48) -> 892 | AI48: 44783
A49: 0117000245 | B49: 01-0H640 | C49: APL | D49: 2025 | E49: 20.XX.201.151 | F49: 1775000 | G49: 2020201.151 | H49: 1530 | I49: 45061 | J49: 45061 | K49: 45383 | L49: 0 | M49: 0 | N49: 0 | O49: 0 | P49: 0 | Q49: 0 | R49: 0 | S49: 0 | T49: 0 | U49: 0 | V49: 0 | W49: 0 | X49: 0 | Y49: 0 | Z49: 0 | AA49: 0 | AB49: 1224 | AC49: 0 | AD49: 0 | AE49: 0 | AF49: 0 | AG49: 0 | AH49: =SUM(L49:AG49) -> 1224 | AI49: 44873
A50: 0117000245 | B50: 01-0H640 | C50: APL | D50: 2025 | E50: 20.XX.201.151 | F50: 1775000 | G50: 2020201.151 | H50: 1510 | I50: 45061 | J50: 45061 | K50: 45383 | L50: 0 | M50: 0 | N50: 0 | O50: 0 | P50: 0 | Q50: 0 | R50: 0 | S50: 0 | T50: 0 | U50: 0 | V50: 0 | W50: 0 | X50: 0 | Y50: 0 | Z50: 0 | AA50: 0 | AB50: 824 | AC50: 17 | AD50: 0 | AE50: 0 | AF50: 0 | AG50: 0 | AH50: =SUM(L50:AG50) -> 841 | AI50: 44873
...

Sheet PA&ED Adj
A1: Project ID | B1: EA | C1: PRSM Status | D1: Fiscal Year | E1: CTIPS Funding Sources | F1: CTIPS STIP/SHOPP Amount | G1: Funding Sources | H1: Task Code | I1: M200 | J1: M225 | K1: M410 | L1: 050 Acq of Real Property (k$) | M1: 052 Est Damages to Excess Land (k$) | N1: 053 Int on Condmntn (k$) | O1: 059 Acq of Personal Prop (k$) | P1: 080 Real Prop Excess Lands Acq (k$) | Q1: 083 Early Acq (k$) | R1: 090 Condmntn Deposits (k$) | S1: 130 Jury Recording Reporter Fees Exp Condmntn (k$) | T1: 131 Expert Appraiser Witness Condmntn (k$) | U1: 034-Title & Escrow (k$) | V1: 042 Railroad (k$) | W1: 051 Pos Loc Util (k$) | X1: 054 ROW Util Reloc(k$) | Y1: 055 Reloc Asst(k$) | Z1: 056 CI or Demo (k$) | AA1: 060 Proj Spec Permit (k$) | AB1: 081 Mitigation (k$) | AC1: 088 Proj Permit FeesFed Inelig (k$) | AD1: 170 Claims Legal Payments Fed Inelig (k$) | AE1: 230 Jury Recording Reptr Fees Exp–IC-Fed Inelig (k$) | AF1: 231 Exp Appr/ Witness IC-Fed Inelig (k$) | AG1: 253 Interest on IC- Fed Inelig (k$) | AH1: Total | AI1: Data Sheet Date | AJ1: Comments
A2: 0100000154 | B2: 01-40110 | C2: APL | D2: 2024 | E2: 20.XX.201.2XX | F2: 8465000 | G2: 2020201.110 | H2: 1500 | I2: 45512 | J2: 45512 | K2: 46239 | L2: 0 | M2: 0 | N2: 0 | O2: 0 | P2: 0 | Q2: 0 | R2: 0 | S2: 0 | T2: 0 | U2: 0 | V2: 0 | W2: 0 | X2: 66 | Y2: 0 | Z2: 0 | AA2: 0 | AB2: 0 | AC2: 0 | AD2: 0 | AE2: 0 | AF2: 0 | AG2: 0 | AH2: =SUM(L2:AG2) -> 66 | AI2: 42789
A3: 0100000154 | B3: 01-40110 | C3: APL | D3: 2025 | E3: 20.XX.201.2XX | F3: 8465000 | G3: 2020201.110 | H3: 1500 | I3: 45512 | J3: 45512 | K3: 46239 | L3: 0 | M3: 0 | N3: 0 | O3: 0 | P3: 0 | Q3: 0 | R3: 0 | S3: 0 | T3: 0 | U3: 8 | V3: 0 | W3: 0 | X3: 0 | Y3: 0 | Z3: 0 | AA3: 115 | AB3: 0 | AC3: 0 | AD3: 0 | AE3: 0 | AF3: 0 | AG3: 0 | AH3: =SUM(L3:AG3) -> 123 | AI3: 42789
A4: 0100000154 | B4: 01-40110 | C4: APL | D4: 2026 | E4: 20.XX.201.2XX | F4: 8465000 | G4: 2020201.110 | H4: 1500 | I4: 45512 | J4: 45512 | K4: 46239 | L4: 1679 | M4: 0 | N4: 0 | O4: 0 | P4: 0 | Q4: 0 | R4: 0 | S4: 0 | T4: 0 | U4: 0 | V4: 0 | W4: 0 | X4: 0 | Y4: 0 | Z4: 0 | AA4: 0 | AB4: 0 | AC4: 0 | AD4: 0 | AE4: 0 | AF4: 0 | AG4: 0 | AH4: =SUM(L4:AG4) -> 1679 | AI4: 44817
A5: 0100000154 | B5: 01-40110 | C5: APL | D5: 2027 | E5: 20.XX.201.2XX | F5: 8465000 | G5: 2020201.110 | H5: 1500 | I5: 45512 | J5: 45512 | K5: 46239 | L5: 0 | M5: 0 | N5: 0 | O5: 0 | P5: 0 | Q5: 0 | R5: 0 | S5: 0 | T5: 0 | U5: 26 | V5: 0 | W5: 0 | X5: 0 | Y5: 0 | Z5: 0 | AA5: 0 | AB5: 2413 | AC5: 0 | AD5: 0 | AE5: 0 | AF5: 0 | AG5: 0 | AH5: =SUM(L5:AG5) -> 2439 | AI5: 42789
A6: 0100000155 | B6: 01-40140 | C6: APL | D6: 2024 | E6: 20.XX.201.2XX | F6: 6324000 | G6: 2020201.110 | H6: 1510 | I6: 46583 | J6: 46639 | K6: 47007 | L6: 354 | M6: 0 | N6: 0 | O6: 0 | P6: 0 | Q6: 0 | R6: 0 | S6: 0 | T6: 0 | U6: 3 | V6: 0 | W6: 0 | X6: 15 | Y6: 0 | Z6: 0 | AA6: 0 | AB6: 0 | AC6: 14 | AD6: 0 | AE6: 0 | AF6: 0 | AG6: 0 | AH6: =SUM(L6:AG6) -> 386 | AI6: 42593
A7: 0100000155 | B7: 01-40140 | C7: APL | D7: 2025 | E7: 20.XX.201.2XX | F7: 6324000 | G7: 2020201.110 | H7: 1510 | I7: 46583 | J7: 46639 | K7: 47007 | L7: 409 | M7: 0 | N7: 0 | O7: 0 | P7: 0 | Q7: 0 | R7: 0 | S7: 0 | T7: 0 | U7: 10 | V7: 0 | W7: 0 | X7: 0 | Y7: 0 | Z7: 0 | AA7: 0 | AB7: 0 | AC7: 0 | AD7: 0 | AE7: 0 | AF7: 0 | AG7: 0 | AH7: =SUM(L7:AG7) -> 419 | AI7: 42593
A8: 0100000155 | B8: 01-40140 | C8: APL | D8: 2029 | E8: 20.XX.201.2XX | F8: 6324000 | G8: 2020201.110 | H8: 1510 | I8: 46583 | J8: 46639 | K8: 47007 | L8: 0 | M8: 0 | N8: 0 | O8: 0 | P8: 0 | Q8: 0 | R8: 0 | S8: 0 | T8: 0 | U8: 0 | V8: 0 | W8: 0 | X8: 287 | Y8: 0 | Z8: 0 | AA8: 0 | AB8: 5127 | AC8: 0 | AD8: 0 | AE8: 0 | AF8: 0 | AG8: 0 | AH8: =SUM(L8:AG8) -> 5414 | AI8: 42593
A9: 0100000193 | B9: 01-43640 | C9: APL | D9: 2024 | E9: 20.XX.201.110 | F9: 6499000 | G9: 2020201.110 | H9: 1510 | I9: 43909 | J9: 43945 | K9: 44301 | L9: 0 | M9: 0 | N9: 0 | O9: 0 | P9: 0 | Q9: 0 | R9: 0 | S9: 0 | T9: 0 | U9: 0 | V9: 0 | W9: 0 | X9: 0 | Y9: 0 | Z9: 0 | AA9: 0 | AB9: 3726 | AC9: 0 | AD9: 0 | AE9: 0 | AF9: 0 | AG9: 0 | AH9: =SUM(L9:AG9) -> 3726 | AI9: 43615
A10: 0100000266 | B10: 01-46480 | C10: APL | D10: 2024 | E10: 20.XX.201.310 | F10: 72000 | G10: 2020201.310 | H10: 1510 | I10: 44956 | J10: 45078 | K10: 45413 | L10: 0 | M10: 0 | N10: 0 | O10: 0 | P10: 0 | Q10: 0 | R10: 0 | S10: 0 | T10: 0 | U10: 0 | V10: 0 | W10: 0 | X10: 0 | Y10: 0 | Z10: 0 | AA10: 23 | AB10: 0 | AC10: 0 | AD10: 0 | AE10: 0 | AF10: 0 | AG10: 0 | AH10: =SUM(L10:AG10) -> 23 | AI10: 44673
A11: 0112000180 | B11: 01-43730 | C11: APL | D11: 2027 | E11: 20.XX.201.310 | F11: 2550000 | G11: 2020201.310 | H11: 1510 | I11: 42034 | J11: 42156 | K11: 42641 | L11: 0 | M11: 0 | N11: 0 | O11: 0 | P11: 0 | Q11: 0 | R11: 0 | S11: 0 | T11: 0 | U11: 0 | V11: 0 | W11: 0 | X11: 427 | Y11: 0 | Z11: 0 | AA11: 0 | AB11: 0 | AC11: 0 | AD11: 0 | AE11: 0 | AF11: 0 | AG11: 0 | AH11: =SUM(L11:AG11) -> 427 | AI11: 42451
A12: 0112000202 | B12: 01-26202 | C12: APL | D12: 2025 | E12: 20.XX.025.700, 20.XX.075.600 | F12: 21530000 | G12: 2020025.700 | H12: 1510 | I12: 32799 | J12: 39508 | K12: 41317 | L12: 0 | M12: 0 | N12: 0 | O12: 0 | P12: 0 | Q12: 0 | R12: 0 | S12: 0 | T12: 0 | U12: 0 | V12: 0 | W12: 0 | X12: 0 | Y12: 0 | Z12: 0 | AA12: 0 | AB12: 555 | AC12: 0 | AD12: 0 | AE12: 0 | AF12: 0 | AG12: 0 | AH12: =SUM(L12:AG12) -> 555 | AI12: 43740
A13: 0112000202 | B13: 01-26202 | C13: APL | D13: 2025 | E13: 20.XX.025.700, 20.XX.075.600 | F13: 21530000 | G13: 2020075.600 | H13: 1510 | I13: 32799 | J13: 39508 | K13: 41317 | L13: 0 | M13: 0 | N13: 0 | O13: 0 | P13: 0 | Q13: 0 | R13: 0 | S13: 0 | T13: 0 | U13: 0 | V13: 0 | W13: 0 | X13: 0 | Y13: 0 | Z13: 0 | AA13: 0 | AB13: 555 | AC13: 0 | AD13: 0 | AE13: 0 | AF13: 0 | AG13: 0 | AH13: =SUM(L13:AG13) -> 555 | AI13: 43740
A14: 0113000032 | B14: 01-0C720 | C14: APL | D14: 2024 | E14: 20.XX.075.600 | F14: 390000 | G14: 2020025.700 | H14: 1510 | I14: 45120 | J14: 45120 | K14: 45715 | L14: 158 | U14: 15 | V14: 0 | W14: 0 | X14: 88 | Y14: 0 | Z14: 0 | AA14: 0 | AC14: 16 | AH14: =SUM(L14:AG14) -> 277 | AI14: 43616
A15: 0113000032 | B15: 01-0C720 | C15: APL | D15: 2025 | E15: 20.XX.075.600 | F15: 390000 | G15: 2020025.700 | H15: 1510 | I15: 45120 | J15: 45120 | K15: 45715 | U15: 3 | V15: 0 | W15: 0 | X15: 0 | Y15: 0 | Z15: 7 | AA15: 0 | AH15: =SUM(L15:AG15) -> 10 | AI15: 43616
A16: 0113000090 | B16: 01-0E010 | C16: APL | D16: 2024 | E16: 20.XX.201.015 | F16: 3427000 | G16: 2020201.015 | H16: 1510 | I16: 44078 | J16: 44263 | K16: 44673 | L16: 146 | M16: 0 | N16: 0 | O16: 0 | P16: 0 | Q16: 0 | R16: 0 | S16: 0 | T16: 0 | U16: 0 | V16: 0 | W16: 0 | X16: 89 | Y16: 0 | Z16: 53 | AA16: 12 | AB16: 22 | AC16: 0 | AD16: 0 | AE16: 0 | AF16: 0 | AG16: 0 | AH16: =SUM(L16:AG16) -> 322 | AI16: 43917
A17: 0113000090 | B17: 01-0E010 | C17: APL | D17: 2025 | E17: 20.XX.201.015 | F17: 3427000 | G17: 2020201.015 | H17: 1510 | I17: 44078 | J17: 44263 | K17: 44673 | L17: 407 | M17: 0 | N17: 0 | O17: 0 | P17: 0 | Q17: 0 | R17: 0 | S17: 0 | T17: 0 | U17: 0 | V17: 0 | W17: 0 | X17: 0 | Y17: 0 | Z17: 0 | AA17: 12 | AB17: 0 | AC17: 0 | AD17: 0 | AE17: 0 | AF17: 0 | AG17: 0 | AH17: =SUM(L17:AG17) -> 419 | AI17: 43917
A18: 0113000106 | B18: 01-48400 | C18: APL | D18: 2024 | E18: 20.XX.201.151 | F18: 103000 | G18: 2020201.151 | H18: 1530 | I18: 44484 | J18: 44460 | K18: 44728 | L18: 0 | M18: 0 | N18: 0 | O18: 0 | P18: 0 | Q18: 0 | R18: 0 | S18: 0 | T18: 0 | U18: 0 | V18: 0 | W18: 0 | X18: 0 | Y18: 0 | Z18: 0 | AA18: 3 | AB18: 0 | AC18: 0 | AD18: 0 | AE18: 0 | AF18: 0 | AG18: 0 | AH18: =SUM(L18:AG18) -> 3 | AI18: 44468
A19: 0113000125 | B19: 01-0E110 | C19: APL | D19: 2024 | E19: 20.XX.201.112 | F19: 400000 | G19: 2020201.112 | H19: 1510 | I19: 44554 | J19: 44517 | K19: 44783 | L19: 0 | M19: 0 | N19: 0 | O19: 0 | P19: 0 | Q19: 0 | R19: 0 | S19: 0 | T19: 0 | U19: 0 | V19: 0 | W19: 0 | X19: 0 | Y19: 0 | Z19: 0 | AA19: 0 | AB19: 912 | AC19: 0 | AD19: 0 | AE19: 0 | AF19: 0 | AG19: 0 | AH19: =SUM(L19:AG19) -> 912 | AI19: 44509
A20: 0114000043 | B20: 01-29811 | C20: APL | D20: 2024 | E20: 20.XX.201.010 | F20: 9777000 | G20: 2020201.010 | H20: 1530 | I20: 42704 | J20: 42993 | K20: 43590 | L20: 0 | M20: 0 | N20: 0 | O20: 0 | P20: 0 | Q20: 0 | R20: 0 | S20: 0 | T20: 0 | U20: 0 | V20: 0 | W20: 0 | X20: 0 | Y20: 0 | Z20: 0 | AA20: 0 | AB20: 1138 | AC20: 0 | AD20: 0 | AE20: 0 | AF20: 0 | AG20: 0 | AH20: =SUM(L20:AG20) -> 1138 | AI20: 44645
A21: 0114000043 | B21: 01-29811 | C21: APL | D21: 2024 | E21: 20.XX.201.010 | F21: 9777000 | G21: 2020201.010 | H21: 1530 | I21: 42704 | J21: 42993 | K21: 43590 | L21: 198 | M21: 0 | N21: 0 | O21: 0 | P21: 0 | Q21: 0 | R21: 0 | S21: 0 | T21: 36 | U21: 0 | V21: 0 | W21: 0 | X21: 0 | Y21: 0 | Z21: 0 | AA21: 0 | AB21: 0 | AC21: 0 | AD21: 0 | AE21: 0 | AF21: 0 | AG21: 0 | AH21: =SUM(L21:AG21) -> 234 | AI21: 44645
A22: 0115000003 | B22: 01-0E720 | C22: APL | D22: 2024 | E22: 20.XX.201.010 | F22: 945000 | G22: 2020201.010 | H22: 1510 | I22: 43496 | J22: 43501 | K22: 43854 | L22: 0 | M22: 0 | N22: 0 | O22: 0 | P22: 0 | Q22: 0 | R22: 0 | S22: 0 | T22: 0 | U22: 0 | V22: 0 | W22: 0 | X22: 0 | Y22: 0 | Z22: 0 | AA22: 0 | AB22: 658 | AC22: 0 | AD22: 0 | AE22: 0 | AF22: 0 | AG22: 0 | AH22: =SUM(L22:AG22) -> 658 | AI22: 44680
A23: 0115000003 | B23: 01-0E720 | C23: APL | D23: 2025 | E23: 20.XX.201.010 | F23: 945000 | G23: 2020201.010 | H23: 1510 | I23: 43496 | J23: 43501 | K23: 43854 | L23: 88 | M23: 0 | N23: 0 | O23: 0 | P23: 0 | Q23: 0 | R23: 0 | S23: 0 | T23: 0 | U23: 0 | V23: 0 | W23: 0 | X23: 0 | Y23: 0 | Z23: 0 | AA23: 0 | AB23: 0 | AC23: 0 | AD23: 0 | AE23: 0 | AF23: 0 | AG23: 0 | AH23: =SUM(L23:AG23) -> 88 | AI23: 44680
A24: 0115000004 | B24: 01-0E730 | C24: APL | D24: 2024 | E24: 20.XX.201.010 | F24: 339000 | G24: 2020201.010 | H24: 1510 | I24: 43357 | J24: 43332 | K24: 43706 | L24: 0 | M24: 0 | N24: 0 | O24: 0 | P24: 0 | Q24: 0 | R24: 0 | S24: 0 | T24: 0 | U24: 0 | V24: 0 | W24: 0 | X24: 0 | Y24: 0 | Z24: 0 | AA24: 0 | AB24: 159 | AC24: 0 | AD24: 0 | AE24: 0 | AF24: 0 | AG24: 0 | AH24: =SUM(L24:AG24) -> 159 | AI24: 44657
A25: 0115000076 | B25: 01-0F160 | C25: APL | D25: 2024 | E25: 20.XX.201.010 | F25: 312000 | G25: 2020201.010 | H25: 1510 | I25: 44060 | J25: 44060 | K25: 44252 | L25: 0 | M25: 0 | N25: 0 | O25: 0 | P25: 0 | Q25: 0 | R25: 0 | S25: 0 | T25: 0 | U25: 0 | V25: 0 | W25: 0 | X25: 0 | Y25: 0 | Z25: 0 | AA25: 3 | AB25: 0 | AC25: 0 | AD25: 0 | AE25: 0 | AF25: 0 | AG25: 0 | AH25: =SUM(L25:AG25) -> 3 | AI25: 44628
A26: 0115000076 | B26: 01-0F160 | C26: APL | D26: 2025 | E26: 20.XX.201.010 | F26: 312000 | G26: 2020201.010 | H26: 1510 | I26: 44060 | J26: 44060 | K26: 44252 | L26: 0 | M26: 0 | N26: 0 | O26: 0 | P26: 0 | Q26: 0 | R26: 0 | S26: 0 | T26: 0 | U26: 0 | V26: 0 | W26: 0 | X26: 0 | Y26: 0 | Z26: 0 | AA26: 3 | AB26: 0 | AC26: 0 | AD26: 0 | AE26: 0 | AF26: 0 | AG26: 0 | AH26: =SUM(L26:AG26) -> 3 | AI26: 44628
A27: 0115000076 | B27: 01-0F160 | C27: APL | D27: 2026 | E27: 20.XX.201.010 | F27: 312000 | G27: 2020201.010 | H27: 1510 | I27: 44060 | J27: 44060 | K27: 44252 | L27: 0 | M27: 0 | N27: 0 | O27: 0 | P27: 0 | Q27: 0 | R27: 0 | S27: 0 | T27: 0 | U27: 0 | V27: 0 | W27: 0 | X27: 0 | Y27: 0 | Z27: 0 | AA27: 3 | AB27: 0 | AC27: 0 | AD27: 0 | AE27: 0 | AF27: 0 | AG27: 0 | AH27: =SUM(L27:AG27) -> 3 | AI27: 44628
... A38: 0117000115 | B38: 01-0H140 | C38: APL | D38: 2025 | E38: 20.XX.201.361 | F38: 804000 | G38: 2020201.361 | H38: 1530 | I38: 44732 | J38: 44939 | K38: 45474 | L38: 0 | M38: 0 | N38: 0 | O38: 0 | P38: 0 | Q38: 0 | R38: 0 | S38: 0 | T38: 0 | U38: 30 | V38: 0 | W38: 0 | X38: 0 | Y38: 0 | Z38: 0 | AA38: 0 | AB38: 0 | AC38: 0 | AD38: 0 | AE38: 0 | AF38: 0 | AG38: 0 | AH38: =SUM(L38:AG38) -> 30 | AI38: 44727
A39: 0117000116 | B39: 01-0H150 | C39: APL | D39: 2024 | E39: 20.XX.201.120 | F39: 109000 | G39: 2020201.121 | H39: 1510 | I39: 44722 | J39: 44783 | K39: 45200 | L39: 23 | U39: 0 | V39: 0 | W39: 0 | X39: 0 | Y39: 0 | Z39: 0 | AA39: 0 | AB39: 0 | AH39: =SUM(L39:AG39) -> 23 | AI39: 44705
A40: 0117000133 | B40: 01-43484 | C40: APL | D40: 2024 | E40: 20.XX.201.112 | F40: 385000 | G40: 2020201.112 | H40: 1510 | I40: 44617 | J40: 44536 | K40: 44937 | M40: 0 | N40: 0 | O40: 0 | P40: 0 | Q40: 0 | R40: 0 | S40: 0 | T40: 0 | U40: 0 | V40: 0 | W40: 0 | X40: 0 | Y40: 0 | Z40: 0 | AA40: 0 | AB40: 98 | AC40: 0 | AD40: 0 | AE40: 0 | AF40: 0 | AG40: 0 | AH40: =SUM(L40:AG40) -> 98 | AI40: 44585
A41: 0117000133 | B41: 01-43484 | C41: APL | D41: 2026 | E41: 20.XX.201.112 | F41: 385000 | G41: 2020201.112 | H41: 1500 | I41: 44617 | J41: 44536 | K41: 44937 | L41: 162 | M41: 0 | N41: 0 | O41: 0 | P41: 0 | Q41: 0 | R41: 0 | S41: 0 | T41: 0 | U41: 0 | V41: 0 | W41: 0 | X41: 0 | Y41: 0 | Z41: 0 | AA41: 0 | AB41: 0 | AC41: 0 | AD41: 0 | AE41: 0 | AF41: 0 | AG41: 0 | AH41: =SUM(L41:AG41) -> 162 | AI41: 44585
A42: 0117000140 | B42: 01-0H240 | C42: APL | D42: 2024 | E42: 20.XX.201.151 | F42: 700000 | G42: 2020201.151 | H42: 1510 | I42: 45352 | J42: 45352 | K42: 46157 | L42: 0 | M42: 0 | N42: 0 | O42: 0 | P42: 0 | Q42: 0 | R42: 0 | S42: 0 | T42: 0 | U42: 0 | V42: 0 | W42: 0 | X42: 18 | Y42: 0 | Z42: 0 | AA42: 0 | AB42: 0 | AC42: 0 | AD42: 0 | AE42: 0 | AF42: 0 | AG42: 0 | AH42: =SUM(L42:AG42) -> 18 | AI42: 44529
A43: 0117000140 | B43: 01-0H240 | C43: APL | D43: 2025 | E43: 20.XX.201.151 | F43: 700000 | G43: 2020201.151 | H43: 1510 | I43: 45352 | J43: 45352 | K43: 46157 | L43: 103 | M43: 0 | N43: 0 | O43: 0 | P43: 0 | Q43: 0 | R43: 0 | S43: 0 | T43: 0 | U43: 17 | V43: 0 | W43: 0 | X43: 0 | Y43: 0 | Z43: 0 | AA43: 0 | AB43: 0 | AC43: 82 | AD43: 0 | AE43: 0 | AF43: 0 | AG43: 0 | AH43: =SUM(L43:AG43) -> 202 | AI43: 44529
A44: 0117000140 | B44: 01-0H240 | C44: APL | D44: 2026 | E44: 20.XX.201.151 | F44: 700000 | G44: 2020201.151 | H44: 1510 | I44: 45352 | J44: 45352 | K44: 46157 | L44: 22 | M44: 0 | N44: 0 | O44: 0 | P44: 0 | Q44: 0 | R44: 0 | S44: 0 | T44: 0 | U44: 0 | V44: 0 | W44: 0 | X44: 0 | Y44: 0 | Z44: 0 | AA44: 0 | AB44: 0 | AC44: 0 | AD44: 0 | AE44: 0 | AF44: 0 | AG44: 0 | AH44: =SUM(L44:AG44) -> 22 | AI44: 44529
A45: 0117000169 | B45: 01-0H410 | C45: APL | D45: 2024 | E45: 20.XX.201.151 | F45: 474000 | G45: 2020201.151 | H45: 1510 | I45: 44733 | K45: 45266 | L45: 0 | M45: 0 | N45: 0 | O45: 0 | P45: 0 | Q45: 0 | R45: 0 | S45: 0 | T45: 0 | U45: 0 | V45: 0 | W45: 0 | X45: 0 | Y45: 0 | Z45: 0 | AA45: 356 | AB45: 0 | AC45: 0 | AD45: 0 | AE45: 0 | AF45: 0 | AG45: 0 | AH45: =SUM(L45:AG45) -> 356 | AI45: 44698
A46: 0117000169 | B46: 01-0H410 | C46: APL | D46: 2029 | E46: 20.XX.201.151 | F46: 474000 | G46: 2020201.151 | H46: 1510 | I46: 44733 | K46: 45266 | L46: 0 | M46: 0 | N46: 0 | O46: 0 | P46: 0 | Q46: 0 | R46: 0 | S46: 0 | T46: 0 | U46: 0 | V46: 0 | W46: 0 | X46: 7 | Y46: 0 | Z46: 0 | AA46: 0 | AB46: 0 | AC46: 0 | AD46: 0 | AE46: 0 | AF46: 0 | AG46: 0 | AH46: =SUM(L46:AG46) -> 7 | AI46: 44698
A47: 0117000223 | B47: 01-0A131 | C47: APL | D47: 2024 | E47: 20.XX.201.113 | F47: 251000 | G47: 2020201.113 | H47: 1530 | I47: 44180 | J47: 44195 | K47: 44792 | L47: 0 | M47: 0 | N47: 0 | O47: 0 | P47: 0 | Q47: 0 | R47: 0 | S47: 0 | T47: 0 | U47: 0 | V47: 0 | W47: 0 | X47: 0 | Y47: 0 | Z47: 0 | AA47: 24 | AB47: 0 | AC47: 0 | AD47: 0 | AE47: 0 | AF47: 0 | AG47: 0 | AH47: =SUM(L47:AG47) -> 24 | AI47: 44907
A48: 0117000245 | B48: 01-0H640 | C48: APL | D48: 2024 | E48: 20.XX.201.151 | F48: 1775000 | G48: 2020201.151 | H48: 1510 | I48: 45061 | J48: 45061 | K48: 45383 | L48: 26 | U48: 19 | V48: 0 | W48: 0 | X48: 0 | Y48: 0 | Z48: 0 | AB48: 823 | AC48: 24 | AH48: =SUM(L48:AG48) -> 892 | AI48: 44783
A49: 0117000245 | B49: 01-0H640 | C49: APL | D49: 2025 | E49: 20.XX.201.151 | F49: 1775000 | G49: 2020201.151 | H49: 1530 | I49: 45061 | J49: 45061 | K49: 45383 | L49: 0 | M49: 0 | N49: 0 | O49: 0 | P49: 0 | Q49: 0 | R49: 0 | S49: 0 | T49: 0 | U49: 0 | V49: 0 | W49: 0 | X49: 0 | Y49: 0 | Z49: 0 | AA49: 0 | AB49: 1224 | AC49: 0 | AD49: 0 | AE49: 0 | AF49: 0 | AG49: 0 | AH49: =SUM(L49:AG49) -> 1224 | AI49: 44873
A50: 0117000245 | B50: 01-0H640 | C50: APL | D50: 2025 | E50: 20.XX.201.151 | F50: 1775000 | G50: 2020201.151 | H50: 1510 | I50: 45061 | J50: 45061 | K50: 45383 | L50: 0 | M50: 0 | N50: 0 | O50: 0 | P50: 0 | Q50: 0 | R50: 0 | S50: 0 | T50: 0 | U50: 0 | V50: 0 | W50: 0 | X50: 0 | Y50: 0 | Z50: 0 | AA50: 0 | AB50: 824 | AC50: 17 | AD50: 0 | AE50: 0 | AF50: 0 | AG50: 0 | AH50: =SUM(L50:AG50) -> 841 | AI50: 44873
...

Sheet FY24 Reimbursed Allocation - 1
A1: Project ID | B1: EA | C1: PRSM Status | D1: Fiscal Year | E1: CTIPS Funding Sources | F1: CTIPS STIP/SHOPP Amount | G1: Funding Sources | H1: Task Code | I1: PAED (M200) | J1: Reg RW (M225) | K1: RW Cert (M410) | L1: 050 Acq of Real Property (k$) | M1: 052 Est Damages to Excess Land (k$) | N1: 053 Int on Condmntn (k$) | O1: 059 Acq of Personal Prop (k$) | P1: 080 Real Prop Excess Lands Acq (k$) | Q1: 083 Early Acq (k$) | R1: 090 Condmntn Deposits (k$) | S1: 130 Jury Recording Reporter Fees Exp Condmntn (k$) | T1: 131 Expert Appraiser Witness Condmntn (k$) | U1: 034-Title & Escrow (k$) | V1: 042 Railroad (k$) | W1: 051 Pos Loc Util (k$) | X1: 054 ROW Util Reloc(k$) | Y1: 055 Reloc Asst(k$) | Z1: 056 CI or Demo (k$) | AA1: 060 Proj Spec Permit (k$) | AB1: 081 Mitigation (k$) | AC1: 088 Proj Permit FeesFed Inelig (k$) | AD1: 170 Claims Legal Payments Fed Inelig (k$) | AE1: 230 Jury Recording Reptr Fees Exp–IC-Fed Inelig (k$) | AF1: 231 Exp Appr/ Witness IC-Fed Inelig (k$) | AG1: 253 Interest on IC- Fed Inelig (k$) | AH1: Total | AI1: 050 Acq of Real Property (k$) | AJ1: 052 Est Damages to Excess Land (k$) | AK1: 053 Int on Condmntn (k$) | AL1: 059 Acq of Personal Prop (k$) | AM1: 080 Real Prop Excess Lands Acq (k$) | AN1: 083 Early Acq (k$) | AO1: 090 Condmntn Deposits (k$) | AP1: 130 Jury Recording Reporter Fees Exp Condmntn (k$) | AQ1: 131 Expert Appraiser Witness Condmntn (k$) | AR1: 034-Title & Escrow (k$) | AS1: 042 Railroad (k$) | AT1: 051 Pos Loc Util (k$) | AU1: 054 ROW Util Reloc(k$) | AV1: 055 Reloc Asst(k$) | AW1: 056 CI or Demo (k$) | AX1: 060 Proj Spec Permit (k$) | AY1: 081 Mitigation (k$) | AZ1: 088 Proj Permit FeesFed Inelig (k$) | BA1: 170 Claims Legal Payments Fed Inelig (k$) | BB1: 230 Jury Recording Reptr Fees Exp–IC-Fed Inelig (k$) | BC1: 231 Exp Appr/ Witness IC-Fed Inelig (k$) | BD1: 253 Interest on IC- Fed Inelig (k$) | BE1: Total | BF1: FY24 RCFP Total | BG1: HQ Adjusted Total | BH1: HQ Comments
A2: 03-0H931 | B2: 03-0H931 | C2: APL | D2: 2024 | E2: 20.XX.400.232 | F2: 0 | G2: 2020400.232 | H2: 1540 | I2: 45628 | J2: 45698 | K2: 46094 | L2: 13960 | M2: 0 | N2: 0 | O2: 0 | P2: 0 | Q2: 0 | R2: 0 | S2: 0 | T2: 0 | U2: 0 | V2: 0 | W2: 0 | X2: 380 | Y2: 239 | Z2: 143 | AA2: 0 | AB2: 2254 | AC2: 0 | AD2: 0 | AE2: 0 | AF2: 0 | AG2: 0 | AH2: =SUM(L2:AG2) -> 16976 | AI2: 0 | AJ2: 0 | AK2: 0 | AL2: 0 | AM2: 0 | AN2: 0 | AO2: 0 | AP2: 0 | AQ2: 0 | AR2: 0 | AS2: 0 | AT2: 0 | AU2: 0 | AV2: 0 | AW2: 0 | AX2: 0 | AY2: 0 | AZ2: 0 | BA2: 0 | BB2: 0 | BC2: 0 | BD2: 0 | BE2: =SUM(AI2:BD2) -> 0 | BF2: =AH2 -> 16976 | BG2: =BE2 -> 0 | BH2: Future Funds no programming, pushed money out
A3: 03-2C990 | B3: 03-2C990 | C3: APL | D3: 2024 | E3: 40.XX.400.00 | F3: 0 | G3: 2020400.000 | H3: 1500 | I3: 46583 | J3: 46313 | K3: 46495 | L3: 0 | M3: 0 | N3: 0 | O3: 0 | P3: 0 | Q3: 0 | R3: 0 | S3: 0 | T3: 0 | U3: 25 | V3: 0 | W3: 0 | X3: 30 | Y3: 0 | Z3: 0 | AA3: 0 | AB3: 0 | AC3: 66 | AD3: 0 | AE3: 0 | AF3: 0 | AG3: 0 | AH3: =SUM(L3:AG3) -> 121 | AI3: 0 | AJ3: 0 | AK3: 0 | AL3: 0 | AM3: 0 | AN3: 0 | AO3: 0 | AP3: 0 | AQ3: 0 | AR3: 25 | AS3: 0 | AT3: 0 | AU3: 30 | AV3: 0 | AW3: 0 | AX3: 0 | AY3: 0 | AZ3: 66 | BA3: 0 | BB3: 0 | BC3: 0 | BD3: 0 | BE3: =SUM(AI3:BD3) -> 121 | BF3: =AH3 -> 121 | BG3: 112 | BH3: Reduced $9k
A4: 03-3H900 | B4: 03-3H900 | C4: APL | D4: 2024 | E4: 40.XX.075.600 | F4: 0 | G4: 2020400.210 | H4: 1500 | I4: 45231 | J4: 45291 | K4: 45733 | L4: 2754 | M4: 0 | N4: 0 | O4: 0 | P4: 0 | Q4: 0 | R4: 0 | S4: 0 | T4: 0 | U4: 0 | V4: 0 | W4: 0 | X4: 1680 | Y4: 0 | Z4: 0 | AA4: 0 | AB4: 729 | AC4: 0 | AD4: 0 | AE4: 0 | AF4: 0 | AG4: 0 | AH4: =SUM(L4:AG4) -> 5163 | AI4: 0 | AJ4: 0 | AK4: 0 | AL4: 0 | AM4: 0 | AN4: 0 | AO4: 0 | AP4: 0 | AQ4: 0 | AR4: 0 | AS4: 0 | AT4: 0 | AU4: 0 | AV4: 0 | AW4: 0 | AX4: 0 | AY4: 0 | AZ4: 0 | BA4: 0 | BB4: 0 | BC4: 0 | BD4: 0 | BE4: =SUM(AI4:BD4) -> 0 | BF4: =AH4 -> 5163 | BG4: =BE4 -> 0 | BH4: Future Funds no programming, pushed money out
A5: 03-4H580 | B5: 03-4H580 | C5: APL | D5: 2024 | E5: 20.XX.400.100 | F5: 0 | G5: 2020400.100 | H5: 1500 | I5: 45231 | J5: 45412 | K5: 45775 | L5: 621 | M5: 0 | N5: 0 | O5: 0 | P5: 0 | Q5: 0 | R5: 0 | S5: 0 | T5: 0 | U5: 0 | V5: 0 | W5: 0 | X5: 0 | Y5: 0 | Z5: 0 | AA5: 0 | AB5: 0 | AC5: 50 | AD5: 0 | AE5: 0 | AF5: 0 | AG5: 0 | AH5: =SUM(L5:AG5) -> 671 | AI5: 0 | AJ5: 0 | AK5: 0 | AL5: 0 | AM5: 0 | AN5: 0 | AO5: 0 | AP5: 0 | AQ5: 0 | AR5: 0 | AS5: 0 | AT5: 0 | AU5: 0 | AV5: 0 | AW5: 0 | AX5: 0 | AY5: 0 | AZ5: 50 | BA5: 0 | BB5: 0 | BC5: 0 | BD5: 0 | BE5: =SUM(AI5:BD5) -> 50 | BF5: =AH5 -> 671 | BG5: =BE5 -> 50 | BH5: Removed Acq
A6: 03-4H580 | B6: 03-4H580 | C6: APL | D6: 2024 | E6: 20.XX.400.100 | F6: 0 | G6: 2020400.100 | H6: 1500 | I6: 45231 | J6: 45412 | K6: 45775 | L6: 621 | M6: 0 | N6: 0 | O6: 0 | P6: 0 | Q6: 0 | R6: 0 | S6: 0 | T6: 0 | U6: 0 | V6: 0 | W6: 0 | X6: 2471 | Y6: 0 | Z6: 0 | AA6: 0 | AB6: 277 | AC6: 49 | AD6: 0 | AE6: 0 | AF6: 0 | AG6: 0 | AH6: =SUM(L6:AG6) -> 3418 | AI6: 0 | AJ6: 0 | AK6: 0 | AL6: 0 | AM6: 0 | AN6: 0 | AO6: 0 | AP6: 0 | AQ6: 0 | AR6: 0 | AS6: 0 | AT6: 0 | AU6: 0 | AV6: 0 | AW6: 0 | AX6: 0 | AY6: 0 | AZ6: 0 | BA6: 0 | BB6: 0 | BC6: 0 | BD6: 0 | BE6: =SUM(AI6:BD6) -> 0 | BF6: =AH6 -> 3418 | BG6: =BE6 -> 0 | BH6: Reduced RWC FY 25
A7: 04-26473 | B7: 04-26473 | C7: APL | D7: 2024 | E7: 20.XX.400.100 | F7: 0 | G7: 2020400.100 | H7: 1510 | K7: 45306 | L7: 1874 | M7: 0 | N7: 0 | O7: 0 | P7: 0 | Q7: 0 | R7: 0 | S7: 0 | T7: 0 | U7: 29 | V7: 0 | W7: 25 | X7: 1000 | Y7: 0 | Z7: 0 | AA7: 0 | AB7: 0 | AC7: 57 | AD7: 0 | AE7: 0 | AF7: 0 | AG7: 0 | AH7: =SUM(L7:AG7) -> 2985 | AI7: 1405.5 | AJ7: 0 | AK7: 0 | AL7: 0 | AM7: 0 | AN7: 0 | AO7: 0 | AP7: 0 | AQ7: 0 | AR7: 29 | AS7: 0 | AT7: 25 | AU7: 1000 | AV7: 0 | AW7: 0 | AX7: 0 | AY7: 0 | AZ7: 57 | BA7: 0 | BB7: 0 | BC7: 0 | BD7: 0 | BE7: =SUM(AI7:BD7) -> 2516.5 | BF7: =AH7 -> 2985 | BG7: =BE7 -> 2516.5 | BH7: Reduced Acq 25%
A8: 04-2Q800 | B8: 04-2Q800 | C8: APL | D8: 2024 | E8: 40.XX.400.100 | F8: 0 | G8: 2020400.100 | H8: 1510 | I8: 44447 | K8: 45215 | L8: 29 | M8: 0 | N8: 0 | O8: 0 | P8: 0 | Q8: 0 | R8: 0 | S8: 0 | T8: 0 | U8: 0 | V8: 0 | W8: 0 | X8: 25 | Y8: 0 | Z8: 0 | AA8: 0 | AB8: 0 | AC8: 0 | AD8: 0 | AE8: 0 | AF8: 0 | AG8: 0 | AH8: =SUM(L8:AG8) -> 54 | AI8: 21.75 | AJ8: 0 | AK8: 0 | AL8: 0 | AM8: 0 | AN8: 0 | AO8: 0 | AP8: 0 | AQ8: 0 | AR8: 0 | AS8: 0 | AT8: 0 | AU8: 25 | AV8: 0 | AW8: 0 | AX8: 0 | AY8: 0 | AZ8: 0 | BA8: 0 | BB8: 0 | BC8: 0 | BD8: 0 | BE8: =SUM(AI8:BD8) -> 46.75 | BF8: =AH8 -> 54 | BG8: =BE8 -> 46.75 | BH8: Reduced Acq 25%
A9: 04-3G900 | B9: 04-3G900 | C9: APL | D9: 2024 | E9: 20.XX.201.310 | F9: 4331000 | G9: 2020400.100 | H9: 1510 | I9: 43203 | K9: 44952 | L9: 0 | M9: 0 | N9: 0 | O9: 0 | P9: 0 | Q9: 0 | R9: 0 | S9: 0 | T9: 0 | U9: 0 | V9: 0 | W9: 0 | X9: 0 | Y9: 0 | Z9: 0 | AA9: 0 | AB9: 244 | AC9: 0 | AD9: 0 | AE9: 0 | AF9: 0 | AG9: 0 | AH9: =SUM(L9:AG9) -> 244 | AI9: 0 | AJ9: 0 | AK9: 0 | AL9: 0 | AM9: 0 | AN9: 0 | AO9: 0 | AP9: 0 | AQ9: 0 | AR9: 0 | AS9: 0 | AT9: 0 | AU9: 0 | AV9: 0 | AW9: 0 | AX9: 0 | AY9: 244 | AZ9: 0 | BA9: 0 | BB9: 0 | BC9: 0 | BD9: 0 | BE9: =SUM(AI9:BD9) -> 244 | BF9: =AH9 -> 244 | BG9: =BE9 -> 244
A10: 04-4A130 | B10: 04-4A130 | C10: APL | D10: 2024 | E10: 20.XX.400.100 | F10: 0 | G10: 2020400.100 | H10: 1510 | I10: 42748 | K10: 44981 | L10: 0 | M10: 0 | N10: 0 | O10: 0 | P10: 0 | Q10: 0 | R10: 0 | S10: 0 | T10: 0 | U10: 0 | V10: 0 | W10: 0 | X10: 26 | Y10: 0 | Z10: 0 | AA10: 0 | AB10: 0 | AC10: 0 | AD10: 0 | AE10: 0 | AF10: 0 | AG10: 0 | AH10: =SUM(L10:AG10) -> 26 | AI10: 0 | AJ10: 0 | AK10: 0 | AL10: 0 | AM10: 0 | AN10: 0 | AO10: 0 | AP10: 0 | AQ10: 0 | AR10: 0 | AS10: 0 | AT10: 0 | AU10: 26 | AV10: 0 | AW10: 0 | AX10: 0 | AY10: 0 | AZ10: 0 | BA10: 0 | BB10: 0 | BC10: 0 | BD10: 0 | BE10: =SUM(AI10:BD10) -> 26 | BF10: =AH10 -> 26 | BG10: =BE10 -> 26
A11: 05-0N702 | B11: 05-0N702 | C11: APL | D11: 2024 | E11: 20.XX.075.600 | F11: 4613000 | G11: 2020400.100 | H11: 1510 | I11: 41877 | J11: 43298 | K11: 44239 | L11: 0 | M11: 0 | N11: 0 | O11: 0 | P11: 0 | Q11: 0 | R11: 0 | S11: 0 | T11: 0 | U11: 0 | V11: 0 | W11: 0 | X11: 0 | Y11: 0 | Z11: 0 | AA11: 2 | AB11: 0 | AC11: 0 | AD11: 0 | AE11: 0 | AF11: 0 | AG11: 0 | AH11: =SUM(L11:AG11) -> 2 | AI11: 0 | AJ11: 0 | AK11: 0 | AL11: 0 | AM11: 0 | AN11: 0 | AO11: 0 | AP11: 0 | AQ11: 0 | AR11: 0 | AS11: 0 | AT11: 0 | AU11: 0 | AV11: 0 | AW11: 0 | AX11: 2 | AY11: 0 | AZ11: 0 | BA11: 0 | BB11: 0 | BC11: 0 | BD11: 0 | BE11: =SUM(AI11:BD11) -> 2 | BF11: =AH11 -> 2 | BG11: =BE11 -> 2
A12: 05-1G490 | B12: 05-1G490 | C12: APL | D12: 2024 | E12: 20.XX.400.100 | F12: 0 | G12: 2020400.100 | H12: 1530 | I12: 44012 | J12: 44496 | K12: 45063 | L12: 0 | M12: 0 | N12: 0 | O12: 0 | P12: 0 | Q12: 0 | R12: 0 | S12: 0 | T12: 0 | U12: 0 | V12: 0 | W12: 0 | X12: 449 | Y12: 0 | Z12: 0 | AA12: 0 | AB12: 0 | AC12: 0 | AD12: 0 | AE12: 0 | AF12: 0 | AG12: 0 | AH12: =SUM(L12:AG12) -> 449 | AI12: 0 | AJ12: 0 | AK12: 0 | AL12: 0 | AM12: 0 | AN12: 0 | AO12: 0 | AP12: 0 | AQ12: 0 | AR12: 0 | AS12: 0 | AT12: 0 | AU12: 449 | AV12: 0 | AW12: 0 | AX12: 0 | AY12: 0 | AZ12: 0 | BA12: 0 | BB12: 0 | BC12: 0 | BD12: 0 | BE12: =SUM(AI12:BD12) -> 449 | BF12: =AH12 -> 449 | BG12: =BE12 -> 449
A13: 05-1M820 | B13: 05-1M820 | C13: APL | D13: 2024 | E13: 40.XX.400.100 | F13: 0 | G13: 2020400.100 | H13: 1510 | I13: 45827 | J13: 45828 | K13: 45971 | L13: 250 | M13: 0 | N13: 0 | O13: 0 | P13: 0 | Q13: 0 | R13: 0 | S13: 0 | T13: 0 | U13: 9 | V13: 0 | W13: 0 | X13: 60 | Y13: 0 | Z13: 0 | AA13: 120 | AB13: 300 | AC13: 0 | AD13: 0 | AE13: 0 | AF13: 0 | AG13: 0 | AH13: =SUM(L13:AG13) -> 739 | AI13: 187.5 | AJ13: 0 | AK13: 0 | AL13: 0 | AM13: 0 | AN13: 0 | AO13: 0 | AP13: 0 | AQ13: 0 | AR13: 9 | AS13: 0 | AT13: 0 | AU13: 60 | AV13: 0 | AW13: 0 | AX13: 120 | AY13: 0 | AZ13: 0 | BA13: 0 | BB13: 0 | BC13: 0 | BD13: 0 | BE13: =SUM(AI13:BD13) -> 376.5 | BF13: =AH13 -> 739 | BG13: =BE13 -> 376.5 | BH13: RWC FY 25 or later, removed mitigation, reduced Acq 25%
A14: 05-1P680 | B14: 05-1P680 | C14: APL | D14: 2024 | E14: 2020400.100 | F14: 0 | G14: 2020400.100 | H14: 1530 | I14: 45209 | J14: 45077 | K14: 45355 | L14: 0 | M14: 0 | N14: 0 | O14: 0 | P14: 0 | Q14: 0 | R14: 0 | S14: 0 | T14: 0 | U14: 0 | V14: 45 | W14: 0 | X14: 0 | Y14: 0 | Z14: 0 | AA14: 0 | AB14: 0 | AC14: 0 | AD14: 0 | AE14: 0 | AF14: 0 | AG14: 0 | AH14: =SUM(L14:AG14) -> 45 | AI14: 0 | AJ14: 0 | AK14: 0 | AL14: 0 | AM14: 0 | AN14: 0 | AO14: 0 | AP14: 0 | AQ14: 0 | AR14: 0 | AS14: 45 | AT14: 0 | AU14: 0 | AV14: 0 | AW14: 0 | AX14: 0 | AY14: 0 | AZ14: 0 | BA14: 0 | BB14: 0 | BC14: 0 | BD14: 0 | BE14: =SUM(AI14:BD14) -> 45 | BF14: =AH14 -> 45 | BG14: =BE14 -> 45
A15: 05-48541 | B15: 05-48541 | C15: APL | D15: 2024 | E15: 20.XX.400.100 | F15: 0 | G15: 2020400.000 | H15: 1530 | I15: 45915 | J15: 46153 | K15: 46735 | L15: 0 | M15: 0 | N15: 0 | O15: 0 | P15: 0 | Q15: 0 | R15: 0 | S15: 0 | T15: 0 | U15: 0 | V15: 0 | W15: 0 | X15: 0 | Y15: 0 | Z15: 0 | AA15: 0 | AB15: 0 | AC15: 4 | AD15: 0 | AE15: 0 | AF15: 0 | AG15: 0 | AH15: =SUM(L15:AG15) -> 4 | AI15: 0 | AJ15: 0 | AK15: 0 | AL15: 0 | AM15: 0 | AN15: 0 | AO15: 0 | AP15: 0 | AQ15: 0 | AR15: 0 | AS15: 0 | AT15: 0 | AU15: 0 | AV15: 0 | AW15: 0 | AX15: 0 | AY15: 0 | AZ15: 4 | BA15: 0 | BB15: 0 | BC15: 0 | BD15: 0 | BE15: =SUM(AI15:BD15) -> 4 | BF15: =AH15 -> 4 | BG15: =BE15 -> 4
A16: 06-0G900 | B16: 06-0G900 | C16: APL | D16: 2024 | E16: 20.XX.400.140 | F16: 0 | G16: 2020400.140 | H16: 1510 | I16: 40792 | J16: 40855 | K16: 41505 | L16: 0 | M16: 0 | N16: 0 | O16: 0 | P16: 0 | Q16: 0 | R16: 0 | S16: 0 | T16: 0 | U16: 0 | V16: 0 | W16: 0 | X16: 0 | Y16: 0 | Z16: 0 | AA16: 0 | AB16: 1500 | AC16: 0 | AD16: 0 | AE16: 0 | AF16: 0 | AG16: 0 | AH16: =SUM(L16:AG16) -> 1500 | AI16: 0 | AJ16: 0 | AK16: 0 | AL16: 0 | AM16: 0 | AN16: 0 | AO16: 0 | AP16: 0 | AQ16: 0 | AR16: 0 | AS16: 0 | AT16: 0 | AU16: 0 | AV16: 0 | AW16: 0 | AX16: 0 | AY16: 1500 | AZ16: 0 | BA16: 0 | BB16: 0 | BC16: 0 | BD16: 0 | BE16: =SUM(AI16:BD16) -> 1500 | BF16: =AH16 -> 1500 | BG16: =BE16 -> 1500
A17: 06-0H220 | B17: 06-0H220 | C17: APL | D17: 2024 | E17: 20.XX.075.600 | F17: 602000 | G17: 2020400.100 | H17: 1510 | I17: 44316 | J17: 44621 | K17: 45505 | L17: 42 | M17: 0 | N17: 0 | O17: 0 | P17: 0 | Q17: 0 | R17: 0 | S17: 0 | T17: 0 | U17: 0 | V17: 0 | W17: 0 | X17: 411 | Y17: 0 | Z17: 0 | AA17: 25 | AB17: 0 | AC17: 0 | AD17: 0 | AE17: 0 | AF17: 0 | AG17: 0 | AH17: =SUM(L17:AG17) -> 478 | AI17: 31.5 | AJ17: 0 | AK17: 0 | AL17: 0 | AM17: 0 | AN17: 0 | AO17: 0 | AP17: 0 | AQ17: 0 | AR17: 0 | AS17: 0 | AT17: 0 | AU17: 411 | AV17: 0 | AW17: 0 | AX17: 25 | AY17: 0 | AZ17: 0 | BA17: 0 | BB17: 0 | BC17: 0 | BD17: 0 | BE17: =SUM(AI17:BD17) -> 467.5 | BF17: =AH17 -> 478 | BG17: =BE17 -> 467.5 | BH17: Reduced Acq 25%
A18: 06-0H240 | B18: 06-0H240 | C18: APL | D18: 2024 | E18: 20.XX.400.100 | F18: 0 | G18: 2020400.100 | H18: 1510 | I18: 44956 | J18: 45092 | K18: 45823 | L18: 2529 | M18: 0 | N18: 0 | O18: 0 | P18: 0 | Q18: 0 | R18: 0 | S18: 0 | T18: 0 | U18: 45 | V18: 0 | W18: 0 | X18: 856 | Y18: 818 | Z18: 245 | AA18: 27 | AB18: 0 | AC18: 0 | AD18: 0 | AE18: 0 | AF18: 0 | AG18: 0 | AH18: =SUM(L18:AG18) -> 4520 | AI18: 1896.75 | AJ18: 0 | AK18: 0 | AL18: 0 | AM18: 0 | AN18: 0 | AO18: 0 | AP18: 0 | AQ18: 0 | AR18: 45 | AS18: 0 | AT18: 0 | AU18: 0 | AV18: 818 | AW18: 245 | AX18: 27 | AY18: 0 | AZ18: 0 | BA18: 0 | BB18: 0 | BC18: 0 | BD18: 0 | BE18: =SUM(AI18:BD18) -> 3031.75 | BF18: =AH18 -> 4520 | BG18: =BE18 -> 3031.75 | BH18: RWC FY 25 or later, removed utilities, reduced Acq 25%
A19: 06-0H241 | B19: 06-0H241 | C19: APL | D19: 2024 | E19: 20.XX.400.100 | F19: 0 | G19: 2020400.100 | H19: 1510 | I19: 44956 | J19: 45031 | K19: 45460 | L19: 1879 | M19: 0 | N19: 0 | O19: 0 | P19: 0 | Q19: 0 | R19: 0 | S19: 0 | T19: 0 | U19: 31 | V19: 63 | W19: 0 | X19: 333 | Y19: 14 | Z19: 0 | AA19: 30 | AB19: 0 | AC19: 0 | AD19: 0 | AE19: 0 | AF19: 0 | AG19: 0 | AH19: =SUM(L19:AG19) -> 2350 | AI19: 1409.25 | AJ19: 0 | AK19: 0 | AL19: 0 | AM19: 0 | AN19: 0 | AO19: 0 | AP19: 0 | AQ19: 0 | AR19: 31 | AS19: 63 | AT19: 0 | AU19: 333 | AV19: 14 | AW19: 0 | AX19: 30 | AY19: 0 | AZ19: 0 | BA19: 0 | BB19: 0 | BC19: 0 | BD19: 0 | BE19: =SUM(AI19:BD19) -> 1880.25 | BF19: =AH19 -> 2350 | BG19: =BE19 -> 1880.25 | BH19: Reduced Acq 25%
A20: 06-0H241 | B20: 06-0H241 | C20: APL | D20: 2024 | E20: 20.XX.400.100 | F20: 0 | G20: 2020400.100 | H20: 1530 | I20: 44956 | J20: 45031 | K20: 45460 | L20: 1333 | M20: 0 | N20: 0 | O20: 0 | P20: 0 | Q20: 0 | R20: 0 | S20: 0 | T20: 0 | U20: 0 | V20: 0 | W20: 0 | X20: 0 | Y20: 0 | Z20: 0 | AA20: 0 | AB20: 0 | AC20: 0 | AD20: 0 | AE20: 0 | AF20: 0 | AG20: 0 | AH20: =SUM(L20:AG20) -> 1333 | AI20: 999.75 | AJ20: 0 | AK20: 0 | AL20: 0 | AM20: 0 | AN20: 0 | AO20: 0 | AP20: 0 | AQ20: 0 | AR20: 0 | AS20: 0 | AT20: 0 | AU20: 0 | AV20: 0 | AW20: 0 | AX20: 0 | AY20: 0 | AZ20: 0 | BA20: 0 | BB20: 0 | BC20: 0 | BD20: 0 | BE20: =SUM(AI20:BD20) -> 999.75 | BF20: =AH20 -> 1333 | BG20: =BE20 -> 999.75 | BH20: Reduced Acq 25%
A21: 06-0P910 | B21: 06-0P910 | C21: APL | D21: 2024 | E21: 20.XX.400.100 | F21: 0 | G21: 2020400.100 | H21: 1530 | I21: 45100 | J21: 45200 | K21: 45778 | L21: 891 | M21: 0 | N21: 0 | O21: 0 | P21: 0 | Q21: 0 | R21: 0 | S21: 0 | T21: 0 | U21: 19 | V21: 63 | W21: 0 | X21: 219 | Y21: 0 | Z21: 0 | AA21: 17 | AB21: 0 | AC21: 0 | AD21: 0 | AE21: 0 | AF21: 0 | AG21: 0 | AH21: =SUM(L21:AG21) -> 1209 | AI21: 668.25 | AJ21: 0 | AK21: 0 | AL21: 0 | AM21: 0 | AN21: 0 | AO21: 0 | AP21: 0 | AQ21: 0 | AR21: 19 | AS21: 63 | AT21: 0 | AU21: 219 | AV21: 0 | AW21: 0 | AX21: 17 | AY21: 0 | AZ21: 0 | BA21: 0 | BB21: 0 | BC21: 0 | BD21: 0 | BE21: =SUM(AI21:BD21) -> 986.25 | BF21: =AH21 -> 1209 | BG21: =BE21 -> 986.25 | BH21: Reduced Acq 25%
A22: 06-0X951 | B22: 06-0X951 | C22: APL | D22: 2024 | E22: 20.XX.400.100 | F22: 0 | G22: 2020400.100 | H22: 1510 | I22: 44573 | J22: 44573 | K22: 45078 | L22: 819 | M22: 0 | N22: 0 | O22: 0 | P22: 0 | Q22: 0 | R22: 0 | S22: 0 | T22: 0 | U22: 16 | V22: 0 | W22: 0 | X22: 256 | Y22: 0 | Z22: 0 | AA22: 0 | AB22: 0 | AC22: 0 | AD22: 0 | AE22: 0 | AF22: 0 | AG22: 0 | AH22: =SUM(L22:AG22) -> 1091 | AI22: 614.25 | AJ22: 0 | AK22: 0 | AL22: 0 | AM22: 0 | AN22: 0 | AO22: 0 | AP22: 0 | AQ22: 0 | AR22: 16 | AS22: 0 | AT22: 0 | AU22: 0 | AV22: 0 | AW22: 0 | AX22: 0 | AY22: 0 | AZ22: 0 | BA22: 0 | BB22: 0 | BC22: 0 | BD22: 0 | BE22: =SUM(AI22:BD22) -> 630.25 | BF22: =AH22 -> 1091 | BG22: 630 | BH22: Reduced Acq 25% Removed UT
A23: 06-1C280 | B23: 06-1C280 | C23: APL | D23: 2024 | E23: 40.XX.400.100 | F23: 0 | G23: 2020400.100 | H23: 1530 | I23: 45278 | J23: 45272 | K23: 45901 | L23: 415 | M23: 0 | N23: 0 | O23: 0 | P23: 0 | Q23: 0 | R23: 0 | S23: 0 | T23: 0 | U23: 8 | V23: 0 | W23: 0 | X23: 0 | Y23: 0 | Z23: 0 | AA23: 0 | AB23: 0 | AC23: 0 | AD23: 0 | AE23: 0 | AF23: 0 | AG23: 0 | AH23: =SUM(L23:AG23) -> 423 | AI23: 0 | AJ23: 0 | AK23: 0 | AL23: 0 | AM23: 0 | AN23: 0 | AO23: 0 | AP23: 0 | AQ23: 0 | AR23: 8 | AS23: 0 | AT23: 0 | AU23: 0 | AV23: 0 | AW23: 0 | AX23: 0 | AY23: 0 | AZ23: 0 | BA23: 0 | BB23: 0 | BC23: 0 | BD23: 0 | BE23: =SUM(AI23:BD23) -> 8 | BF23: =AH23 -> 423 | BG23: 8 | BH23: Removed Acq
A24: 06-1E400 | B24: 06-1E400 | C24: APL | D24: 2024 | E24: MMBN | F24: 0 | G24: 2020400.100 | H24: 1510 | I24: 45184 | K24: 45328 | L24: 0 | M24: 0 | N24: 0 | O24: 0 | P24: 0 | Q24: 0 | R24: 0 | S24: 0 | T24: 0 | U24: 0 | V24: 0 | W24: 0 | X24: 207 | Y24: 0 | Z24: 0 | AA24: 0 | AB24: 0 | AC24: 0 | AD24: 0 | AE24: 0 | AF24: 0 | AG24: 0 | AH24: =SUM(L24:AG24) -> 207 | AI24: 0 | AJ24: 0 | AK24: 0 | AL24: 0 | AM24: 0 | AN24: 0 | AO24: 0 | AP24: 0 | AQ24: 0 | AR24: 0 | AS24: 0 | AT24: 0 | AU24: 207 | AV24: 0 | AW24: 0 | AX24: 0 | AY24: 0 | AZ24: 0 | BA24: 0 | BB24: 0 | BC24: 0 | BD24: 0 | BE24: =SUM(AI24:BD24) -> 207 | BF24: =AH24 -> 207 | BG24: =BE24 -> 207
A25: 06-1E670 | B25: 06-1E670
A26: 06-1E920 | B26: 06-1E920 | C26: APL | D26: 2024 | E26: 20.XX.400.100 | F26: 0 | G26: 2020400.100 | H26: 1510 | I26: 45033 | K26: 45100 | L26: 34 | M26: 0 | N26: 0 | O26: 0 | P26: 0 | Q26: 0 | R26: 0 | S26: 0 | T26: 0 | U26: 1 | V26: 0 | W26: 0 | X26: 0 | Y26: 0 | Z26: 0 | AA26: 0 | AB26: 0 | AC26: 0 | AD26: 0 | AE26: 0 | AF26: 0 | AG26: 0 | AH26: =SUM(L26:AG26) -> 35 | AI26: 25.5 | AJ26: 0 | AK26: 0 | AL26: 0 | AM26: 0 | AN26: 0 | AO26: 0 | AP26: 0 | AQ26: 0 | AR26: 1 | AS26: 0 | AT26: 0 | AU26: 0 | AV26: 0 | AW26: 0 | AX26: 0 | AY26: 0 | AZ26: 0 | BA26: 0 | BB26: 0 | BC26: 0 | BD26: 0 | BE26: =SUM(AI26:BD26) -> 26.5 | BF26: =AH26 -> 35 | BG26: =BE26 -> 26.5 | BH26: Reduced Acq 25%
A27: 06-34253 | B27: 06-34253 | C27: APL | D27: 2024 | E27: 20.XX.075.600 | F27: 750000 | G27: 2020400.100 | H27: 1510 | I27: 35173 | J27: 37358 | K27: 42170 | L27: 0 | M27: 0 | N27: 0 | O27: 0 | P27: 0 | Q27: 0 | R27: 0 | S27: 0 | T27: 0 | U27: 24 | V27: 0 | W27: 0 | X27: 1650 | Y27: 100 | Z27: 33 | AA27: 0 | AB27: 2183 | AC27: 0 | AD27: 0 | AE27: 0 | AF27: 0 | AG27: 0 | AH27: =SUM(L27:AG27) -> 3990 | AI27: 0 | AJ27: 0 | AK27: 0 | AL27: 0 | AM27: 0 | AN27: 0 | AO27: 0 | AP27: 0 | AQ27: 0 | AR27: 24 | AS27: 0 | AT27: 0 | AU27: 1650 | AV27: 100 | AW27: 33 | AX27: 0 | AY27: 2183 | AZ27: 0 | BA27: 0 | BB27: 0 | BC27: 0 | BD27: 0 | BE27: =SUM(AI27:BD27) -> 3990 | BF27: =AH27 -> 3990 | BG27: =BE27 -> 3990
A28: 06-39460 | B28: 06-39460 | C28: APL | D28: 2024 | E28: 20.XX.400.100 | F28: 0 | G28: 2020400.100 | H28: 1510 | I28: 42243 | J28: 42327 | K28: 43223 | L28: 10 | M28: 0 | N28: 0 | O28: 0 | P28: 0 | Q28: 0 | R28: 0 | S28: 0 | T28: 0 | U28: 0 | V28: 0 | W28: 0 | X28: 0 | Y28: 0 | Z28: 12 | AA28: 0 | AB28: 0 | AC28: 0 | AD28: 0 | AE28: 0 | AF28: 0 | AG28: 0 | AH28: =SUM(L28:AG28) -> 22 | AI28: 7.5 | AJ28: 0 | AK28: 0 | AL28: 0 | AM28: 0 | AN28: 0 | AO28: 0 | AP28: 0 | AQ28: 0 | AR28: 0 | AS28: 0 | AT28: 0 | AU28: 0 | AV28: 0 | AW28: 12 | AX28: 0 | AY28: 0 | AZ28: 0 | BA28: 0 | BB28: 0 | BC28: 0 | BD28: 0 | BE28: =SUM(AI28:BD28) -> 19.5 | BF28: =AH28 -> 22 | BG28: =BE28 -> 19.5 | BH28: Reduced Acq 25%
A29: 07-1218W | B29: 07-1218W | C29: APL | D29: 2024 | E29: 20.XX.025.700, 20.XX.075.600 | F29: 36430000 | G29: 2020075.600 | H29: 1510 | I29: 36889 | J29: 41052 | K29: 41052 | L29: 2000 | M29: 0 | N29: 0 | O29: 0 | P29: 0 | Q29: 0 | R29: 0 | S29: 0 | T29: 0 | U29: 0 | V29: 0 | W29: 0 | X29: 0 | Y29: 0 | Z29: 0 | AA29: 0 | AB29: 0 | AC29: 0 | AD29: 0 | AE29: 0 | AF29: 0 | AG29: 0 | AH29: =SUM(L29:AG29) -> 2000 | AI29: 1500 | AJ29: 0 | AK29: 0 | AL29: 0 | AM29: 0 | AN29: 0 | AO29: 0 | AP29: 0 | AQ29: 0 | AR29: 0 | AS29: 0 | AT29: 0 | AU29: 0 | AV29: 0 | AW29: 0 | AX29: 0 | AY29: 0 | AZ29: 0 | BA29: 0 | BB29: 0 | BC29: 0 | BD29: 0 | BE29: =SUM(AI29:BD29) -> 1500 | BF29: =AH29 -> 2000 | BG29: =BE29 -> 1500 | BH29: Reduced Acq 25%
A30: 07-29360 | B30: 07-29360 | C30: APL | D30: 2024 | E30: 20.XX.400.100 | F30: 0 | G30: 2020400.100 | H30: 1510 | I30: 42550 | J30: 43220 | K30: 44085 | L30: 1500 | M30: 0 | N30: 0 | O30: 0 | P30: 0 | Q30: 0 | R30: 0 | S30: 0 | T30: 0 | U30: 0 | V30: 0 | W30: 0 | X30: 0 | Y30: 0 | Z30: 0 | AA30: 0 | AB30: 0 | AC30: 0 | AD30: 0 | AE30: 0 | AF30: 0 | AG30: 0 | AH30: =SUM(L30:AG30) -> 1500 | AI30: 1125 | AJ30: 0 | AK30: 0 | AL30: 0 | AM30: 0 | AN30: 0 | AO30: 0 | AP30: 0 | AQ30: 0 | AR30: 0 | AS30: 0 | AT30: 0 | AU30: 0 | AV30: 0 | AW30: 0 | AX30: 0 | AY30: 0 | AZ30: 0 | BA30: 0 | BB30: 0 | BC30: 0 | BD30: 0 | BE30: =SUM(AI30:BD30) -> 1125 | BF30: =AH30 -> 1500 | BG30: =BE30 -> 1125 | BH30: Reduced Acq 25%
A31: 07-38860 | B31: 07-38860 | C31: APL | D31: 2024 | E31: 20.XX.400.100 | F31: 0 | G31: 2020201.010 | H31: 1500 | I31: 45107 | J31: 44869 | K31: 45323 | L31: 253 | M31: 0 | N31: 0 | O31: 0 | P31: 0 | Q31: 0 | R31: 0 | S31: 0 | T31: 0 | U31: 0 | V31: 0 | W31: 0 | X31: 0 | Y31: 0 | Z31: 0 | AA31: 0 | AB31: 0 | AC31: 0 | AD31: 0 | AE31: 0 | AF31: 0 | AG31: 0 | AH31: =SUM(L31:AG31) -> 253 | AI31: 189.75 | AJ31: 0 | AK31: 0 | AL31: 0 | AM31: 0 | AN31: 0 | AO31: 0 | AP31: 0 | AQ31: 0 | AR31: 0 | AS31: 0 | AT31: 0 | AU31: 0 | AV31: 0 | AW31: 0 | AX31: 0 | AY31: 0 | AZ31: 0 | BA31: 0 | BB31: 0 | BC31: 0 | BD31: 0 | BE31: =SUM(AI31:BD31) -> 189.75 | BF31: =AH31 -> 253 | BG31: =BE31 -> 189.75 | BH31: Reduced Acq 25%
A32: 08-1M810 | B32: 08-1M810 | C32: APL | D32: 2024 | E32: 40.XX.400.100 | F32: 0 | G32: 2020400.100 | H32: 1510 | I32: 45261 | K32: 45201 | L32: 0 | M32: 0 | N32: 0 | O32: 0 | P32: 0 | Q32: 0 | R32: 0 | S32: 0 | T32: 0 | U32: 0 | V32: 0 | W32: 0 | X32: 0 | Y32: 0 | Z32: 0 | AA32: 0 | AB32: 0 | AC32: 20 | AD32: 0 | AE32: 0 | AF32: 0 | AG32: 0 | AH32: =SUM(L32:AG32) -> 20 | AI32: 0 | AJ32: 0 | AK32: 0 | AL32: 0 | AM32: 0 | AN32: 0 | AO32: 0 | AP32: 0 | AQ32: 0 | AR32: 0 | AS32: 0 | AT32: 0 | AU32: 0 | AV32: 0 | AW32: 0 | AX32: 0 | AY32: 0 | AZ32: 20 | BA32: 0 | BB32: 0 | BC32: 0 | BD32: 0 | BE32: =SUM(AI32:BD32) -> 20 | BF32: =AH32 -> 20 | BG32: =BE32 -> 20
A33: 10-1E280 | B33: 10-1E280 | C33: APL | D33: 2024 | E33: 20.XX.400.100 | F33: 0 | G33: 2020800.200 | H33: 1530 | I33: 44741 | J33: 44866 | K33: 45628 | L33: 33450 | M33: 0 | N33: 0 | O33: 0 | P33: 0 | Q33: 0 | R33: 0 | S33: 0 | T33: 0 | U33: 379 | V33: 0 | W33: 0 | X33: 152 | Y33: 1114 | Z33: 642 | AA33: 8 | AB33: 0 | AC33: 0 | AD33: 0 | AE33: 0 | AF33: 132 | AG33: 0 | AH33: =SUM(L33:AG33) -> 35877 | AI33: 0 | AJ33: 0 | AK33: 0 | AL33: 0 | AM33: 0 | AN33: 0 | AO33: 0 | AP33: 0 | AQ33: 0 | AR33: 0 | AS33: 0 | AT33: 0 | AU33: 0 | AV33: 0 | AW33: 0 | AX33: 0 | AY33: 0 | AZ33: 0 | BA33: 0 | BB33: 0 | BC33: 0 | BD33: 0 | BE33: =SUM(AI33:BD33) -> 0 | BF33: =AH33 -> 35877 | BG33: =BE33 -> 0 | BH33: No programming
A34: 10-1P930 | B34: 10-1P930 | C34: APL | D34: 2024 | E34: MMBN | F34: 0 | G34: 2020400.100 | H34: 1510 | J34: 45531 | K34: 45679 | L34: 0 | M34: 0 | N34: 0 | O34: 0 | P34: 0 | Q34: 0 | R34: 0 | S34: 0 | T34: 0 | U34: 0 | V34: 22 | W34: 0 | X34: 0 | Y34: 0 | Z34: 0 | AA34: 0 | AB34: 0 | AC34: 0 | AD34: 0 | AE34: 0 | AF34: 0 | AG34: 0 | AH34: =SUM(L34:AG34) -> 22 | AI34: 0 | AJ34: 0 | AK34: 0 | AL34: 0 | AM34: 0 | AN34: 0 | AO34: 0 | AP34: 0 | AQ34: 0 | AR34: 0 | AS34: 22 | AT34: 0 | AU34: 0 | AV34: 0 | AW34: 0 | AX34: 0 | AY34: 0 | AZ34: 0 | BA34: 0 | BB34: 0 | BC34: 0 | BD34: 0 | BE34: =SUM(AI34:BD34) -> 22 | BF34: =AH34 -> 22 | BG34: =BE34 -> 22
A35: 10-1P950 | B35: 10-1P950 | C35: APL | D35: 2024 | E35: MMBN | F35: 0 | G35: 2020400.100 | H35: 1510 | I35: 45261 | J35: 45199 | K35: 45292 | L35: 0 | M35: 0 | N35: 0 | O35: 0 | P35: 0 | Q35: 0 | R35: 0 | S35: 0 | T35: 0 | U35: 0 | V35: 1 | W35: 0 | X35: 0 | Y35: 0 | Z35: 0 | AA35: 0 | AB35: 0 | AC35: 0 | AD35: 0 | AE35: 0 | AF35: 0 | AG35: 0 | AH35: =SUM(L35:AG35) -> 1 | AI35: 0 | AJ35: 0 | AK35: 0 | AL35: 0 | AM35: 0 | AN35: 0 | AO35: 0 | AP35: 0 | AQ35: 0 | AR35: 0 | AS35: 1 | AT35: 0 | AU35: 0 | AV35: 0 | AW35: 0 | AX35: 0 | AY35: 0 | AZ35: 0 | BA35: 0 | BB35: 0 | BC35: 0 | BD35: 0 | BE35: =SUM(AI35:BD35) -> 1 | BF35: =AH35 -> 1 | BG35: =BE35 -> 1
A36: 10-1Q140 | B36: 10-1Q140 | C36: APL | D36: 2024 | E36: 20.XX.400.100 | F36: 0 | G36: 2020400.100 | H36: 1510 | I36: 45016 | J36: 45223 | K36: 45078 | L36: 0 | M36: 0 | N36: 0 | O36: 0 | P36: 0 | Q36: 0 | R36: 0 | S36: 0 | T36: 0 | U36: 0 | V36: 55 | W36: 0 | X36: 0 | Y36: 0 | Z36: 0 | AA36: 0 | AB36: 0 | AC36: 0 | AD36: 0 | AE36: 0 | AF36: 0 | AG36: 0 | AH36: =SUM(L36:AG36) -> 55 | AI36: 0 | AJ36: 0 | AK36: 0 | AL36: 0 | AM36: 0 | AN36: 0 | AO36: 0 | AP36: 0 | AQ36: 0 | AR36: 0 | AS36: 55 | AT36: 0 | AU36: 0 | AV36: 0 | AW36: 0 | AX36: 0 | AY36: 0 | AZ36: 0 | BA36: 0 | BB36: 0 | BC36: 0 | BD36: 0 | BE36: =SUM(AI36:BD36) -> 55 | BF36: =AH36 -> 55 | BG36: =BE36 -> 55
A37: 10-1Q220 | B37: 10-1Q220 | C37: APL | D37: 2024 | E37: 40.XX.400.100 | F37: 0 | G37: 2020400.100 | H37: 1510 | I37: 45110 | J37: 44928 | K37: 45293 | L37: 0 | M37: 0 | N37: 0 | O37: 0 | P37: 0 | Q37: 0 | R37: 0 | S37: 0 | T37: 0 | U37: 0 | V37: 40 | W37: 0 | X37: 0 | Y37: 0 | Z37: 0 | AA37: 0 | AB37: 0 | AC37: 0 | AD37: 0 | AE37: 0 | AF37: 0 | AG37: 0 | AH37: =SUM(L37:AG37) -> 40 | AI37: 0 | AJ37: 0 | AK37: 0 | AL37: 0 | AM37: 0 | AN37: 0 | AO37: 0 | AP37: 0 | AQ37: 0 | AR37: 0 | AS37: 40 | AT37: 0 | AU37: 0 | AV37: 0 | AW37: 0 | AX37: 0 | AY37: 0 | AZ37: 0 | BA37: 0 | BB37: 0 | BC37: 0 | BD37: 0 | BE37: =SUM(AI37:BD37) -> 40 | BF37: =AH37 -> 40 | BG37: =BE37 -> 40
A38: 11-0223U | B38: 11-0223U | C38: APL | D38: 2024 | E38: 20.XX.400.100 | F38: 0 | G38: 2020400.100 | H38: 1510 | I38: 40724 | K38: 41813 | L38: 0 | M38: 0 | N38: 0 | O38: 0 | P38: 0 | Q38: 0 | R38: 0 | S38: 0 | T38: 0 | U38: 0 | V38: 0 | W38: 0 | X38: 1183 | Y38: 0 | Z38: 0 | AA38: 0 | AB38: 0 | AC38: 0 | AD38: 0 | AE38: 0 | AF38: 0 | AG38: 0 | AH38: =SUM(L38:AG38) -> 1183 | AI38: 0 | AJ38: 0 | AK38: 0 | AL38: 0 | AM38: 0 | AN38: 0 | AO38: 0 | AP38: 0 | AQ38: 0 | AR38: 0 | AS38: 0 | AT38: 0 | AU38: 1183 | AV38: 0 | AW38: 0 | AX38: 0 | AY38: 0 | AZ38: 0 | BA38: 0 | BB38: 0 | BC38: 0 | BD38: 0 | BE38: =SUM(AI38:BD38) -> 1183 | BF38: =AH38 -> 1183 | BG38: =BE38 -> 1183
