Workbook
Name Active_Transportation: 'Project Info'!$BC$2:$BC$9
Name ADA_Improvements: 'Project Info'!$BF$2:$BF$16
Name Bridge___Tunnel: 'Project Info'!$AX$2:$AX$12
Name Bridge_Tunnel: 'Project Info'!$AX$2:$AX$10
Name Bridges: 'Project Info'!$AX$2:$AX$3
Name Category: 'Project Info'!$AQ$2:$AQ$75
Name Drainage: 'Project Info'!$AY$2:$AY$3
Name Operational_Improvements: 'Project Info'!$BB$2:$BB$14
Name Other: 'Project Info'!$BE$2:$BE$6
Name Output_Outcomes: 'Project Info'!$AR$2:$AR$75
Name Pavement: 'Project Info'!$BA$2:$BA$14
Name Rail_MultiModal: 'Project Info'!$BD$2:$BD$8
Name TMS__Traffic_Management_Systems: 'Project Info'!$AZ$2
Name TMS_Elements: 'Project Info'!$AZ$2:$AZ$13

Sheet Project Info
A1: STATE OF CALIFORNIA ● DEPARTMENT OF TRANSPORTATION | AG1: District | AH1: County | AI1: Element | AJ1: MPO | AK1: ED Type | AL1: Reimbursements | AP1: Category | AQ1: Lookup Values | AR1: Output/Outcomes | AS1: Unit | AT1: Unit | AU1: toggles | AV1: Program | AX1: Bridge_Tunnel | AY1: Drainage | AZ1: TMS_Elements | BA1: Pavement | BB1: Operational_Improvements | BC1: Active_Transportation | BD1: Rail_MultiModal | BE1: Other | BF1: ADA_Improvements | BG1: Category
A2: PROJECT PROGRAMMING REQUEST | AK2: N/A | AT2: LF | AU2: Y/N | AV2: STIP | AW2: State Transportation Improvement Program | AX2: New Interchanges | AY2: Culverts | AZ2: Traffic census stations | BA2: Mixed flow mainline constructed | BB2: Auxiliary lanes | BC2: Pedestrian/Bicycle facilities miles constructed | BD2: Rail cars/ transit vehicles | BE2: Sound wall miles constructed | BF2: New sidewalk
A3: LAPG -25I (Revised 28 Feb 2022 v1.01) | T3: General Instructions | AG3: 01 | AH3: ALA | AI3: Capital Outlay | AJ3: AMBAG | AK3: CE | AL3: LONP | AO3: Bridge / Tunnel | AP3: Bridge / Tunnel | AQ3: Bridge_Tunnel | AR3: New interchanges | AS3: SQFT | AT3: SQFT | AU3: No | AV3: TCIF | AW3: Trade Corridor Investment Fund | AX3: Modified / Improved interchanges | AZ3: Changeable message signs | BA3: HOV/HOT mainline constructed | BB3: Intersection / Signal improvements | BC3: Bicycle lane-miles | BD3: Miles of new track | BE3: Port Improvements | BF3: Repair existing sidewalk
A4: Amendment (Existing Project) | G4: Y/N | S4: Date: | U4: =NOW() -> 45784.411 | AG4: 02 | AH4: ALP | AI4: Local Assistance | AJ4: BCAG | AK4: ND | AL4: AB 3090 | AP4: Drainage | AQ4: Drainage | AR4: Modified / Improved interchanges | AS4: SQFT | AT4: EA | AU4: Yes | AV4: TCEP | AW4: Trade Corridor Enhancement Program | AX4: New bridges/tunnels | AZ4: Closed circuit television cameras | BA4: Passing lane constructed | BB4: Interchange modifications | BC4: Sidewalk miles | BD4: Miles of rehabilitated track | BE4: Border crossing improvements | BF4: New curb ramp installed
A5: District | E5: EA | G5: Project ID | L5: PPNO | O5: MPO ID | AG5: 03 | AH5: AMA | AI5: Mass Transit | AJ5: COFCG | AK5: EIR | AL5: SB 184 | AP5: TMS (Traffic Management Systems) | AQ5: TMS_Elements | AR5: New bridges/tunnels | AS5: SQFT | AT5: Miles | AU5: NA | AV5: SCCP | AW5: Solutions for Congested Corridors Program | AX5: Modified/Reconstructed bridges/tunnels | AZ5: Freeway ramp meters | BA5: Auxiliary lane constructed | BB5: Ramp modifications | BC5: # Signs, lights, greenway, safety/beautification | BD5: Grade separations/ rail crossing improvements | BF5: Repair/upgrade curb ramp
AG6: 04 | AH6: BUT | AI6: Rail | AJ6: KCOG | AK6: CE/CE | AP6: Pavement (lane-miles) | AQ6: Pavement | AR6: Modified/Reconstructed bridges/tunnels | AS6: SQFT | AU6: 1 | AV6: LPP | AW6: Local Partnership Program | AX6: At-grade crossings eliminated | AZ6: Communications (fiber optics) | BA6: Truck climbing lanes constructed | BB6: Slow vehicle lanes | BC6: Pedestrian bridge | BD6: Station improvements | BF6: Install accessible pedestrian signal
A7: County | D7: Route/Corridor | H7: PM Bk | J7: PM Ahd | L7: Nominating Agency | AG7: 05 | AH7: CAL | AJ7: Kings | AK7: ND/CE | AP7: Operational Improvements | AQ7: Operational_Improvements | AR7: At-grade crossings eliminated | AS7: SQFT | AU7: 2 | AV7: CMIA | AW7: Corridor Mobility Improvement Account | AX7: New local road bridge structures/tunnels | AZ7: Highway advisory radio | BA7: Roadway lane miles -new | BB7: Curve and vertical alignment corrections | BC7: Crosswalk | BD7: New stations | BF7: Lower pedestrian push button
AA8: =IF(AND(LEN(A8)>0,LEN(A9)>0,LEN(A10)=0),CONCATENATE(A8,", ",A9), IF(AND(LEN(A8)>0,LEN(A9)>0,LEN(A10)>0),CONCATENATE(A8,", ",A9, ", ", A10),IF(AND(LEN(A8)=0,LEN(A9)>0,LEN(A10)=0),A9,IF(AND(LEN(A8)=0,LEN(A9)>0,LEN(A10)>0),CONCATENATE(A9,",",A10),IF(AND(LEN(A8)>0,LEN(A9)=0,LEN(A10)>0),CONCATENATE(A8,", ",A10), A8))))) -> 0 | AF8: =IF(AND(LEN(D8)>0,LEN(D9)>0,LEN(D10)=0),CONCATENATE(D8,", ",D9),IF(AND(LEN(D8)>0,LEN(D9)>0,LEN(D10)>0),CONCATENATE(D8,", ",D9, ", ", D10),IF(AND(LEN(D8)=0,LEN(D9)>0,LEN(D10)=0),D9,IF(AND(LEN(D8)=0,LEN(D9)>0,LEN(D10)>0),CONCATENATE(D9,",",D10),IF(AND(LEN(D8)>0,LEN(D9)=0,LEN(D10)>0),CONCATENATE(D8,", ",D10), D8))))) -> 0 | AG8: 06 | AH8: CC | AJ8: Madera | AK8: ND/FONSI | AP8: Active Transportation | AQ8: Active_Transportation | AR8: New local road bridge structures/tunnels | AS8: SQFT | AU8: 3 | AV8: TCRP | AW8: Traffic Congestion Relief Program | AX8: Local reconstructed bridge/tunnels | AZ8: Traffic signal interconnect projects | BA8: Intersections constructed - new | BB8: Two-way left turn lanes | BC8: Crossing island | BF8: Relocate pedestrian push button posts | BG8: Outcome
L9: MPO | R9: Element | AG9: 07 | AH9: COL | AJ9: MCAG | AK9: EIR/FONSI | AP9: Rail / Multi-Modal | AQ9: Rail_MultiModal | AR9: Local reconstructed bridge/tunnels | AS9: SQFT | AV9: SHOPP | AX9: Local rehabilitated bridge/tunnels | AZ9: Software and hardware systems | BA9: Ramps and connectors constructed | BB9: Channelization | BF9: Modify driveway
AG10: 08 | AH10: DN | AJ10: MTC | AK10: EIR/EIS | AP10: ADA Improvements | AQ10: ADA_Improvements | AR10: Local rehabilitated bridge/tunnels | AS10: SQFT | AV10: ATP | AW10: Active Transportation Program | AZ10: TMC interconnect projects | BA10: Mainline shoulders construction | BB10: Chain control and truck brake inspection sites | BF10: New crosswalk
A11: Project Manager/Contact | H11: Phone | L11: E-mail Address | AG11: 09 | AH11: ED | AJ11: Non-MPO | AO11: Drainage new | AP11: Other | AQ11: Other | AR11: Culverts | AS11: LF | AZ11: Traffic monitoring detection stations | BA11: Local road - rehabilitated | BB11: Shoulder widening | BF11: Modify crosswalk
AG12: 10 | AH12: FRE | AJ12: SACOG | AO12: TMS (Traffic Management Systems | AR12: Traffic census stations | AS12: EA | AZ12: Extinguishable message signs | BA12: Local road - reconstructed | BB12: Turnouts | BF12: Remove obstructions
A13: Project Title | AG13: 11 | AH13: GLE | AJ13: SANDAG | AO13: (All new items) | AR13: Changeable message signs | AS13: EA | BA13: Local road - new | BB13: Turn pockets constructed | BF13: Install new detectable warning surface
AG14: 12 | AH14: HUM | AJ14: SBCAG | AR14: Closed circuit television cameras | AS14: EA | BF14: Upgrade detectable warning surface
A15: Location (Project Limits), Description ( Scope of Work) | AB15: # Char. | AC15: max | AG15: 75 | AH15: IMP | AJ15: SCAG | AR15: Freeway ramp meters | AS15: EA | BF15: Curb ramp retired
AB16: =LEN(A16) -> 0 | AC16: 890 | AH16: INY | AJ16: Shasta | AR16: Communications (fiber optics) | AS16: Miles
AH17: KER | AJ17: SJCOG | AR17: Highway advisory radio | AS17: EA | AX17: Category | AY17: Output
AH18: KIN | AJ18: SLOCOG | AR18: Traffic signal interconnect projects | AS18: EA | AX18: Other | AY18: Border Crossing Improvements
AH19: LA | AJ19: STANCOG | AR19: Software and hardware systems | AS19: EA
AH20: LAK | AJ20: TCAG | AR20: TMC interconnect projects | AS20: EA
AH21: LAS | AJ21: TRPA | AR21: Traffic monitoring detection stations | AS21: EA
AH22: MAD | AR22: Extinguishable message signs | AS22: EA
A23: Component | E23: Implementing Agency | AH23: MEN | AO23: Pavement (lane-miles) | AR23: Mixed flow mainline constructed | AS23: Miles
A24: PA&ED | AH24: MER | AR24: HOV/HOT mainline constructed | AS24: Miles
A25: PS&E | AH25: MNO | AR25: Passing lane constructed | AS25: Miles
A26: Right of Way | AH26: MOD | AR26: Auxiliary lane constructed | AS26: Miles
A27: Construction | AH27: MON | AR27: Truck climbing lanes constructed | AS27: Miles
A28: Legislative Districts | AH28: MPA | AR28: Roadway lane miles -new | AS28: Miles
A29: Assembly: | I29: Senate: | P29: Congressional: | AC29: max | AH29: MRN | AR29: Intersections constructed - new | AS29: Miles
A30: Project Benefits | AB30: # Char. | AC30: 500 | AH30: NAP | AR30: Ramps and connectors constructed | AS30: Miles
AB31: =LEN(A31) -> 0 | AH31: NEV | AR31: Mainline shoulders construction | AS31: Miles
AH32: ORA | AR32: Local road - rehabilitated | AS32: Miles
AH33: PLA | AR33: Local road - reconstructed | AS33: Miles
AC34: max | AH34: PLU | AR34: Local road - new | AS34: Miles
A35: Purpose and Need | AB35: # Char. | AC35: 500 | AH35: RIV | AO35: Operational Improvements | AR35: Auxiliary lanes | AS35: Miles
AB36: =LEN(A36) -> 0 | AH36: SAC | AR36: Intersection / Signal improvements | AS36: EA
AH37: SB | AO37: new | AR37: Interchange modifications | AS37: EA
AH38: SBD | AO38: new | AR38: Ramp modifications | AS38: EA
AH39: SBT | AO39: new | AR39: Slow vehicle lanes | AS39: Miles
A40: Category | I40: Outputs | T40: Unit | V40: Total | AB40: # Char. | AH40: SCL | AO40: new | AR40: Curve and vertical alignment corrections | AS40: EA
...

Sheet Project Info Page 2
A1: STATE OF CALIFORNIA ● DEPARTMENT OF TRANSPORTATION
A2: PROJECT PROGRAMMING REQUEST
A3: ='Project Info'!A3 -> LAPG -25I (Revised 28 Feb 2022 v1.01) | C3: Date: | D3: ='Project Info'!U4 -> 45784.411
A4: Additional Information

Sheet Funding Info
A1: STATE OF CALIFORNIA ● DEPARTMENT OF TRANSPORTATION
A2: PROJECT PROGRAMMING REQUEST
A3: ='Project Info'!A3 -> LAPG -25I (Revised 28 Feb 2022 v1.01) | K3: Date: | L3: ='Project Info'!U4 -> 45784.411
A4: District | B4: County | D4: Route | F4: EA | G4: Project ID | I4: PPNO
A5: ='Project Info'!A6 -> 0 | B5: ='Project Info'!AA8 -> 0 | D5: ='Project Info'!AF8 -> 0 | F5: ='Project Info'!E6 | G5: ='Project Info'!G6 | I5: ='Project Info'!L6 -> 0 | K5: ='Project Info'!T6 -> 0
A6: Project Title: | B6: ='Project Info'!A14 -> 0
A8: Existing Total Project Cost ($1,000s) | J8: Implementing Agency
A9: Component | B9: Prior | C9: 22-23 | D9: 23-24 | E9: 24-25 | F9: 25-26 | G9: 26-27 | H9: 27-28+ | I9: Total
A10: E&P (PA&ED) | B10: =B29+B48+B67+B86+B105+B124+B143+B162+B181+B200+B219+B238+B257+B276 -> 0 | C10: =C29+C48+C67+C86+C105+C124+C143+C162+C181+C200+C219+C238+C257+C276 -> 0 | D10: =D29+D48+D67+D86+D105+D124+D143+D162+D181+D200+D219+D238+D257+D276 -> 0 | E10: =E29+E48+E67+E86+E105+E124+E143+E162+E181+E200+E219+E238+E257+E276 -> 0 | F10: =F29+F48+F67+F86+F105+F124+F143+F162+F181+F200+F219+F238+F257+F276 -> 0 | G10: =G29+G48+G67+G86+G105+G124+G143+G162+G181+G200+G219+G238+G257+G276 -> 0 | H10: =H29+H48+H67+H86+H105+H124+H143+H162+H181+H200+H219+H238+H257+H276 -> 0 | I10: =SUM($B$10:$H$10) -> 0 | J10: ='Project Info'!E24 -> 0
A11: PS&E | B11: =B30+B49+B68+B87+B106+B125+B144+B163+B182+B201+B220+B239+B258+B277 -> 0 | C11: =C30+C49+C68+C87+C106+C125+C144+C163+C182+C201+C220+C239+C258+C277 -> 0 | D11: =D30+D49+D68+D87+D106+D125+D144+D163+D182+D201+D220+D239+D258+D277 -> 0 | E11: =E30+E49+E68+E87+E106+E125+E144+E163+E182+E201+E220+E239+E258+E277 -> 0 | F11: =F30+F49+F68+F87+F106+F125+F144+F163+F182+F201+F220+F239+F258+F277 -> 0 | G11: =G30+G49+G68+G87+G106+G125+G144+G163+G182+G201+G220+G239+G258+G277 -> 0 | H11: =H30+H49+H68+H87+H106+H125+H144+H163+H182+H201+H220+H239+H258+H277 -> 0 | I11: =SUM($B$11:$H$11) -> 0 | J11: ='Project Info'!E25 -> 0
A12: R/W SUP (CT) | B12: =B31+B50+B69+B88+B107+B126+B145+B164+B183+B202+B221+B240+B259+B278 -> 0 | C12: =C31+C50+C69+C88+C107+C126+C145+C164+C183+C202+C221+C240+C259+C278 -> 0 | D12: =D31+D50+D69+D88+D107+D126+D145+D164+D183+D202+D221+D240+D259+D278 -> 0 | E12: =E31+E50+E69+E88+E107+E126+E145+E164+E183+E202+E221+E240+E259+E278 -> 0 | F12: =F31+F50+F69+F88+F107+F126+F145+F164+F183+F202+F221+F240+F259+F278 -> 0 | G12: =G31+G50+G69+G88+G107+G126+G145+G164+G183+G202+G221+G240+G259+G278 -> 0 | H12: =H31+H50+H69+H88+H107+H126+H145+H164+H183+H202+H221+H240+H259+H278 -> 0 | I12: =SUM($B$12:$H$12) -> 0 | J12: ='Project Info'!E26 -> 0
A13: CON SUP (CT) | B13: =B32+B51+B70+B89+B108+B127+B146+B165+B184+B203+B222+B241+B260+B279 -> 0 | C13: =C32+C51+C70+C89+C108+C127+C146+C165+C184+C203+C222+C241+C260+C279 -> 0 | D13: =D32+D51+D70+D89+D108+D127+D146+D165+D184+D203+D222+D241+D260+D279 -> 0 | E13: =E32+E51+E70+E89+E108+E127+E146+E165+E184+E203+E222+E241+E260+E279 -> 0 | F13: =F32+F51+F70+F89+F108+F127+F146+F165+F184+F203+F222+F241+F260+F279 -> 0 | G13: =G32+G51+G70+G89+G108+G127+G146+G165+G184+G203+G222+G241+G260+G279 -> 0 | H13: =H32+H51+H70+H89+H108+H127+H146+H165+H184+H203+H222+H241+H260+H279 -> 0 | I13: =SUM($B$13:$H$13) -> 0 | J13: ='Project Info'!E27 -> 0
A14: R/W | B14: =B33+B52+B71+B90+B109+B128+B147+B166+B185+B204+B223+B242+B261+B280 -> 0 | C14: =C33+C52+C71+C90+C109+C128+C147+C166+C185+C204+C223+C242+C261+C280 -> 0 | D14: =D33+D52+D71+D90+D109+D128+D147+D166+D185+D204+D223+D242+D261+D280 -> 0 | E14: =E33+E52+E71+E90+E109+E128+E147+E166+E185+E204+E223+E242+E261+E280 -> 0 | F14: =F33+F52+F71+F90+F109+F128+F147+F166+F185+F204+F223+F242+F261+F280 -> 0 | G14: =G33+G52+G71+G90+G109+G128+G147+G166+G185+G204+G223+G242+G261+G280 -> 0 | H14: =H33+H52+H71+H90+H109+H128+H147+H166+H185+H204+H223+H242+H261+H280 -> 0 | I14: =SUM($B$14:$H$14) -> 0 | J14: ='Project Info'!E26 -> 0
A15: CON | B15: =B34+B53+B72+B91+B110+B129+B148+B167+B186+B205+B224+B243+B262+B281 -> 0 | C15: =C34+C53+C72+C91+C110+C129+C148+C167+C186+C205+C224+C243+C262+C281 -> 0 | D15: =D34+D53+D72+D91+D110+D129+D148+D167+D186+D205+D224+D243+D262+D281 -> 0 | E15: =E34+E53+E72+E91+E110+E129+E148+E167+E186+E205+E224+E243+E262+E281 -> 0 | F15: =F34+F53+F72+F91+F110+F129+F148+F167+F186+F205+F224+F243+F262+F281 -> 0 | G15: =G34+G53+G72+G91+G110+G129+G148+G167+G186+G205+G224+G243+G262+G281 -> 0 | H15: =H34+H53+H72+H91+H110+H129+H148+H167+H186+H205+H224+H243+H262+H281 -> 0 | I15: =SUM($B$15:$H$15) -> 0 | J15: ='Project Info'!E27 -> 0
A16: TOTAL | B16: =SUM($B$10:$B$15) -> 0 | C16: =SUM($C$10:$C$15) -> 0 | D16: =SUM($D$10:$D$15) -> 0 | E16: =SUM($E$10:$E$15) -> 0 | F16: =SUM($F$10:$F$15) -> 0 | G16: =SUM($G$10:$G$15) -> 0 | H16: =SUM($H$10:$H$15) -> 0 | I16: =SUM($B$16:$H$16) -> 0
A17: Proposed Total Project Cost ($1,000s) | J17: Notes
A18: E&P (PA&ED) | B18: =B37+B56+B75+B94+B113+B132+B151+B170+B189+B208+B227+B246+B265+B284 -> 0 | C18: =C37+C56+C75+C94+C113+C132+C151+C170+C189+C208+C227+C246+C265+C284 -> 0 | D18: =D37+D56+D75+D94+D113+D132+D151+D170+D189+D208+D227+D246+D265+D284 -> 0 | E18: =E37+E56+E75+E94+E113+E132+E151+E170+E189+E208+E227+E246+E265+E284 -> 0 | F18: =F37+F56+F75+F94+F113+F132+F151+F170+F189+F208+F227+F246+F265+F284 -> 0 | G18: =G37+G56+G75+G94+G113+G132+G151+G170+G189+G208+G227+G246+G265+G284 -> 0 | H18: =H37+H56+H75+H94+H113+H132+H151+H170+H189+H208+H227+H246+H265+H284 -> 0 | I18: =SUM($B$18:$H$18) -> 0
A19: PS&E | B19: =B38+B57+B76+B95+B114+B133+B152+B171+B190+B209+B228+B247+B266+B285 -> 0 | C19: =C38+C57+C76+C95+C114+C133+C152+C171+C190+C209+C228+C247+C266+C285 -> 0 | D19: =D38+D57+D76+D95+D114+D133+D152+D171+D190+D209+D228+D247+D266+D285 -> 0 | E19: =E38+E57+E76+E95+E114+E133+E152+E171+E190+E209+E228+E247+E266+E285 -> 0 | F19: =F38+F57+F76+F95+F114+F133+F152+F171+F190+F209+F228+F247+F266+F285 -> 0 | G19: =G38+G57+G76+G95+G114+G133+G152+G171+G190+G209+G228+G247+G266+G285 -> 0 | H19: =H38+H57+H76+H95+H114+H133+H152+H171+H190+H209+H228+H247+H266+H285 -> 0 | I19: =SUM($B$19:$H$19) -> 0
A20: R/W SUP (CT) | B20: =B39+B58+B77+B96+B115+B134+B153+B172+B191+B210+B229+B248+B267+B286 -> 0 | C20: =C39+C58+C77+C96+C115+C134+C153+C172+C191+C210+C229+C248+C267+C286 -> 0 | D20: =D39+D58+D77+D96+D115+D134+D153+D172+D191+D210+D229+D248+D267+D286 -> 0 | E20: =E39+E58+E77+E96+E115+E134+E153+E172+E191+E210+E229+E248+E267+E286 -> 0 | F20: =F39+F58+F77+F96+F115+F134+F153+F172+F191+F210+F229+F248+F267+F286 -> 0 | G20: =G39+G58+G77+G96+G115+G134+G153+G172+G191+G210+G229+G248+G267+G286 -> 0 | H20: =H39+H58+H77+H96+H115+H134+H153+H172+H191+H210+H229+H248+H267+H286 -> 0 | I20: =SUM($B$20:$H$20) -> 0
A21: CON SUP (CT) | B21: =B40+B59+B78+B97+B116+B135+B154+B173+B192+B211+B230+B249+B268+B287 -> 0 | C21: =C40+C59+C78+C97+C116+C135+C154+C173+C192+C211+C230+C249+C268+C287 -> 0 | D21: =D40+D59+D78+D97+D116+D135+D154+D173+D192+D211+D230+D249+D268+D287 -> 0 | E21: =E40+E59+E78+E97+E116+E135+E154+E173+E192+E211+E230+E249+E268+E287 -> 0 | F21: =F40+F59+F78+F97+F116+F135+F154+F173+F192+F211+F230+F249+F268+F287 -> 0 | G21: =G40+G59+G78+G97+G116+G135+G154+G173+G192+G211+G230+G249+G268+G287 -> 0 | H21: =H40+H59+H78+H97+H116+H135+H154+H173+H192+H211+H230+H249+H268+H287 -> 0 | I21: =SUM($B$21:$H$21) -> 0
A22: R/W | B22: =B41+B60+B79+B98+B117+B136+B155+B174+B193+B212+B231+B250+B269+B288 -> 0 | C22: =C41+C60+C79+C98+C117+C136+C155+C174+C193+C212+C231+C250+C269+C288 -> 0 | D22: =D41+D60+D79+D98+D117+D136+D155+D174+D193+D212+D231+D250+D269+D288 -> 0 | E22: =E41+E60+E79+E98+E117+E136+E155+E174+E193+E212+E231+E250+E269+E288 -> 0 | F22: =F41+F60+F79+F98+F117+F136+F155+F174+F193+F212+F231+F250+F269+F288 -> 0 | G22: =G41+G60+G79+G98+G117+G136+G155+G174+G193+G212+G231+G250+G269+G288 -> 0 | H22: =H41+H60+H79+H98+H117+H136+H155+H174+H193+H212+H231+H250+H269+H288 -> 0 | I22: =SUM($B$22:$H$22) -> 0
A23: CON | B23: =B42+B61+B80+B99+B118+B137+B156+B175+B194+B213+B232+B251+B270+B289 -> 0 | C23: =C42+C61+C80+C99+C118+C137+C156+C175+C194+C213+C232+C251+C270+C289 -> 0 | D23: =D42+D61+D80+D99+D118+D137+D156+D175+D194+D213+D232+D251+D270+D289 -> 0 | E23: =E42+E61+E80+E99+E118+E137+E156+E175+E194+E213+E232+E251+E270+E289 -> 0 | F23: =F42+F61+F80+F99+F118+F137+F156+F175+F194+F213+F232+F251+F270+F289 -> 0 | G23: =G42+G61+G80+G99+G118+G137+G156+G175+G194+G213+G232+G251+G270+G289 -> 0 | H23: =H42+H61+H80+H99+H118+H137+H156+H175+H194+H213+H232+H251+H270+H289 -> 0 | I23: =SUM($B$23:$H$23) -> 0
A24: TOTAL | B24: =SUM($B$18:$B$23) -> 0 | C24: =SUM($C$18:$C$23) -> 0 | D24: =SUM($D$18:$D$23) -> 0 | E24: =SUM($E$18:$E$23) -> 0 | F24: =SUM($F$18:$F$23) -> 0 | G24: =SUM($G$18:$G$23) -> 0 | H24: =SUM($H$18:$H$23) -> 0 | I24: =SUM($B$24:$H$24) -> 0
A26: Fund No. 1: | J26: Program Code
A27: Existing Funding ($1,000s)
A28: Component | B28: =B$9 -> Prior | C28: 22-23 | D28: 23-24 | E28: 24-25 | F28: 25-26 | G28: 26-27 | H28: 27-28+ | I28: =I$9 -> Total | J28: Funding Agency
A29: E&P (PA&ED) | I29: =SUM($B$29:$H$29) -> 0
A30: PS&E | I30: =SUM($B$30:$H$30) -> 0
A31: R/W SUP (CT) | I31: =SUM($B$31:$H$31) -> 0
A32: CON SUP (CT) | I32: =SUM($B$32:$H$32) -> 0
A33: R/W | I33: =SUM($B$33:$H$33) -> 0
A34: CON | I34: =SUM($B$34:$H$34) -> 0
A35: TOTAL | B35: =SUM($B$29:$B$34) -> 0 | C35: =SUM($C$29:$C$34) -> 0 | D35: =SUM($D$29:$D$34) -> 0 | E35: =SUM($E$29:$E$34) -> 0 | F35: =SUM($F$29:$F$34) -> 0 | G35: =SUM($G$29:$G$34) -> 0 | H35: =SUM($H$29:$H$34) -> 0 | I35: =SUM($B$35:$H$35) -> 0
A36: Proposed Funding ($1,000s) | J36: Notes
A37: E&P (PA&ED) | I37: =SUM($B$37:$H$37) -> 0
A38: PS&E | I38: =SUM($B$38:$H$38) -> 0
A39: R/W SUP (CT) | I39: =SUM($B$39:$H$39) -> 0
A40: CON SUP (CT) | I40: =SUM($B$40:$H$40) -> 0
A41: R/W | I41: =SUM($B$41:$H$41) -> 0
A42: CON | I42: =SUM($B$42:$H$42) -> 0
...

Sheet Amendment Info
A1: STATE OF CALIFORNIA ● DEPARTMENT OF TRANSPORTATION
A2: PROJECT PROGRAMMING REQUEST
A3: ='Project Info'!A3 -> LAPG -25I (Revised 28 Feb 2022 v1.01)
A4: Complete this page for amendments only | J4: Date: | K4: ='Project Info'!U4 -> 45784.411
A5: District | B5: County | D5: Route | F5: EA | G5: Project ID | I5: PPNO
A6: ='Project Info'!A6 -> 0 | B6: =CONCATENATE('Project Info'!A8," ",'Project Info'!A9," ",'Project Info'!A10) | D6: =CONCATENATE('Project Info'!D8:G8," ",'Project Info'!D9:G9," ",'Project Info'!D10:G10) | F6: ='Project Info'!E6 | G6: ='Project Info'!G6 | I6: ='Project Info'!L6 -> 0
A7: SECTION 1 - All Projects
A8: Project Background
A17: Programming Change Requested
A26: Reason for Proposed Change
A35: If proposed change will delay one or more components, clearly explain 1) reason the delay, 2) cost increase related to the delay, and 3) how cost increase will be funded
A42: Other Significant Information
A48: SECTION 2 - For SB1 Projects Only
A49: Project Amendment Request (Please follow the individual SB1 program guidelines for specific criteria)
A52: SECTION 3 - All Projects
A53: Approvals
A54: I hereby certify that the above information is complete and accurate and all approvals have been obtained for the processing of this amendment request.*
A55: Name (Print or Type) | D55: Signature | H55: Title | K55: Date
A57: Attachments
A58: 1) Concurrence from Metropolitan Planning Organization and/or Regional Transportation Planning Agency
A59: 2) Project Location Map

Sheet Pull Down Data
A1: Fund | B1: Fund Type | C1: Definition | D1: Fiscal Year | F1: Program Cat. | G1: Program Code | H1: Fund Type
A2: RIP | B2: BOND99 | C2: Prop 1B - State Route 99 Program | D2: Prior | F2: CMAQ | G2: 20.30.010.820 - Congestion Mitigation & Air Quality Improvement Program | H2: CMAQ
A3: IIP | B3: CMAQ | C3: Congestion Mitigation and Air Quality | D3: 12/13 | F3: CT Minor Pgm. | G3: CT-MINOR - Caltrans Minor Program | H3: ST-CASH
A4: Local Funds | B4: CMIA | C4: Prop 1B - Corridor Mobility Improvement Account | D4: 13/14 | F4: Demo | G4: 20.30.10.680 - High Priority Project / Demonstration Projects | H4: DEMOS21
A5: CMAQ | B5: DEMOS21 | C5: High Priority Project / Demonstration Project | D5: 14/15 | F5: FTA Funds | G5: FTA-TRANSIT - FTA Funds | H5: 5313, AR-5307, AR-5309, AR-5311, FTA5320, 5339, ES25311, 5307-SU, 5307-LU, 5307_TR, 5307-TR, 5310, 5311, 3037, 5307, 5308, 5309a, 5309c, 5340, 5311F, 5316, FTA5303, 5312, 5317, 5311-C, 5311-B3, 5337
A6: Demo | B6: ER-L | C6: Emergency Relief | D6: 15/16 | F6: Federal Disc. | G6: 20.XX.400.300 - Federal Discretionary | H6: 2011FDG, BIA, CDBG, DOD-NAV, EDA, FEMA, HUD, 5208, 5207, IM, IMD, NSBP, PLH, 1112, TCSPPP
A7: RSTP | B7: HBRR-L | C7: Highway Bridge Replacement and Rehabilitation | D7: 16/17 | F7: Future Need | G7: FUTURE - Unfunded Need | H7: NO-FUND
A8: Future Need | B8: HRCSA | C8: Prop 1B - Highway-Railroad Crossing Safety Account | D8: 17/18 | F8: GF IIP | G8: 20.XX.025.500 - Grandfathered Interregional Improvement Program | H8: NH
A9: CT Minor Pgm. | B9: LSR | C9: Prop 1B - Local Street and Road | D9: 18/19 | F9: GF RIP | G9: 20.XX.075.400 - Grandfathered Regional Improvement Program | H9: NH
A10: FTA Funds | B10: LTF | C10: Local Transportation Funds | D10: 19/20+ | F10: IIP | G10: 20.XX.025.700 - Interregional Improvement Program | H10: IM, NH, PTA, STIP-AC, BOND-ST, STP1, STPE-S, STPE, STPP, ST-CASH, STP
A11: Federal Disc. | B11: NH | C11: National Highways | F11: IIP | G11: 30.10.070.725 - Mass Transit Guideways | H11: PTA
A12: GF IIP | B12: NO-FUND | C12: Not Funded | F12: IIP | G12: 30.10.070.726 - Mass Transit Guideways - Grade Separation Projects | H12: PTA
A13: GF RIP | B13: OTS | C13: Office of Traffic Safety | F13: IIP | G13: 30.20.020.720 - Intercity Rail | H13: PTA
A14: Other Fed | B14: P116 | C14: Proposition 116 | F14: Local ER | G14: LOCAL ER - Local FHWA - ER | H14: ER-L
A15: Other State | B15: PTA | C15: Public Transportation Account | F15: Local Funds | G15: 20.10.400.100 - Locally Generated Funds | H15: LTF
A16: State Bond | B16: PTMISEA | C16: Prop 1B - Public Transportation Modernization, Improvement, and Service Enhancement Account | F16: Local Funds | G16: 20.10.400.330 - Regional Surface Transportation Program | H16: STPL
A17: TCRP (Committed) | B17: SLPP | C17: Prop 1B - State-Local Partnership Program | F17: Local Funds | G17: 20.10.400.335 - Surface Transportation Program | H17: STP
A18: TCRP (Proposed) | B18: SNPLMA | C18: Southern Nevada Public Lands Management Act | F18: Local Funds | G18: 20.10.400.340 - Office of Traffic Safety Funding | H18: OTS
B19: STA-EEM | C19: Environmental Enhancement and Mitigation | F19: Local HBRR | G19: LOCAL HBRR - Local FHWA - HBRR | H19: HBRR-L
B20: ST-CASH | C20: State Cash | F20: Local HES | G20: LOCAL HES - Local FHWA - HES | H20: STPG-L
B21: STP | C21: Surface Transportation Program | F21: Local Rail | G21: LOCAL 130 - Local FHWA - Rail (Sec 130) | H21: STPR-L
B22: STPE | C22: Transportation Enhancment without State Match | F22: Local TEA | G22: LOCAL TEA - Local FHWA - TEA | H22: STPE-L
B23: STPE-S | C23: Transportation Enhancement with State Match | F23: Nevada State | G23: NEV STATE - Neveda State Fund | H23: SNPLMA
B24: TCIF | C24: Prop 1B - Trade Corridor Improvement Fund | F24: Other Fed | G24: 20.30.010.300 - Highway Bridge Program (HBP) | H24: AR-FLH, ARRA-HM, AR-RSTP, AR-TE-S, AR-STP, ARRA-TE, AR-FRA, ECREC, STIM2-L, STIM2-S, 2010EAR, STMAINT, HRRRP, HSIF, NCIIP, OTS, PNRS, PTA, ENDGSP, STPE, SRTS, INVEST, STPER, SEC112, TI, TIFIA
B25: TCRF | C25: Traffic Congestion Relief Fund | F25: Other Fed | G25: 20.30.010.550 - Highway Safety Improvement Program (Infrastructure) | H25: AR-FLH, ARRA-HM, AR-RSTP, AR-TE-S, AR-STP, ARRA-TE, AR-FRA, ECREC, STIM2-L, STIM2-S, 2010EAR, STMAINT, HRRRP, HSIF, NCIIP, OTS, PNRS, PTA, ENDGSP, STPE, SRTS, INVEST, STPER, SEC112, TI, TIFIA
B26: TLSP | C26: Prop 1B - Traffic Light Synchronization Program | F26: Other Fed | G26: 20.30.010.810 - Surface Transportation Program (STP) | H26: AR-FLH, ARRA-HM, AR-RSTP, AR-TE-S, AR-STP, ARRA-TE, AR-FRA, ECREC, STIM2-L, STIM2-S, 2010EAR, STMAINT, HRRRP, HSIF, NCIIP, OTS, PNRS, PTA, ENDGSP, STPE, SRTS, INVEST, STPER, SEC112, TI, TIFIA
F27: Other Fed | G27: 20.30.010.820 - Congestion Mitigation & Air Quality Improvement Program | H27: AR-FLH, ARRA-HM, AR-RSTP, AR-TE-S, AR-STP, ARRA-TE, AR-FRA, ECREC, STIM2-L, STIM2-S, 2010EAR, STMAINT, HRRRP, HSIF, NCIIP, OTS, PNRS, PTA, ENDGSP, STPE, SRTS, INVEST, STPER, SEC112, TI, TIFIA
F28: Other Fed | G28: 20.30.100.827 - Recovery Act 2009 Non-STIP Programs | H28: AR-FLH, ARRA-HM, AR-RSTP, AR-TE-S, AR-STP, ARRA-TE, AR-FRA, ECREC, STIM2-L, STIM2-S, 2010EAR, STMAINT, HRRRP, HSIF, NCIIP, OTS, PNRS, PTA, ENDGSP, STPE, SRTS, INVEST, STPER, SEC112, TI, TIFIA
F29: Other Fed | G29: 20.XX.400.335 - Surface Transportation Program | H29: AR-FLH, ARRA-HM, AR-RSTP, AR-TE-S, AR-STP, ARRA-TE, AR-FRA, ECREC, STIM2-L, STIM2-S, 2010EAR, STMAINT, HRRRP, HSIF, NCIIP, OTS, PNRS, PTA, ENDGSP, STPE, SRTS, INVEST, STPER, SEC112, TI, TIFIA
F30: Other State | G30: 20.30.207.811 - Environmental Enhancement & Mitigation (EEM) | H30: STA-EEM
F31: Other State | G31: 20.XX.800.200 - Generic non-STIP/SHOPP State Funds | H31: ST-CASH
F32: Other State | G32: 30.10.070.000 - Mass Transit | H32: P116
F33: Other State | G33: 30.20.020.000 - Intercity Rail | H33: P116
F34: Other State | G34: SHOPP - SHOPP Funds on STIP Projects | H34: NH
F35: RIP | G35: 20.30.600.620 - Local Roads | H35: NH
F36: RIP | G36: 20.30.600.621 - Local Roads Rehabilitation | H36: NH
F37: RIP | G37: 20.30.600.670 - Funds for PPM - RIP | H37: NH
F38: RIP | G38: 20.30.600.675 - RSTP/CMAQ Matching Funds - RIP | H38: NH
... F68: TCRP (Proposed) | G68: PROPOSED - Fund | H68: NO-FUND
