Workbook
Name AFM: '3.0 De Minimis Calculations '!$F$181
Name Agncy_Furn_Matrl: '1.0 De Minimis Request'!$F$14
Name Calc_NC: '3.0 De Minimis Calculations '!$F$184
Name Fed_Cont_No: '1.0 De Minimis Request'!$F$8
Name I_or_S_Waiver: '3.0 De Minimis Calculations '!$K$186
Name IS_No_Crt: '3.0 De Minimis Calculations '!$F$188
Name LPA_Name: '1.0 De Minimis Request'!$F$6
Name LPA_Proj_No: '1.0 De Minimis Request'!$F$7
Name LPA_RE_Name: '1.0 De Minimis Request'!$G$55
Name MP_CM: '3.0 De Minimis Calculations '!$F$183
Name MP_CM_Waiver: '3.0 De Minimis Calculations '!$K$180
Name MPCM_No_Crt: '3.0 De Minimis Calculations '!$F$185
Name Prime_Cont: '1.0 De Minimis Request'!$F$12
Name Prime_Cont_Rep: '1.0 De Minimis Request'!$G$52
Name Prm_Cont_Sig: '1.0 De Minimis Request'!$G$53
Name Proj_Descptn: '1.0 De Minimis Request'!$F$10
Name Proj_Loc: '1.0 De Minimis Request'!$F$11
Name Proj_Name: '1.0 De Minimis Request'!$F$9
Name Reqst_Itrtn: '1.0 De Minimis Request'!$F$15
Name Rqst_Date: '1.0 De Minimis Request'!$L$53
Name TA_AFM: '3.0 De Minimis Calculations '!$F$182
Name TA_PI_CO: '3.0 De Minimis Calculations '!$F$180
Name Total_AFM: '2.0 Agency Furnished Materials'!$J$41
Name Total_AFM_CM: '2.0 Agency Furnished Materials'!$O$42
Name Total_AFM_I: '2.0 Agency Furnished Materials'!$L$42
Name Total_AFM_MP: '2.0 Agency Furnished Materials'!$N$42
Name Total_AFM_S: '2.0 Agency Furnished Materials'!$M$42
Name Total_CO_Cost: '3.0 De Minimis Calculations '!$I$172
Name Total_Con_Cost: '3.0 De Minimis Calculations '!$H$172
Name Total_I_S: '3.0 De Minimis Calculations '!$F$186
Name Total_I_S_Wvr: '3.0 De Minimis Calculations '!$F$187

Sheet Instruction Page
B1: Instructions for De Minimis Cost Waiver Worksheet
B2: De Minimus Cost Waiver for Manufactured Products and Construction Materials
B3: A De Minimis Costs waiver can waive the application of FHWA's Buy America requirements for manufactured products and construction materials under a single project when the total cost of non-compliant manufactured products and construction materials is no more than the lesser of $1,000,000 or 5 percent of the total applicable costs for the project.
B8: De Minimus Cost Waiver for Iron or Steel Products
B9: In Addition to the De Minimis allowance for manufactured products and construction materials the use of foreign iron or steel can be allowed when the cost of such foreign iron or steel is the greater of 0.1% of the contract cost at award or $2,500.
B12: These worksheets are designed to assist in the calculation of those allowable foreign materials and is to be used to track the information in the event of audit and must be keep in the project files.
B14: Notes:
B16: All supporting documentation for each Pay Item and Change Orders with materials subject to Buy America requirements must be sent with this request to be considered for approval. i.e. invoices for the materials including cost of transportation to the project location and Buy America Certificates of Compliance and Mill Certificates for Iron or Steel products.
B18: These worksheets are to be completed by the Prime Contractor making the De Minimis Request with some assistance and information provided by the Local Agency Resident Engineer.
B19: They are to be used in conjunction with the project specifications' Buy America requirements.
B21: The request for the De Minimis Cost Waiver must be completed and submitted to the Local Agency Resident Engineer with supporting documentation for review and approval prior to delivering any materials subject to Buy America requirements to the project.
B23: Cells that are not shaded are locked and can not be edited | M23: (example)
B24: Cells shaded in grey are for data entry, some will automatically shade in yellow when data is entered. | M24: (example) | O24: Data
B25: For sheet 3.0 De Minimis Calculation some cells will have to be manually shaded yellow by the user for clarity. | M25: (example)
B27: Step 1: 1.0 DE MINIMIS COST WAIVER REQUEST WORKSHEET
B29: Prime Contractor is to fill out sheet 2.0 De Minimis Cost Waiver Request Worksheet
B31: Enter Project information in the worksheet
B33: There are three Categories for Buy America material classifications that can be selected to be considered to be considered for a De Minimis Cost Waiver
C36: 1. Iron or Steel Products
C37: 2. Manufactured Products
C38: 3. Construction Materials
B40: Check box in each Category for the Applicable Materials requested for consideration in invoking a De Minimis Cost Waiver.
B42: Notes:
B43: Some contract pay items or Change Order Materials may fall into more than one category
B44: This sheet must be revisited and returned to the Resident Engineer if a change order alters the total contract amount
B109: See 1.0 De Minimis Cost Waiver Request Worksheet for more detailed instructions.
B110: Step 2 : 2.0 AGENCY FURNISHED MATERIALS WORKSHEET
B112: Prime Contractor must enter Agency Furnished Material(s) information in sheet 2.0 Agency Furnished Materials Worksheet.
B113: Agency is to provide Agency Furnished Material Costs information to Prime Contractor for completion of 2.0 Agency Furnished Materials Worksheet.
B115: Agency Furnished Material will be factored in the De Minimis Calculations and decrease the allowable total value that can be claimed as Non-Compliant Manufactured Products or Construction Materials
B117: If there are no Agency Furnished Materials that fall into the 3 Categories then this sheet can be left blank with no data entered. The Agency Furnished Materials value on the De Minimus Request and the Results Worksheets will automatically populated their respective cells as "No Agency Furnished Materials"
B140: See 2.0 Agency Furnished Materials Worksheet for more detailed instructions on how to enter the values and account for Agency Furnished Materials in the De Minimis Calculations.
B142: Step 3: 3.0 DE MINIMIS CALCULATIONS WORKSHEET
... B184: 1. The allowable Non-Compliant Material Cost (5%) Threshold for Manufactured Products and Construction Materials
C220: Example:
B253: 2. The allowable Non-Compliant Material Cost (0.1% ) for Iron or Steel Products
B268: See 3.0 De Minimis Calculation Worksheet for more detailed instructions on how to enter the values and account for De Minimis Calculation values.
B272: Step 5: 4.0 RESULTS PAGE
B274: This Results Page is intended to document and track the initial request for De Minimis Waiver and any subsequent requests through Change Orders during the Construction Phase of the Contract.
B277: The Results Page also has a table to log all requests from initial request and any subsequent request made due to Change Orders
...

Sheet 1.0 De Minimis Request
B1: 1.0 DE MINIMIS COST WAIVER REQUEST WORKSHEET
C3: Instructions: This form is to be completed by the Contractor and submitted to the Local Agency Resident Engineer early in the project to be considered for approval. Fill out the grey shaded cells and check all boxes under Categories that apply to this request.
D6: Local Public Agency:
D7: Local Agency Proj. No.
D8: Federal Contract No.
D9: Project Name
D10: Project Description
D11: Project Location
D12: Prime Contractor:
D13: Contract Award Amt.
D14: Agency Furnish Material | F14: =IF('2.0 Agency Furnished Materials'!J41=0,"No Agency Furnished Materials",'2.0 Agency Furnished Materials'!J41) -> No AFM
D15: Request Iteration
D16: Comments:
D17: CO Amount (if applicable)
D19: With respect to exceptions for products made in the United States, our company elects to request a De Minimis Waiver for the following material types per Contract Specifications:
E22: Category (1) Iron or Steel Products
F24: Iron
F26: Steel
E28: Category (2) Manufactured Products
F30: Manufactured Products
E32: Category (3) Construction Materials
F34: Non-ferrous metals
F36: Plastic and polymer-based products (including polyvinylchloride, composite building materials, and polymers used in fiber optic cables)
F39: Glass (including optic glass)
F41: Fiber optic cable (including drop cable)
F43: Optical fiber
F45: Lumber
F47: Engineered wood
F49: Drywall
C52: Prime Contractor Representative (Name)
C53: Prime Contractor Representative (Signature) | K53: Date
C55: Local Public Agency: Resident Engineer
C56: Distribution: | G56: Prime Contractor, RE, Project Files
J58: Last Revised on | L58: ='Instruction Page'!$N$354 -> 46043

Sheet 2.0 Agency Furnished Materials
B1: 2.0 AGENCY FURNISHED MATERIAL WORKSHEET
B3: Instructions: Enter Agency Furnished Materials subject to Buy America below
B4: This form is to be completed by the Prime Contractor or the Local Agency prior to completing the remaining worksheets.
B5: This form must also be updated by the Prime Contractor if a CO involves additional agency furnished material.
B7: Note: If there are no Agency Furnished Materials on the project do not enter any data. This from can be left blank.
B9: For Agency Furnished Material(s)/Items
B10: 1. Columns A-G: Enter pay item No., Description, Unit, Qty, Unit Price and Amount for the project in the grey shaded cells.
B11: Once data in entered the cells will automatically be shaded yellow.
B12: 2. Column H: Select from pull down the Material Type: I: Iron, S: Steel, MP: Manufactured Product, CM: Construction Materials.
B13: Column I: Will automatically populate based entry in Column I as (1) for Iron, (1) for Steel, (2) for Manufactured Product, and (3) for Construction Materials.
B14: 3. Column J: Enter the Applicable Material Cost (including transportation) subject to Buy America. Must be accompanied by Buy America Certificate of Compliance and Mill Test Reports for Iron or Steel Products and be placed in the project files.
B15: Note: If the cost of Iron or Steel of a product is greater than 50% of a the cost of a product then the product would fall into Iron or Steel category and not a Manufactured Product.
... B17: 4. Columns L-O: Will automatically populate based on data entered in Columns H & J.
B18: AGENCY FURNISHED MATERIAL CONTRACT (ITEM/CO) LIST TABLE | L18: CATEGORY TABLE I, S, CM, MP
B19: Item No. | C19: Item Description | D19: Unit | E19: Quantity | F19: Price | G19: Amount | H19: Material Type I, S, MP, CM | I19: Category Type (1,2,3) | J19: Applicable Material Costs (including transportation) | L19: I | M19: S | N19: MP | O19: CM
I20: =IF($H20="I","(1)",IF($H20="S","(1)",IF($H20="MP","(2)",IF($H20="CM","(3)"," ")))) | L20: =IF($H20="I",$J20,"") | M20: =IF($H20="S",$J20,"") | N20: =IF($H20="MP",$J20,"") | O20: =IF($H20="CM",$J20,"")
I21: =IF($H21="S","(1)",IF($H21="I","(1)",IF($H21="CM","(2)",IF($H21="MP","(3)"," ")))) | L21: =IF($H21="I",$J21,"") | M21: =IF($H21="S",$J21,"") | N21: =IF($H21="MP",$J21,"") | O21: =IF($H21="CM",$J21,"")
I22: =IF($H22="S","(1)",IF($H22="I","(1)",IF($H22="CM","(2)",IF($H22="MP","(3)"," ")))) | L22: =IF($H22="I",$J22,"") | M22: =IF($H22="S",$J22,"") | N22: =IF($H22="MP",$J22,"") | O22: =IF($H22="CM",$J22,"")
I23: =IF($H23="S","(1)",IF($H23="I","(1)",IF($H23="CM","(2)",IF($H23="MP","(3)"," ")))) | L23: =IF($H23="I",$J23,"") | M23: =IF($H23="S",$J23,"") | N23: =IF($H23="MP",$J23,"") | O23: =IF($H23="CM",$J23,"")
I24: =IF($H24="S","(1)",IF($H24="I","(1)",IF($H24="CM","(2)",IF($H24="MP","(3)"," ")))) | L24: =IF($H24="I",$J24,"") | M24: =IF($H24="S",$J24,"") | N24: =IF($H24="MP",$J24,"") | O24: =IF($H24="CM",$J24,"")
I25: =IF($H25="S","(1)",IF($H25="I","(1)",IF($H25="CM","(2)",IF($H25="MP","(3)"," ")))) | L25: =IF($H25="I",$J25,"") | M25: =IF($H25="S",$J25,"") | N25: =IF($H25="MP",$J25,"") | O25: =IF($H25="CM",$J25,"")
I26: =IF($H26="S","(1)",IF($H26="I","(1)",IF($H26="CM","(2)",IF($H26="MP","(3)"," ")))) | L26: =IF($H26="I",$J26,"") | M26: =IF($H26="S",$J26,"") | N26: =IF($H26="MP",$J26,"") | O26: =IF($H26="CM",$J26,"")
I27: =IF($H27="S","(1)",IF($H27="I","(1)",IF($H27="CM","(2)",IF($H27="MP","(3)"," ")))) | L27: =IF($H27="I",$J27,"") | M27: =IF($H27="S",$J27,"") | N27: =IF($H27="MP",$J27,"") | O27: =IF($H27="CM",$J27,"")
I28: =IF($H28="S","(1)",IF($H28="I","(1)",IF($H28="CM","(2)",IF($H28="MP","(3)"," ")))) | L28: =IF($H28="I",$J28,"") | M28: =IF($H28="S",$J28,"") | N28: =IF($H28="MP",$J28,"") | O28: =IF($H28="CM",$J28,"")
I29: =IF($H29="S","(1)",IF($H29="I","(1)",IF($H29="CM","(2)",IF($H29="MP","(3)"," ")))) | L29: =IF($H29="I",$J29,"") | M29: =IF($H29="S",$J29,"") | N29: =IF($H29="MP",$J29,"") | O29: =IF($H29="CM",$J29,"")
I30: =IF($H30="S","(1)",IF($H30="I","(1)",IF($H30="CM","(2)",IF($H30="MP","(3)"," ")))) | L30: =IF($H30="I",$J30,"") | M30: =IF($H30="S",$J30,"") | N30: =IF($H30="MP",$J30,"") | O30: =IF($H30="CM",$J30,"")
I31: =IF($H31="S","(1)",IF($H31="I","(1)",IF($H31="CM","(2)",IF($H31="MP","(3)"," ")))) | L31: =IF($H31="I",$J31,"") | M31: =IF($H31="S",$J31,"") | N31: =IF($H31="MP",$J31,"") | O31: =IF($H31="CM",$J31,"")
I32: =IF($H32="S","(1)",IF($H32="I","(1)",IF($H32="CM","(2)",IF($H32="MP","(3)"," ")))) | L32: =IF($H32="I",$J32,"") | M32: =IF($H32="S",$J32,"") | N32: =IF($H32="MP",$J32,"") | O32: =IF($H32="CM",$J32,"")
... I39: =IF($H39="S","(1)",IF($H39="I","(1)",IF($H39="CM","(2)",IF($H39="MP","(3)"," ")))) | L39: =IF($H39="I",$J39,"") | M39: =IF($H39="S",$J39,"") | N39: =IF($H39="MP",$J39,"") | O39: =IF($H39="CM",$J39,"")
H40: Total Agency Furnished Materials: | L40: Total Agency Furnished Materials Subtotals by Category:
J41: =IF(SUM(J20:J39)=0,"No AFM",SUM(J20:J39)) -> No AFM | L41: I | M41: S | N41: MP | O41: CM
L42: =SUM(L20:L39) -> 0 | M42: =SUM(M20:M39) -> 0 | N42: =SUM(N20:N39) -> 0 | O42: =SUM(O20:O39) -> 0
M44: Last Revised on | N44: ='Instruction Page'!$N$354 -> 46043
Q108: =SUM(N42:O42) -> 0

Sheet 3.0 De Minimis Calculations 
B1: 3.0 DE MINIMIS COST WAIVER CALCULATION WORKSHEET
B3: Instructions: This form is to be completed by the Contractor and submitted to the RE early in the project to be considered for approval
B4: Note: All supporting documentation for each Pay Item and Change Orders with materials subject to Buy America requirements must be sent with this with this request to be considered for approval. i.e. invoices for the materials including cost of transportation to the project location.
B6: For Contract Pay Items:
B7: 1. Columns B & D-H: Enter the contract pay item No., Description, Unit, Qty, Unit Price and Amount for the project in the grey shaded cells.
B9: For (Child Items) of Contract Pay Items (Parent Items)
B10: In the case of Pay Items that have more than one category of Buy America material applicable to them, use additional rows with a description of the type of the applicable material and note (Child Items)
B11: Examples of Child Items are typically associated with Signal Modification Items, Precast Concrete Items (Iron or Steel and Manufactured Products) Intelligent Transportation Systems (ITS) and other electrical hardware systems and some LS Items.
B12: Note: If the cost of Iron or Steel of a product is greater than 50% of a the cost of a product then the product would fall into Iron or Steel category and not a Manufactured Product.
B13: Exception: Products such precast products and ITS or other electrical hardware systems must meet the requirements of both Iron or Steel and Manufactured Products regardless of the amount of Iron or Steel used in the product.
B14: Columns B & D-F: Data must be entered, but Columns G & H should be left blank/grey in the case of Child Items.
B16: 2. Manually delineate/shade line items subject to Buy America (Columns B & D-H) for Pay Items and (Columns B & D-F) for Child Items with yellow background color.
... B47: C. If a Change Order involves no applicable Buy America Materials the cost of the Change Order must still be accounted for whether there is an increase or decrease in the project amount.
B48: Enter the Change Order information Columns C & D-H, If No Buy America Materials associated with the Change Order then in Column D Instead of Pay Item (Child Item)/CO (Materials) Descriptions enter " No Buy America Materials this CO (State Reason for CO)" | Q48: Cells in these tables are Pre-Populated based on values entered in the Contract (Pay Item/CO) List Table
B49: Reason Examples (R/W Delay), (Additional Flagging), (Additional Temporary Signs), etc.
B51: CONTRACT (PAY ITEM/CO) LIST TABLE | Q51: CATEGORY TABLE I, S, CM, MP | V51: CATEGORY TABLE I or S
A53: No. | B53: Pay Item No. | C53: CO No. | D53: Pay Item (Child Item)/CO (Materials) Descriptions | E53: Unit | F53: Quantity | G53: Unit Price Item | H53: Amount (Pay Items) | I53: CO Amount | J53: Material Description (Examples: Rebar, PVC Pipe, Iron Grate, Glass Beads, Thermo/Paint, Wood Posts, or Manufactured Product, etc.) | K53: Material Type I, S, MP, CM | L53: Category Type (1,2,3) | M53: Applicable Material Costs (including transportation) (Amount(s)) | N53: Manufactured Product (MP) or Construction Material (CM) (BA-Cert) (Y/N) | O53: Iron (I) or Steel (S) (BA/Mill Cert) (Y/N) | Q53: I | R53: S | S53: MP | T53: CM | V53: I | W53: S
A54: 1 | L54: =IF($K54="I","(1)",IF($K54="S","(1)",IF($K54="MP","(2)",IF($K54="CM","(3)"," ")))) | Q54: =IF($K54="I",$M54,"") | R54: =IF($K54="S",$M54,"") | S54: =IF($K54="MP",$M54,"") | T54: =IF($K54="CM",$M54,"") | V54: =IF($K54="I",IF(O54="N",$M54,"")," ") | W54: =IF($K54="S",IF(O54="N",$M54,"")," ") | Z54: =IF(N54="N",M54," ")
A55: =IF(OR(ISNUMBER(B55),ISNUMBER(C55)),A54+1, " ") | L55: =IF($K55="I","(1)",IF($K55="S","(1)",IF($K55="MP","(2)",IF($K55="CM","(3)"," ")))) | Q55: =IF($K55="I",$M55,"") | R55: =IF($K55="S",$M55,"") | S55: =IF($K55="MP",$M55,"") | T55: =IF($K55="CM",$M55,"") | V55: =IF($K55="I",IF(O55="N",$M55,"")," ") | W55: =IF($K55="S",IF(O55="N",$M55,"")," ") | Z55: =IF(N55="N",M55," ")
A56: =IF(OR(ISNUMBER(B56),ISNUMBER(C56)),A55+1, " ") | L56: =IF($K56="I","(1)",IF($K56="S","(1)",IF($K56="MP","(2)",IF($K56="CM","(3)"," ")))) | Q56: =IF($K56="I",$M56,"") | R56: =IF($K56="S",$M56,"") | S56: =IF($K56="MP",$M56,"") | T56: =IF($K56="CM",$M56,"") | V56: =IF($K56="I",IF(O56="N",$M56,"")," ") | W56: =IF($K56="S",IF(O56="N",$M56,"")," ") | Z56: =IF(N56="N",M56," ")
A57: =IF(OR(ISNUMBER(B57),ISNUMBER(C57)),A56+1, " ") | L57: =IF($K57="I","(1)",IF($K57="S","(1)",IF($K57="MP","(2)",IF($K57="CM","(3)"," ")))) | Q57: =IF($K57="I",$M57,"") | R57: =IF($K57="S",$M57,"") | S57: =IF($K57="MP",$M57,"") | T57: =IF($K57="CM",$M57,"") | V57: =IF($K57="I",IF(O57="N",$M57,"")," ") | W57: =IF($K57="S",IF(O57="N",$M57,"")," ") | Z57: =IF(N57="N",M57," ")
A58: =IF(OR(ISNUMBER(B58),ISNUMBER(C58)),A57+1, " ") | L58: =IF($K58="I","(1)",IF($K58="S","(1)",IF($K58="MP","(2)",IF($K58="CM","(3)"," ")))) | Q58: =IF($K58="I",$M58,"") | R58: =IF($K58="S",$M58,"") | S58: =IF($K58="MP",$M58,"") | T58: =IF($K58="CM",$M58,"") | V58: =IF($K58="I",IF(O58="N",$M58,"")," ") | W58: =IF($K58="S",IF(O58="N",$M58,"")," ") | Z58: =IF(N58="N",M58," ")
A59: =IF(OR(ISNUMBER(B59),ISNUMBER(C59)),A58+1, " ") | L59: =IF($K59="I","(1)",IF($K59="S","(1)",IF($K59="MP","(2)",IF($K59="CM","(3)"," ")))) | Q59: =IF($K59="I",$M59,"") | R59: =IF($K59="S",$M59,"") | S59: =IF($K59="MP",$M59,"") | T59: =IF($K59="CM",$M59,"") | V59: =IF($K59="I",IF(O59="N",$M59,"")," ") | W59: =IF($K59="S",IF(O59="N",$M59,"")," ") | Z59: =IF(N59="N",M59," ")
A60: =IF(OR(ISNUMBER(B60),ISNUMBER(C60)),A59+1, " ") | L60: =IF($K60="I","(1)",IF($K60="S","(1)",IF($K60="MP","(2)",IF($K60="CM","(3)"," ")))) | Q60: =IF($K60="I",$M60,"") | R60: =IF($K60="S",$M60,"") | S60: =IF($K60="MP",$M60,"") | T60: =IF($K60="CM",$M60,"") | V60: =IF($K60="I",IF(O60="N",$M60,"")," ") | W60: =IF($K60="S",IF(O60="N",$M60,"")," ") | Z60: =IF(N60="N",M60," ")
A61: =IF(OR(ISNUMBER(B61),ISNUMBER(C61)),A60+1, " ") | L61: =IF($K61="I","(1)",IF($K61="S","(1)",IF($K61="MP","(2)",IF($K61="CM","(3)"," ")))) | Q61: =IF($K61="I",$M61,"") | R61: =IF($K61="S",$M61,"") | S61: =IF($K61="MP",$M61,"") | T61: =IF($K61="CM",$M61,"") | V61: =IF($K61="I",IF(O61="N",$M61,"")," ") | W61: =IF($K61="S",IF(O61="N",$M61,"")," ") | Z61: =IF(N61="N",M61," ")
A62: =IF(OR(ISNUMBER(B62),ISNUMBER(C62)),A61+1, " ") | L62: =IF($K62="I","(1)",IF($K62="S","(1)",IF($K62="MP","(2)",IF($K62="CM","(3)"," ")))) | Q62: =IF($K62="I",$M62,"") | R62: =IF($K62="S",$M62,"") | S62: =IF($K62="MP",$M62,"") | T62: =IF($K62="CM",$M62,"") | V62: =IF($K62="I",IF(O62="N",$M62,"")," ") | W62: =IF($K62="S",IF(O62="N",$M62,"")," ") | Z62: =IF(N62="N",M62," ")
A63: =IF(OR(ISNUMBER(B63),ISNUMBER(C63)),A62+1, " ") | L63: =IF($K63="I","(1)",IF($K63="S","(1)",IF($K63="MP","(2)",IF($K63="CM","(3)"," ")))) | Q63: =IF($K63="I",$M63,"") | R63: =IF($K63="S",$M63,"") | S63: =IF($K63="MP",$M63,"") | T63: =IF($K63="CM",$M63,"") | V63: =IF($K63="I",IF(O63="N",$M63,"")," ") | W63: =IF($K63="S",IF(O63="N",$M63,"")," ") | Z63: =IF(N63="N",M63," ")
A64: =IF(OR(ISNUMBER(B64),ISNUMBER(C64)),A63+1, " ") | L64: =IF($K64="I","(1)",IF($K64="S","(1)",IF($K64="MP","(2)",IF($K64="CM","(3)"," ")))) | Q64: =IF($K64="I",$M64,"") | R64: =IF($K64="S",$M64,"") | S64: =IF($K64="MP",$M64,"") | T64: =IF($K64="CM",$M64,"") | V64: =IF($K64="I",IF(O64="N",$M64,"")," ") | W64: =IF($K64="S",IF(O64="N",$M64,"")," ") | Z64: =IF(N64="N",M64," ")
A65: =IF(OR(ISNUMBER(B65),ISNUMBER(C65)),A64+1, " ") | L65: =IF($K65="I","(1)",IF($K65="S","(1)",IF($K65="MP","(2)",IF($K65="CM","(3)"," ")))) | Q65: =IF($K65="I",$M65,"") | R65: =IF($K65="S",$M65,"") | S65: =IF($K65="MP",$M65,"") | T65: =IF($K65="CM",$M65,"") | V65: =IF($K65="I",IF(O65="N",$M65,"")," ") | W65: =IF($K65="S",IF(O65="N",$M65,"")," ") | Z65: =IF(N65="N",M65," ")
A66: =IF(OR(ISNUMBER(B66),ISNUMBER(C66)),A65+1, " ") | L66: =IF($K66="I","(1)",IF($K66="S","(1)",IF($K66="MP","(2)",IF($K66="CM","(3)"," ")))) | Q66: =IF($K66="I",$M66,"") | R66: =IF($K66="S",$M66,"") | S66: =IF($K66="MP",$M66,"") | T66: =IF($K66="CM",$M66,"") | V66: =IF($K66="I",IF(O66="N",$M66,"")," ") | W66: =IF($K66="S",IF(O66="N",$M66,"")," ") | Z66: =IF(N66="N",M66," ")
... A78: =IF(OR(ISNUMBER(B78),ISNUMBER(C78)),A77+1, " ") | L78: =IF($K78="I","(1)",IF($K78="S","(1)",IF($K78="MP","(2)",IF($K78="CM","(3)"," ")))) | Q78: =IF($K78="I",$M78,"") | R78: =IF($K78="S",$M78,"") | S78: =IF($K78="MP",$M78,"") | T78: =IF($K78="CM",$M78,"") | V78: =IF($K78="I",IF(O78="N",$M78,"")," ") | W78: =IF($K78="S",IF(O78="N",$M78,"")," ") | Z78: =IF(N78="N",M78," ")
A79: =IF(OR(ISNUMBER(B79),ISNUMBER(C79)),A78+1, " ") | L79: =IF($K79="I","(1)",IF($K79="S","(1)",IF($K79="MP","(2)",IF($K79="CM","(3)"," ")))) | Q79: =IF($K79="I",$M79,"") | R79: =IF($K79="S",$M79,"") | S79: =IF($K79="MP",$M79,"") | T79: =IF($K79="CM",$M79,"") | V79: =IF($K79="I",IF(O79="N",$M79,"")," ") | W79: =IF($K79="S",IF(O79="N",$M79,"")," ")
A80: =IF(OR(ISNUMBER(B80),ISNUMBER(C80)),A79+1, " ") | L80: =IF($K80="I","(1)",IF($K80="S","(1)",IF($K80="MP","(2)",IF($K80="CM","(3)"," ")))) | Q80: =IF($K80="I",$M80,"") | R80: =IF($K80="S",$M80,"") | S80: =IF($K80="MP",$M80,"") | T80: =IF($K80="CM",$M80,"") | V80: =IF($K80="I",IF(O80="N",$M80,"")," ") | W80: =IF($K80="S",IF(O80="N",$M80,"")," ") | Z80: =IF(N80="N",M80," ")
A81: =IF(OR(ISNUMBER(B81),ISNUMBER(C81)),A80+1, " ") | L81: =IF($K81="I","(1)",IF($K81="S","(1)",IF($K81="MP","(2)",IF($K81="CM","(3)"," ")))) | Q81: =IF($K81="I",$M81,"") | R81: =IF($K81="S",$M81,"") | S81: =IF($K81="MP",$M81,"") | T81: =IF($K81="CM",$M81,"") | V81: =IF($K81="I",IF(O81="N",$M81,"")," ") | W81: =IF($K81="S",IF(O81="N",$M81,"")," ") | Z81: =IF(N81="N",M81," ")
A82: =IF(OR(ISNUMBER(B82),ISNUMBER(C82)),A81+1, " ") | L82: =IF($K82="I","(1)",IF($K82="S","(1)",IF($K82="MP","(2)",IF($K82="CM","(3)"," ")))) | Q82: =IF($K82="I",$M82,"") | R82: =IF($K82="S",$M82,"") | S82: =IF($K82="MP",$M82,"") | T82: =IF($K82="CM",$M82,"") | V82: =IF($K82="I",IF(O82="N",$M82,"")," ") | W82: =IF($K82="S",IF(O82="N",$M82,"")," ") | Z82: =IF(N82="N",M82," ")
A83: =IF(OR(ISNUMBER(B83),ISNUMBER(C83)),A82+1, " ") | L83: =IF($K83="I","(1)",IF($K83="S","(1)",IF($K83="MP","(2)",IF($K83="CM","(3)"," ")))) | Q83: =IF($K83="I",$M83,"") | R83: =IF($K83="S",$M83,"") | S83: =IF($K83="MP",$M83,"") | T83: =IF($K83="CM",$M83,"") | V83: =IF($K83="I",IF(O83="N",$M83,"")," ") | W83: =IF($K83="S",IF(O83="N",$M83,"")," ") | Z83: =IF(N83="N",M83," ")
A84: =IF(OR(ISNUMBER(B84),ISNUMBER(C84)),A83+1, " ") | L84: =IF($K84="I","(1)",IF($K84="S","(1)",IF($K84="MP","(2)",IF($K84="CM","(3)"," ")))) | Q84: =IF($K84="I",$M84,"") | R84: =IF($K84="S",$M84,"") | S84: =IF($K84="MP",$M84,"") | T84: =IF($K84="CM",$M84,"") | V84: =IF($K84="I",IF(O84="N",$M84,"")," ") | W84: =IF($K84="S",IF(O84="N",$M84,"")," ") | Z84: =IF(N84="N",M84," ")
A85: =IF(OR(ISNUMBER(B85),ISNUMBER(C85)),A84+1, " ") | L85: =IF($K85="I","(1)",IF($K85="S","(1)",IF($K85="MP","(2)",IF($K85="CM","(3)"," ")))) | Q85: =IF($K85="I",$M85,"") | R85: =IF($K85="S",$M85,"") | S85: =IF($K85="MP",$M85,"") | T85: =IF($K85="CM",$M85,"") | V85: =IF($K85="I",IF(O85="N",$M85,"")," ") | W85: =IF($K85="S",IF(O85="N",$M85,"")," ") | Z85: =IF(N85="N",M85," ")
A86: =IF(OR(ISNUMBER(B86),ISNUMBER(C86)),A85+1, " ") | L86: =IF($K86="I","(1)",IF($K86="S","(1)",IF($K86="MP","(2)",IF($K86="CM","(3)"," ")))) | Q86: =IF($K86="I",$M86,"") | R86: =IF($K86="S",$M86,"") | S86: =IF($K86="MP",$M86,"") | T86: =IF($K86="CM",$M86,"") | V86: =IF($K86="I",IF(O86="N",$M86,"")," ") | W86: =IF($K86="S",IF(O86="N",$M86,"")," ") | Z86: =IF(N86="N",M86," ")
A87: =IF(OR(ISNUMBER(B87),ISNUMBER(C87)),A86+1, " ") | L87: =IF($K87="I","(1)",IF($K87="S","(1)",IF($K87="MP","(2)",IF($K87="CM","(3)"," ")))) | Q87: =IF($K87="I",$M87,"") | R87: =IF($K87="S",$M87,"") | S87: =IF($K87="MP",$M87,"") | T87: =IF($K87="CM",$M87,"") | V87: =IF($K87="I",IF(O87="N",$M87,"")," ") | W87: =IF($K87="S",IF(O87="N",$M87,"")," ") | Z87: =IF(N87="N",M87," ")
...

Sheet 4.0 Results Page
A1: 4.0 DE MINIMIS COST WAIVER RESULTS WORKSHEET
A3: Instructions: This form will be populated by data entered in sheets 1.0 to 3.0
B5: Local Public Agency: | D5: ='1.0 De Minimis Request'!F6 -> 0
B6: Local Agency Proj. No. | D6: ='1.0 De Minimis Request'!F7 -> 0
B7: Federal Contract No. | D7: ='1.0 De Minimis Request'!F8 -> 0
B8: Project Name | D8: ='1.0 De Minimis Request'!F9 -> 0
B9: Project Description | D9: ='1.0 De Minimis Request'!F10 -> 0
B10: Project Location | D10: ='1.0 De Minimis Request'!F11 -> 0
B11: Prime Contractor: | D11: ='1.0 De Minimis Request'!F12 -> 0
B12: Contract Award Amt. | D12: ='1.0 De Minimis Request'!F13 -> 0
B13: Agency Furnish Material | D13: =Agncy_Furn_Matrl -> No AFM
B14: Request Iteration | D14: =Reqst_Itrtn -> 0
B15: Comments: | D15: ='1.0 De Minimis Request'!F16 -> 0
B16: CO Amount (if applicable) | D16: ='1.0 De Minimis Request'!F17 -> 0
B18: With respect to exceptions for products made in the United States, our company elects to request a De Minimis Waiver for the following material types per Contract Specifications:
C21: Materials | G21: Counts
C22: Category (1) Iron or Steel Products | G22: ='3.0 De Minimis Calculations '!F174 -> 0
C23: Category (2) Manufactured Products | G23: ='3.0 De Minimis Calculations '!F175 -> 0
C24: Category (3) Construction Materials | G24: ='3.0 De Minimis Calculations '!F176 -> 0
C25: Total Applicable Material Entries | G25: ='3.0 De Minimis Calculations '!F177 -> 0
C27: Original Contract Amount | G27: ='1.0 De Minimis Request'!F13 -> 0
C28: No. of Change Orders to Date | G28: =MAX('3.0 De Minimis Calculations '!C54:'3.0 De Minimis Calculations '!C170) -> 0
C29: No. of Change Orders to Date (Buy America) | G29: 3
C30: Total CO Amount | G30: ='3.0 De Minimis Calculations '!I172 -> 0
C33: Calculated De Minimis Amount NC (MP+CM) | G33: =MP_CM_Waiver -> 0 | H33: Actual De Minimis Value NC (MP+CM) | L33: =MPCM_No_Crt -> 0
C34: Calculated De Minimis Amount I + S | G34: =IF(ISTEXT(I_or_S_Waiver),0,I_or_S_Waiver) -> 0 | H34: Actual De Minimis Value NC (I + S) | L34: =IS_No_Crt -> 0
C36: De Minimis Cost Waiver Run Log
C37: Run Reason | G37: Run Amount ($) | I37: Run Amount ($)
C38: Initial Request, CO, etc.. (Description) | G38: Manufactured Product & Construction Materials | I38: Iron or Steel | K38: Date
B39: 1
B40: 2
B41: 3
B42: 4
B43: 5
B44: 6
B45: 7
B46: 8
B47: 9
B48: 10
B49: 11
...
