Workbook
Name AFM: '3.0 De Minimis Calculations '!$F$181
Name Agncy_Furn_Matrl: '1.0 De Minimis Request'!$F$14
Name Calc_NC: '3.0 De Minimis Calculations '!$F$184
Name Fed_Cont_No: '1.0 De Minimis Request'!$F$8
Name I_or_S_Waiver: '3.0 De Minimis Calculations '!$K$186
Name IS_No_Crt: '3.0 De Minimis Calculations '!$F$188
Name LPA_Name: '1.0 De Minimis Request'!$F$6
Name LPA_Proj_No: '1.0 De Minimis Request'!$F$7
Name LPA_RE_Name: '1.0 De Minimis Request'!$G$55
Name MP_CM: '3.0 De Minimis Calculations '!$F$183
Name MP_CM_Waiver: '3.0 De Minimis Calculations '!$K$180
Name MPCM_No_Crt: '3.0 De Minimis Calculations '!$F$185
Name Prime_Cont: '1.0 De Minimis Request'!$F$12
Name Prime_Cont_Rep: '1.0 De Minimis Request'!$G$52
Name Prm_Cont_Sig: '1.0 De Minimis Request'!$G$53
Name Proj_Descptn: '1.0 De Minimis Request'!$F$10
Name Proj_Loc: '1.0 De Minimis Request'!$F$11
Name Proj_Name: '1.0 De Minimis Request'!$F$9
Name Reqst_Itrtn: '1.0 De Minimis Request'!$F$15
Name Rqst_Date: '1.0 De Minimis Request'!$L$53
Name TA_AFM: '3.0 De Minimis Calculations '!$F$182
Name TA_PI_CO: '3.0 De Minimis Calculations '!$F$180
Name Total_AFM: '2.0 Agency Furnished Materials'!$J$41
Name Total_AFM_CM: '2.0 Agency Furnished Materials'!$O$42
Name Total_AFM_I: '2.0 Agency Furnished Materials'!$L$42
Name Total_AFM_MP: '2.0 Agency Furnished Materials'!$N$42
Name Total_AFM_S: '2.0 Agency Furnished Materials'!$M$42
Name Total_CO_Cost: '3.0 De Minimis Calculations '!$I$172
Name Total_Con_Cost: '3.0 De Minimis Calculations '!$H$172
Name Total_I_S: '3.0 De Minimis Calculations '!$F$186
Name Total_I_S_Wvr: '3.0 De Minimis Calculations '!$F$187

Sheet Instruction Page
B1: Instructions for De Minimis Cost Waiver Worksheet
B2: De Minimus Cost Waiver for Manufactured Products and Construction Materials
B3: A De Minimis Costs waiver can waive the application of FHWA's Buy America requirements for manufactured products and construction materials under a single project when the total cost of non-compliant manufactured products and construction materials is no more than the lesser of $1,000,000 or 5 percent of the total applicable costs for the project.
B8: De Minimus Cost Waiver for Iron or Steel Products
B9: In Addition to the De Minimis allowance for manufactured products and construction materials the use of foreign iron or steel can be allowed when the cost of such foreign iron or steel is the greater of 0.1% of the contract cost at award or $2,500.
B12: These worksheets are designed to assist in the calculation of those allowable foreign materials and is to be used to track the information in the event of audit and must be keep in the project files.
B14: Notes:
B16: All supporting documentation for each Pay Item and Change Orders with materials subject to Buy America requirements must be sent with this request to be considered for approval. i.e. invoices for the materials including cost of transportation to the project location and Buy America Certificates of Compliance and Mill Certificates for Iron or Steel products.
B18: These worksheets are to be completed by the Prime Contractor making the De Minimis Request with some assistance and information provided by the Local Agency Resident Engineer.
B19: They are to be used in conjunction with the project specifications' Buy America requirements.
B21: The request for the De Minimis Cost Waiver must be completed and submitted to the Local Agency Resident Engineer with supporting documentation for review and approval prior to delivering any materials subject to Buy America requirements to the project.
B23: Cells that are not shaded are locked and can not be edited | M23: (example)
B24: Cells shaded in grey are for data entry, some will automatically shade in yellow when data is entered. | M24: (example) | O24: Data
B25: For sheet 3.0 De Minimis Calculation some cells will have to be manually shaded yellow by the user for clarity. | M25: (example)
B27: Step 1: 1.0 DE MINIMIS COST WAIVER REQUEST WORKSHEET
B29: Prime Contractor is to fill out sheet 2.0 De Minimis Cost Waiver Request Worksheet
B31: Enter Project information in the worksheet
B33: There are three Categories for Buy America material classifications that can be selected to be considered to be considered for a De Minimis Cost Waiver
C36: 1. Iron or Steel Products
C37: 2. Manufactured Products
C38: 3. Construction Materials
B40: Check box in each Category for the Applicable Materials requested for consideration in invoking a De Minimis Cost Waiver.
B42: Notes:
B43: Some contract pay items or Change Order Materials may fall into more than one category
B44: This sheet must be revisited and returned to the Resident Engineer if a change order alters the total contract amount
B109: See 1.0 De Minimis Cost Waiver Request Worksheet for more detailed instructions.
B110: Step 2 : 2.0 AGENCY FURNISHED MATERIALS WORKSHEET
B112: Prime Contractor must enter Agency Furnished Material(s) information in sheet 2.0 Agency Furnished Materials Worksheet.
B113: Agency is to provide Agency Furnished Material Costs information to Prime Contractor for completion of 2.0 Agency Furnished Materials Worksheet.
B115: Agency Furnished Material will be factored in the De Minimis Calculations and decrease the allowable total value that can be claimed as Non-Compliant Manufactured Products or Construction Materials
B117: If there are no Agency Furnished Materials that fall into the 3 Categories then this sheet can be left blank with no data entered. The Agency Furnished Materials value on the De Minimus Request and the Results Worksheets will automatically populated their respective cells as "No Agency Furnished Materials"
B140: See 2.0 Agency Furnished Materials Worksheet for more detailed instructions on how to enter the values and account for Agency Furnished Materials in the De Minimis Calculations.
B142: Step 3: 3.0 DE MINIMIS CALCULATIONS WORKSHEET
... B184: 1. The allowable Non-Compliant Material Cost (5%) Threshold for Manufactured Products and Construction Materials
C220: Example:
B253: 2. The allowable Non-Compliant Material Cost (0.1% ) for Iron or Steel Products
B268: See 3.0 De Minimis Calculation Worksheet for more detailed instructions on how to enter the values and account for De Minimis Calculation values.
B272: Step 5: 4.0 RESULTS PAGE
B274: This Results Page is intended to document and track the initial request for De Minimis Waiver and any subsequent requests through Change Orders during the Construction Phase of the Contract.
B277: The Results Page also has a table to log all requests from initial request and any subsequent request made due to Change Orders
B279: Nearly all the information on the Results Page is prepopulated from information entered on sheet 1.0 , 2.0 and 3.0
B281: All sheets must be printed and place in the project files in the event of an audit as request are made, reviewed and approved along with the required supporting documentation e.g. Invoices including transportation costs and Buy America Certificates of Compliance and Mill Certificates for Iron or Steel products.
L354: Last Revised on | N354: 46043

Sheet 1.0 De Minimis Request
B1: 1.0 DE MINIMIS COST WAIVER REQUEST WORKSHEET
C3: Instructions: This form is to be completed by the Contractor and submitted to the Local Agency Resident Engineer early in the project to be considered for approval. Fill out the grey shaded cells and check all boxes under Categories that apply to this request.
D6: Local Public Agency:
D7: Local Agency Proj. No.
D8: Federal Contract No.
D9: Project Name
D10: Project Description
D11: Project Location
D12: Prime Contractor:
D13: Contract Award Amt.
D14: Agency Furnish Material | F14: =IF('2.0 Agency Furnished Materials'!J41=0,"No Agency Furnished Materials",'2.0 Agency Furnished Materials'!J41) -> No AFM
D15: Request Iteration
D16: Comments:
D17: CO Amount (if applicable)
D19: With respect to exceptions for products made in the United States, our company elects to request a De Minimis Waiver for the following material types per Contract Specifications:
E22: Category (1) Iron or Steel Products
F24: Iron
F26: Steel
E28: Category (2) Manufactured Products
F30: Manufactured Products
E32: Category (3) Construction Materials
F34: Non-ferrous metals
F36: Plastic and polymer-based products (including polyvinylchloride, composite building materials, and polymers used in fiber optic cables)
F39: Glass (including optic glass)
F41: Fiber optic cable (including drop cable)
F43: Optical fiber
F45: Lumber
F47: Engineered wood
F49: Drywall
C52: Prime Contractor Representative (Name)
C53: Prime Contractor Representative (Signature) | K53: Date
C55: Local Public Agency: Resident Engineer
C56: Distribution: | G56: Prime Contractor, RE, Project Files
J58: Last Revised on | L58: ='Instruction Page'!$N$354 -> 46043

Sheet 2.0 Agency Furnished Materials
B1: 2.0 AGENCY FURNISHED MATERIAL WORKSHEET
B3: Instructions: Enter Agency Furnished Materials subject to Buy America below
B4: This form is to be completed by the Prime Contractor or the Local Agency prior to completing the remaining worksheets.
B5: This form must also be updated by the Prime Contractor if a CO involves additional agency furnished material.
B7: Note: If there are no Agency Furnished Materials on the project do not enter any data. This from can be left blank.
B9: For Agency Furnished Material(s)/Items
B10: 1. Columns A-G: Enter pay item No., Description, Unit, Qty, Unit Price and Amount for the project in the grey shaded cells.
B11: Once data in entered the cells will automatically be shaded yellow.
B12: 2. Column H: Select from pull down the Material Type: I: Iron, S: Steel, MP: Manufactured Product, CM: Construction Materials.
B13: Column I: Will automatically populate based entry in Column I as (1) for Iron, (1) for Steel, (2) for Manufactured Product, and (3) for Construction Materials.
B14: 3. Column J: Enter the Applicable Material Cost (including transportation) subject to Buy America. Must be accompanied by Buy America Certificate of Compliance and Mill Test Reports for Iron or Steel Products and be placed in the project files.
B15: Note: If the cost of Iron or Steel of a product is greater than 50% of a the cost of a product then the product would fall into Iron or Steel category and not a Manufactured Product.
... B17: 4. Columns L-O: Will automatically populate based on data entered in Columns H & J.
B18: AGENCY FURNISHED MATERIAL CONTRACT (ITEM/CO) LIST TABLE | L18: CATEGORY TABLE I, S, CM, MP
B19: Item No. | C19: Item Description | D19: Unit | E19: Quantity | F19: Price | G19: Amount | H19: Material Type I, S, MP, CM | I19: Category Type (1,2,3) | J19: Applicable Material Costs (including transportation) | L19: I | M19: S | N19: MP | O19: CM
I20: =IF($H20="I","(1)",IF($H20="S","(1)",IF($H20="MP","(2)",IF($H20="CM","(3)"," ")))) | L20: =IF($H20="I",$J20,"") | M20: =IF($H20="S",$J20,"") | N20: =IF($H20="MP",$J20,"") | O20: =IF($H20="CM",$J20,"")
I21: =IF($H21="S","(1)",IF($H21="I","(1)",IF($H21="CM","(2)",IF($H21="MP","(3)"," ")))) | L21: =IF($H21="I",$J21,"") | M21: =IF($H21="S",$J21,"") | N21: =IF($H21="MP",$J21,"") | O21: =IF($H21="CM",$J21,"")
I22: =IF($H22="S","(1)",IF($H22="I","(1)",IF($H22="CM","(2)",IF($H22="MP","(3)"," ")))) | L22: =IF($H22="I",$J22,"") | M22: =IF($H22="S",$J22,"") | N22: =IF($H22="MP",$J22,"") | O22: =IF($H22="CM",$J22,"")
I23: =IF($H23="S","(1)",IF($H23="I","(1)",IF($H23="CM","(2)",IF($H23="MP","(3)"," ")))) | L23: =IF($H23="I",$J23,"") | M23: =IF($H23="S",$J23,"") | N23: =IF($H23="MP",$J23,"") | O23: =IF($H23="CM",$J23,"")
I24: =IF($H24="S","(1)",IF($H24="I","(1)",IF($H24="CM","(2)",IF($H24="MP","(3)"," ")))) | L24: =IF($H24="I",$J24,"") | M24: =IF($H24="S",$J24,"") | N24: =IF($H24="MP",$J24,"") | O24: =IF($H24="CM",$J24,"")
I25: =IF($H25="S","(1)",IF($H25="I","(1)",IF($H25="CM","(2)",IF($H25="MP","(3)"," ")))) | L25: =IF($H25="I",$J25,"") | M25: =IF($H25="S",$J25,"") | N25: =IF($H25="MP",$J25,"") | O25: =IF($H25="CM",$J25,"")
I26: =IF($H26="S","(1)",IF($H26="I","(1)",IF($H26="CM","(2)",IF($H26="MP","(3)"," ")))) | L26: =IF($H26="I",$J26,"") | M26: =IF($H26="S",$J26,"") | N26: =IF($H26="MP",$J26,"") | O26: =IF($H26="CM",$J26,"")
I27: =IF($H27="S","(1)",IF($H27="I","(1)",IF($H27="CM","(2)",IF($H27="MP","(3)"," ")))) | L27: =IF($H27="I",$J27,"") | M27: =IF($H27="S",$J27,"") | N27: =IF($H27="MP",$J27,"") | O27: =IF($H27="CM",$J27,"")
I28: =IF($H28="S","(1)",IF($H28="I","(1)",IF($H28="CM","(2)",IF($H28="MP","(3)"," ")))) | L28: =IF($H28="I",$J28,"") | M28: =IF($H28="S",$J28,"") | N28: =IF($H28="MP",$J28,"") | O28: =IF($H28="CM",$J28,"")
I29: =IF($H29="S","(1)",IF($H29="I","(1)",IF($H29="CM","(2)",IF($H29="MP","(3)"," ")))) | L29: =IF($H29="I",$J29,"") | M29: =IF($H29="S",$J29,"") | N29: =IF($H29="MP",$J29,"") | O29: =IF($H29="CM",$J29,"")
I30: =IF($H30="S","(1)",IF($H30="I","(1)",IF($H30="CM","(2)",IF($H30="MP","(3)"," ")))) | L30: =IF($H30="I",$J30,"") | M30: =IF($H30="S",$J30,"") | N30: =IF($H30="MP",$J30,"") | O30: =IF($H30="CM",$J30,"")
I31: =IF($H31="S","(1)",IF($H31="I","(1)",IF($H31="CM","(2)",IF($H31="MP","(3)"," ")))) | L31: =IF($H31="I",$J31,"") | M31: =IF($H31="S",$J31,"") | N31: =IF($H31="MP",$J31,"") | O31: =IF($H31="CM",$J31,"")
I32: =IF($H32="S","(1)",IF($H32="I","(1)",IF($H32="CM","(2)",IF($H32="MP","(3)"," ")))) | L32: =IF($H32="I",$J32,"") | M32: =IF($H32="S",$J32,"") | N32: =IF($H32="MP",$J32,"") | O32: =IF($H32="CM",$J32,"")
... I39: =IF($H39="S","(1)",IF($H39="I","(1)",IF($H39="CM","(2)",IF($H39="MP","(3)"," ")))) | L39: =IF($H39="I",$J39,"") | M39: =IF($H39="S",$J39,"") | N39: =IF($H39="MP",$J39,"") | O39: =IF($H39="CM",$J39,"")
H40: Total Agency Furnished Materials: | L40: Total Agency Furnished Materials Subtotals by Category:
J41: =IF(SUM(J20:J39)=0,"No AFM",SUM(J20:J39)) -> No AFM | L41: I | M41: S | N41: MP | O41: CM
L42: =SUM(L20:L39) -> 0 | M42: =SUM(M20:M39) -> 0 | N42: =SUM(N20:N39) -> 0 | O42: =SUM(O20:O39) -> 0
M44: Last Revised on | N44: ='Instruction Page'!$N$354 -> 46043
Q108: =SUM(N42:O42) -> 0

Sheet 3.0 De Minimis Calculations 
B1: 3.0 DE MINIMIS COST WAIVER CALCULATION WORKSHEET
B3: Instructions: This form is to be completed by the Contractor and submitted to the RE early in the project to be considered for approval
B4: Note: All supporting documentation for each Pay Item and Change Orders with materials subject to Buy America requirements must be sent with this with this request to be considered for approval. i.e. invoices for the materials including cost of transportation to the project location.
B6: For Contract Pay Items:
B7: 1. Columns B & D-H: Enter the contract pay item No., Description, Unit, Qty, Unit Price and Amount for the project in the grey shaded cells.
B9: For (Child Items) of Contract Pay Items (Parent Items)
B10: In the case of Pay Items that have more than one category of Buy America material applicable to them, use additional rows with a description of the type of the applicable material and note (Child Items)
B11: Examples of Child Items are typically associated with Signal Modification Items, Precast Concrete Items (Iron or Steel and Manufactured Products) Intelligent Transportation Systems (ITS) and other electrical hardware systems and some LS Items.
B12: Note: If the cost of Iron or Steel of a product is greater than 50% of a the cost of a product then the product would fall into Iron or Steel category and not a Manufactured Product.
B13: Exception: Products such precast products and ITS or other electrical hardware systems must meet the requirements of both Iron or Steel and Manufactured Products regardless of the amount of Iron or Steel used in the product.
B14: Columns B & D-F: Data must be entered, but Columns G & H should be left blank/grey in the case of Child Items.
B16: 2. Manually delineate/shade line items subject to Buy America (Columns B & D-H) for Pay Items and (Columns B & D-F) for Child Items with yellow background color.
... B47: C. If a Change Order involves no applicable Buy America Materials the cost of the Change Order must still be accounted for whether there is an increase or decrease in the project amount.
B48: Enter the Change Order information Columns C & D-H, If No Buy America Materials associated with the Change Order then in Column D Instead of Pay Item (Child Item)/CO (Materials) Descriptions enter " No Buy America Materials this CO (State Reason for CO)" | Q48: Cells in these tables are Pre-Populated based on values entered in the Contract (Pay Item/CO) List Table
B49: Reason Examples (R/W Delay), (Additional Flagging), (Additional Temporary Signs), etc.
B51: CONTRACT (PAY ITEM/CO) LIST TABLE | Q51: CATEGORY TABLE I, S, CM, MP | V51: CATEGORY TABLE I or S
A53: No. | B53: Pay Item No. | C53: CO No. | D53: Pay Item (Child Item)/CO (Materials) Descriptions | E53: Unit | F53: Quantity | G53: Unit Price Item | H53: Amount (Pay Items) | I53: CO Amount | J53: Material Description (Examples: Rebar, PVC Pipe, Iron Grate, Glass Beads, Thermo/Paint, Wood Posts, or Manufactured Product, etc.) | K53: Material Type I, S, MP, CM | L53: Category Type (1,2,3) | M53: Applicable Material Costs (including transportation) (Amount(s)) | N53: Manufactured Product (MP) or Construction Material (CM) (BA-Cert) (Y/N) | O53: Iron (I) or Steel (S) (BA/Mill Cert) (Y/N) | Q53: I | R53: S | S53: MP | T53: CM | V53: I | W53: S
A54: 1 | L54: =IF($K54="I","(1)",IF($K54="S","(1)",IF($K54="MP","(2)",IF($K54="CM","(3)"," ")))) | Q54: =IF($K54="I",$M54,"") | R54: =IF($K54="S",$M54,"") | S54: =IF($K54="MP",$M54,"") | T54: =IF($K54="CM",$M54,"") | V54: =IF($K54="I",IF(O54="N",$M54,"")," ") | W54: =IF($K54="S",IF(O54="N",$M54,"")," ") | Z54: =IF(N54="N",M54," ")
A55: =IF(OR(ISNUMBER(B55),ISNUMBER(C55)),A54+1, " ") | L55: =IF($K55="I","(1)",IF($K55="S","(1)",IF($K55="MP","(2)",IF($K55="CM","(3)"," ")))) | Q55: =IF($K55="I",$M55,"") | R55: =IF($K55="S",$M55,"") | S55: =IF($K55="MP",$M55,"") | T55: =IF($K55="CM",$M55,"") | V55: =IF($K55="I",IF(O55="N",$M55,"")," ") | W55: =IF($K55="S",IF(O55="N",$M55,"")," ") | Z55: =IF(N55="N",M55," ")
A56: =IF(OR(ISNUMBER(B56),ISNUMBER(C56)),A55+1, " ") | L56: =IF($K56="I","(1)",IF($K56="S","(1)",IF($K56="MP","(2)",IF($K56="CM","(3)"," ")))) | Q56: =IF($K56="I",$M56,"") | R56: =IF($K56="S",$M56,"") | S56: =IF($K56="MP",$M56,"") | T56: =IF($K56="CM",$M56,"") | V56: =IF($K56="I",IF(O56="N",$M56,"")," ") | W56: =IF($K56="S",IF(O56="N",$M56,"")," ") | Z56: =IF(N56="N",M56," ")
A57: =IF(OR(ISNUMBER(B57),ISNUMBER(C57)),A56+1, " ") | L57: =IF($K57="I","(1)",IF($K57="S","(1)",IF($K57="MP","(2)",IF($K57="CM","(3)"," ")))) | Q57: =IF($K57="I",$M57,"") | R57: =IF($K57="S",$M57,"") | S57: =IF($K57="MP",$M57,"") | T57: =IF($K57="CM",$M57,"") | V57: =IF($K57="I",IF(O57="N",$M57,"")," ") | W57: =IF($K57="S",IF(O57="N",$M57,"")," ") | Z57: =IF(N57="N",M57," ")
A58: =IF(OR(ISNUMBER(B58),ISNUMBER(C58)),A57+1, " ") | L58: =IF($K58="I","(1)",IF($K58="S","(1)",IF($K58="MP","(2)",IF($K58="CM","(3)"," ")))) | Q58: =IF($K58="I",$M58,"") | R58: =IF($K58="S",$M58,"") | S58: =IF($K58="MP",$M58,"") | T58: =IF($K58="CM",$M58,"") | V58: =IF($K58="I",IF(O58="N",$M58,"")," ") | W58: =IF($K58="S",IF(O58="N",$M58,"")," ") | Z58: =IF(N58="N",M58," ")
A59: =IF(OR(ISNUMBER(B59),ISNUMBER(C59)),A58+1, " ") | L59: =IF($K59="I","(1)",IF($K59="S","(1)",IF($K59="MP","(2)",IF($K59="CM","(3)"," ")))) | Q59: =IF($K59="I",$M59,"") | R59: =IF($K59="S",$M59,"") | S59: =IF($K59="MP",$M59,"") | T59: =IF($K59="CM",$M59,"") | V59: =IF($K59="I",IF(O59="N",$M59,"")," ") | W59: =IF($K59="S",IF(O59="N",$M59,"")," ") | Z59: =IF(N59="N",M59," ")
A60: =IF(OR(ISNUMBER(B60),ISNUMBER(C60)),A59+1, " ") | L60: =IF($K60="I","(1)",IF($K60="S","(1)",IF($K60="MP","(2)",IF($K60="CM","(3)"," ")))) | Q60: =IF($K60="I",$M60,"") | R60: =IF($K60="S",$M60,"") | S60: =IF($K60="MP",$M60,"") | T60: =IF($K60="CM",$M60,"") | V60: =IF($K60="I",IF(O60="N",$M60,"")," ") | W60: =IF($K60="S",IF(O60="N",$M60,"")," ") | Z60: =IF(N60="N",M60," ")
A61: =IF(OR(ISNUMBER(B61),ISNUMBER(C61)),A60+1, " ") | L61: =IF($K61="I","(1)",IF($K61="S","(1)",IF($K61="MP","(2)",IF($K61="CM","(3)"," ")))) | Q61: =IF($K61="I",$M61,"") | R61: =IF($K61="S",$M61,"") | S61: =IF($K61="MP",$M61,"") | T61: =IF($K61="CM",$M61,"") | V61: =IF($K61="I",IF(O61="N",$M61,"")," ") | W61: =IF($K61="S",IF(O61="N",$M61,"")," ") | Z61: =IF(N61="N",M61," ")
A62: =IF(OR(ISNUMBER(B62),ISNUMBER(C62)),A61+1, " ") | L62: =IF($K62="I","(1)",IF($K62="S","(1)",IF($K62="MP","(2)",IF($K62="CM","(3)"," ")))) | Q62: =IF($K62="I",$M62,"") | R62: =IF($K62="S",$M62,"") | S62: =IF($K62="MP",$M62,"") | T62: =IF($K62="CM",$M62,"") | V62: =IF($K62="I",IF(O62="N",$M62,"")," ") | W62: =IF($K62="S",IF(O62="N",$M62,"")," ") | Z62: =IF(N62="N",M62," ")
A63: =IF(OR(ISNUMBER(B63),ISNUMBER(C63)),A62+1, " ") | L63: =IF($K63="I","(1)",IF($K63="S","(1)",IF($K63="MP","(2)",IF($K63="CM","(3)"," ")))) | Q63: =IF($K63="I",$M63,"") | R63: =IF($K63="S",$M63,"") | S63: =IF($K63="MP",$M63,"") | T63: =IF($K63="CM",$M63,"") | V63: =IF($K63="I",IF(O63="N",$M63,"")," ") | W63: =IF($K63="S",IF(O63="N",$M63,"")," ") | Z63: =IF(N63="N",M63," ")
A64: =IF(OR(ISNUMBER(B64),ISNUMBER(C64)),A63+1, " ") | L64: =IF($K64="I","(1)",IF($K64="S","(1)",IF($K64="MP","(2)",IF($K64="CM","(3)"," ")))) | Q64: =IF($K64="I",$M64,"") | R64: =IF($K64="S",$M64,"") | S64: =IF($K64="MP",$M64,"") | T64: =IF($K64="CM",$M64,"") | V64: =IF($K64="I",IF(O64="N",$M64,"")," ") | W64: =IF($K64="S",IF(O64="N",$M64,"")," ") | Z64: =IF(N64="N",M64," ")
A65: =IF(OR(ISNUMBER(B65),ISNUMBER(C65)),A64+1, " ") | L65: =IF($K65="I","(1)",IF($K65="S","(1)",IF($K65="MP","(2)",IF($K65="CM","(3)"," ")))) | Q65: =IF($K65="I",$M65,"") | R65: =IF($K65="S",$M65,"") | S65: =IF($K65="MP",$M65,"") | T65: =IF($K65="CM",$M65,"") | V65: =IF($K65="I",IF(O65="N",$M65,"")," ") | W65: =IF($K65="S",IF(O65="N",$M65,"")," ") | Z65: =IF(N65="N",M65," ")
A66: =IF(OR(ISNUMBER(B66),ISNUMBER(C66)),A65+1, " ") | L66: =IF($K66="I","(1)",IF($K66="S","(1)",IF($K66="MP","(2)",IF($K66="CM","(3)"," ")))) | Q66: =IF($K66="I",$M66,"") | R66: =IF($K66="S",$M66,"") | S66: =IF($K66="MP",$M66,"") | T66: =IF($K66="CM",$M66,"") | V66: =IF($K66="I",IF(O66="N",$M66,"")," ") | W66: =IF($K66="S",IF(O66="N",$M66,"")," ") | Z66: =IF(N66="N",M66," ")
... A78: =IF(OR(ISNUMBER(B78),ISNUMBER(C78)),A77+1, " ") | L78: =IF($K78="I","(1)",IF($K78="S","(1)",IF($K78="MP","(2)",IF($K78="CM","(3)"," ")))) | Q78: =IF($K78="I",$M78,"") | R78: =IF($K78="S",$M78,"") | S78: =IF($K78="MP",$M78,"") | T78: =IF($K78="CM",$M78,"") | V78: =IF($K78="I",IF(O78="N",$M78,"")," ") | W78: =IF($K78="S",IF(O78="N",$M78,"")," ") | Z78: =IF(N78="N",M78," ")
A79: =IF(OR(ISNUMBER(B79),ISNUMBER(C79)),A78+1, " ") | L79: =IF($K79="I","(1)",IF($K79="S","(1)",IF($K79="MP","(2)",IF($K79="CM","(3)"," ")))) | Q79: =IF($K79="I",$M79,"") | R79: =IF($K79="S",$M79,"") | S79: =IF($K79="MP",$M79,"") | T79: =IF($K79="CM",$M79,"") | V79: =IF($K79="I",IF(O79="N",$M79,"")," ") | W79: =IF($K79="S",IF(O79="N",$M79,"")," ")
A80: =IF(OR(ISNUMBER(B80),ISNUMBER(C80)),A79+1, " ") | L80: =IF($K80="I","(1)",IF($K80="S","(1)",IF($K80="MP","(2)",IF($K80="CM","(3)"," ")))) | Q80: =IF($K80="I",$M80,"") | R80: =IF($K80="S",$M80,"") | S80: =IF($K80="MP",$M80,"") | T80: =IF($K80="CM",$M80,"") | V80: =IF($K80="I",IF(O80="N",$M80,"")," ") | W80: =IF($K80="S",IF(O80="N",$M80,"")," ") | Z80: =IF(N80="N",M80," ")
A81: =IF(OR(ISNUMBER(B81),ISNUMBER(C81)),A80+1, " ") | L81: =IF($K81="I","(1)",IF($K81="S","(1)",IF($K81="MP","(2)",IF($K81="CM","(3)"," ")))) | Q81: =IF($K81="I",$M81,"") | R81: =IF($K81="S",$M81,"") | S81: =IF($K81="MP",$M81,"") | T81: =IF($K81="CM",$M81,"") | V81: =IF($K81="I",IF(O81="N",$M81,"")," ") | W81: =IF($K81="S",IF(O81="N",$M81,"")," ") | Z81: =IF(N81="N",M81," ")
A82: =IF(OR(ISNUMBER(B82),ISNUMBER(C82)),A81+1, " ") | L82: =IF($K82="I","(1)",IF($K82="S","(1)",IF($K82="MP","(2)",IF($K82="CM","(3)"," ")))) | Q82: =IF($K82="I",$M82,"") | R82: =IF($K82="S",$M82,"") | S82: =IF($K82="MP",$M82,"") | T82: =IF($K82="CM",$M82,"") | V82: =IF($K82="I",IF(O82="N",$M82,"")," ") | W82: =IF($K82="S",IF(O82="N",$M82,"")," ") | Z82: =IF(N82="N",M82," ")
A83: =IF(OR(ISNUMBER(B83),ISNUMBER(C83)),A82+1, " ") | L83: =IF($K83="I","(1)",IF($K83="S","(1)",IF($K83="MP","(2)",IF($K83="CM","(3)"," ")))) | Q83: =IF($K83="I",$M83,"") | R83: =IF($K83="S",$M83,"") | S83: =IF($K83="MP",$M83,"") | T83: =IF($K83="CM",$M83,"") | V83: =IF($K83="I",IF(O83="N",$M83,"")," ") | W83: =IF($K83="S",IF(O83="N",$M83,"")," ") | Z83: =IF(N83="N",M83," ")
A84: =IF(OR(ISNUMBER(B84),ISNUMBER(C84)),A83+1, " ") | L84: =IF($K84="I","(1)",IF($K84="S","(1)",IF($K84="MP","(2)",IF($K84="CM","(3)"," ")))) | Q84: =IF($K84="I",$M84,"") | R84: =IF($K84="S",$M84,"") | S84: =IF($K84="MP",$M84,"") | T84: =IF($K84="CM",$M84,"") | V84: =IF($K84="I",IF(O84="N",$M84,"")," ") | W84: =IF($K84="S",IF(O84="N",$M84,"")," ") | Z84: =IF(N84="N",M84," ")
A85: =IF(OR(ISNUMBER(B85),ISNUMBER(C85)),A84+1, " ") | L85: =IF($K85="I","(1)",IF($K85="S","(1)",IF($K85="MP","(2)",IF($K85="CM","(3)"," ")))) | Q85: =IF($K85="I",$M85,"") | R85: =IF($K85="S",$M85,"") | S85: =IF($K85="MP",$M85,"") | T85: =IF($K85="CM",$M85,"") | V85: =IF($K85="I",IF(O85="N",$M85,"")," ") | W85: =IF($K85="S",IF(O85="N",$M85,"")," ") | Z85: =IF(N85="N",M85," ")
A86: =IF(OR(ISNUMBER(B86),ISNUMBER(C86)),A85+1, " ") | L86: =IF($K86="I","(1)",IF($K86="S","(1)",IF($K86="MP","(2)",IF($K86="CM","(3)"," ")))) | Q86: =IF($K86="I",$M86,"") | R86: =IF($K86="S",$M86,"") | S86: =IF($K86="MP",$M86,"") | T86: =IF($K86="CM",$M86,"") | V86: =IF($K86="I",IF(O86="N",$M86,"")," ") | W86: =IF($K86="S",IF(O86="N",$M86,"")," ") | Z86: =IF(N86="N",M86," ")
A87: =IF(OR(ISNUMBER(B87),ISNUMBER(C87)),A86+1, " ") | L87: =IF($K87="I","(1)",IF($K87="S","(1)",IF($K87="MP","(2)",IF($K87="CM","(3)"," ")))) | Q87: =IF($K87="I",$M87,"") | R87: =IF($K87="S",$M87,"") | S87: =IF($K87="MP",$M87,"") | T87: =IF($K87="CM",$M87,"") | V87: =IF($K87="I",IF(O87="N",$M87,"")," ") | W87: =IF($K87="S",IF(O87="N",$M87,"")," ") | Z87: =IF(N87="N",M87," ")
A88: =IF(OR(ISNUMBER(B88),ISNUMBER(C88)),A87+1, " ") | L88: =IF($K88="I","(1)",IF($K88="S","(1)",IF($K88="MP","(2)",IF($K88="CM","(3)"," ")))) | Q88: =IF($K88="I",$M88,"") | R88: =IF($K88="S",$M88,"") | S88: =IF($K88="MP",$M88,"") | T88: =IF($K88="CM",$M88,"") | V88: =IF($K88="I",IF(O88="N",$M88,"")," ") | W88: =IF($K88="S",IF(O88="N",$M88,"")," ") | Z88: =IF(N88="N",M88," ")
A89: =IF(OR(ISNUMBER(B89),ISNUMBER(C89)),A88+1, " ") | L89: =IF($K89="I","(1)",IF($K89="S","(1)",IF($K89="MP","(2)",IF($K89="CM","(3)"," ")))) | Q89: =IF($K89="I",$M89,"") | R89: =IF($K89="S",$M89,"") | S89: =IF($K89="MP",$M89,"") | T89: =IF($K89="CM",$M89,"") | V89: =IF($K89="I",IF(O89="N",$M89,"")," ") | W89: =IF($K89="S",IF(O89="N",$M89,"")," ") | Z89: =IF(N89="N",M89," ")
A90: =IF(OR(ISNUMBER(B90),ISNUMBER(C90)),A89+1, " ") | L90: =IF($K90="I","(1)",IF($K90="S","(1)",IF($K90="MP","(2)",IF($K90="CM","(3)"," ")))) | Q90: =IF($K90="I",$M90,"") | R90: =IF($K90="S",$M90,"") | S90: =IF($K90="MP",$M90,"") | T90: =IF($K90="CM",$M90,"") | V90: =IF($K90="I",IF(O90="N",$M90,"")," ") | W90: =IF($K90="S",IF(O90="N",$M90,"")," ") | Z90: =IF(N90="N",M90," ")
A91: =IF(OR(ISNUMBER(B91),ISNUMBER(C91)),A90+1, " ") | L91: =IF($K91="I","(1)",IF($K91="S","(1)",IF($K91="MP","(2)",IF($K91="CM","(3)"," ")))) | Q91: =IF($K91="I",$M91,"") | R91: =IF($K91="S",$M91,"") | S91: =IF($K91="MP",$M91,"") | T91: =IF($K91="CM",$M91,"") | V91: =IF($K91="I",IF(O91="N",$M91,"")," ") | W91: =IF($K91="S",IF(O91="N",$M91,"")," ") | Z91: =IF(N91="N",M91," ")
... A119: =IF(OR(ISNUMBER(B119),ISNUMBER(C119)),A118+1, " ") | L119: =IF($K119="I","(1)",IF($K119="S","(1)",IF($K119="MP","(2)",IF($K119="CM","(3)"," ")))) | Q119: =IF($K119="I",$M119,"") | R119: =IF($K119="S",$M119,"") | S119: =IF($K119="MP",$M119,"") | T119: =IF($K119="CM",$M119,"") | V119: =IF($K119="I",IF(O119="N",$M119,"")," ") | W119: =IF($K119="S",IF(O119="N",$M119,"")," ") | Z119: =IF(N119="N",M119," ")
A120: =IF(OR(ISNUMBER(B120),ISNUMBER(C120)),A119+1, " ") | L120: =IF($K120="I","(1)",IF($K120="S","(1)",IF($K120="MP","(2)",IF($K120="CM","(3)"," ")))) | Q120: =IF($K120="I",$M120,"") | R120: =IF($K120="S",$M120,"") | S120: =IF($K120="MP",$M120,"") | T120: =IF($K120="CM",$M120,"") | V120: =IF($K120="I",IF(O120="N",$M120,"")," ") | W120: =IF($K120="S",IF(O120="N",$M120,"")," ")
A121: =IF(OR(ISNUMBER(B121),ISNUMBER(C121)),A120+1, " ") | L121: =IF($K121="I","(1)",IF($K121="S","(1)",IF($K121="MP","(2)",IF($K121="CM","(3)"," ")))) | Q121: =IF($K121="I",$M121,"") | R121: =IF($K121="S",$M121,"") | S121: =IF($K121="MP",$M121,"") | T121: =IF($K121="CM",$M121,"") | V121: =IF($K121="I",IF(O121="N",$M121,"")," ") | W121: =IF($K121="S",IF(O121="N",$M121,"")," ") | Z121: =IF(N121="N",M121," ")
A122: =IF(OR(ISNUMBER(B122),ISNUMBER(C122)),A121+1, " ") | L122: =IF($K122="I","(1)",IF($K122="S","(1)",IF($K122="MP","(2)",IF($K122="CM","(3)"," ")))) | Q122: =IF($K122="I",$M122,"") | R122: =IF($K122="S",$M122,"") | S122: =IF($K122="MP",$M122,"") | T122: =IF($K122="CM",$M122,"") | V122: =IF($K122="I",IF(O122="N",$M122,"")," ") | W122: =IF($K122="S",IF(O122="N",$M122,"")," ") | Z122: =IF(N122="N",M122," ")
A123: =IF(OR(ISNUMBER(B123),ISNUMBER(C123)),A122+1, " ") | L123: =IF($K123="I","(1)",IF($K123="S","(1)",IF($K123="MP","(2)",IF($K123="CM","(3)"," ")))) | Q123: =IF($K123="I",$M123,"") | R123: =IF($K123="S",$M123,"") | S123: =IF($K123="MP",$M123,"") | T123: =IF($K123="CM",$M123,"") | V123: =IF($K123="I",IF(O123="N",$M123,"")," ") | W123: =IF($K123="S",IF(O123="N",$M123,"")," ") | Z123: =IF(N123="N",M123," ")
A124: =IF(OR(ISNUMBER(B124),ISNUMBER(C124)),A123+1, " ") | L124: =IF($K124="I","(1)",IF($K124="S","(1)",IF($K124="MP","(2)",IF($K124="CM","(3)"," ")))) | Q124: =IF($K124="I",$M124,"") | R124: =IF($K124="S",$M124,"") | S124: =IF($K124="MP",$M124,"") | T124: =IF($K124="CM",$M124,"") | V124: =IF($K124="I",IF(O124="N",$M124,"")," ") | W124: =IF($K124="S",IF(O124="N",$M124,"")," ") | Z124: =IF(N124="N",M124," ")
A125: =IF(OR(ISNUMBER(B125),ISNUMBER(C125)),A124+1, " ") | L125: =IF($K125="I","(1)",IF($K125="S","(1)",IF($K125="MP","(2)",IF($K125="CM","(3)"," ")))) | Q125: =IF($K125="I",$M125,"") | R125: =IF($K125="S",$M125,"") | S125: =IF($K125="MP",$M125,"") | T125: =IF($K125="CM",$M125,"") | V125: =IF($K125="I",IF(O125="N",$M125,"")," ") | W125: =IF($K125="S",IF(O125="N",$M125,"")," ") | Z125: =IF(N125="N",M125," ")
A126: =IF(OR(ISNUMBER(B126),ISNUMBER(C126)),A125+1, " ") | L126: =IF($K126="I","(1)",IF($K126="S","(1)",IF($K126="MP","(2)",IF($K126="CM","(3)"," ")))) | Q126: =IF($K126="I",$M126,"") | R126: =IF($K126="S",$M126,"") | S126: =IF($K126="MP",$M126,"") | T126: =IF($K126="CM",$M126,"") | V126: =IF($K126="I",IF(O126="N",$M126,"")," ") | W126: =IF($K126="S",IF(O126="N",$M126,"")," ") | Z126: =IF(N126="N",M126," ")
A127: =IF(OR(ISNUMBER(B127),ISNUMBER(C127)),A126+1, " ") | L127: =IF($K127="I","(1)",IF($K127="S","(1)",IF($K127="MP","(2)",IF($K127="CM","(3)"," ")))) | Q127: =IF($K127="I",$M127,"") | R127: =IF($K127="S",$M127,"") | S127: =IF($K127="MP",$M127,"") | T127: =IF($K127="CM",$M127,"") | V127: =IF($K127="I",IF(O127="N",$M127,"")," ") | W127: =IF($K127="S",IF(O127="N",$M127,"")," ") | Z127: =IF(N127="N",M127," ")
A128: =IF(OR(ISNUMBER(B128),ISNUMBER(C128)),A127+1, " ") | L128: =IF($K128="I","(1)",IF($K128="S","(1)",IF($K128="MP","(2)",IF($K128="CM","(3)"," ")))) | Q128: =IF($K128="I",$M128,"") | R128: =IF($K128="S",$M128,"") | S128: =IF($K128="MP",$M128,"") | T128: =IF($K128="CM",$M128,"") | V128: =IF($K128="I",IF(O128="N",$M128,"")," ") | W128: =IF($K128="S",IF(O128="N",$M128,"")," ") | Z128: =IF(N128="N",M128," ")
A129: =IF(OR(ISNUMBER(B129),ISNUMBER(C129)),A128+1, " ") | L129: =IF($K129="I","(1)",IF($K129="S","(1)",IF($K129="MP","(2)",IF($K129="CM","(3)"," ")))) | Q129: =IF($K129="I",$M129,"") | R129: =IF($K129="S",$M129,"") | S129: =IF($K129="MP",$M129,"") | T129: =IF($K129="CM",$M129,"") | V129: =IF($K129="I",IF(O129="N",$M129,"")," ") | W129: =IF($K129="S",IF(O129="N",$M129,"")," ") | Z129: =IF(N129="N",M129," ")
A130: =IF(OR(ISNUMBER(B130),ISNUMBER(C130)),A129+1, " ") | L130: =IF($K130="I","(1)",IF($K130="S","(1)",IF($K130="MP","(2)",IF($K130="CM","(3)"," ")))) | Q130: =IF($K130="I",$M130,"") | R130: =IF($K130="S",$M130,"") | S130: =IF($K130="MP",$M130,"") | T130: =IF($K130="CM",$M130,"") | V130: =IF($K130="I",IF(O130="N",$M130,"")," ") | W130: =IF($K130="S",IF(O130="N",$M130,"")," ") | Z130: =IF(N130="N",M130," ")
A131: =IF(OR(ISNUMBER(B131),ISNUMBER(C131)),A130+1, " ") | L131: =IF($K131="I","(1)",IF($K131="S","(1)",IF($K131="MP","(2)",IF($K131="CM","(3)"," ")))) | Q131: =IF($K131="I",$M131,"") | R131: =IF($K131="S",$M131,"") | S131: =IF($K131="MP",$M131,"") | T131: =IF($K131="CM",$M131,"") | V131: =IF($K131="I",IF(O131="N",$M131,"")," ") | W131: =IF($K131="S",IF(O131="N",$M131,"")," ") | Z131: =IF(N131="N",M131," ")
A132: =IF(OR(ISNUMBER(B132),ISNUMBER(C132)),A131+1, " ") | L132: =IF($K132="I","(1)",IF($K132="S","(1)",IF($K132="MP","(2)",IF($K132="CM","(3)"," ")))) | Q132: =IF($K132="I",$M132,"") | R132: =IF($K132="S",$M132,"") | S132: =IF($K132="MP",$M132,"") | T132: =IF($K132="CM",$M132,"") | V132: =IF($K132="I",IF(O132="N",$M132,"")," ") | W132: =IF($K132="S",IF(O132="N",$M132,"")," ") | Z132: =IF(N132="N",M132," ")
... A140: =IF(OR(ISNUMBER(B140),ISNUMBER(C140)),A139+1, " ") | L140: =IF($K140="I","(1)",IF($K140="S","(1)",IF($K140="MP","(2)",IF($K140="CM","(3)"," ")))) | Q140: =IF($K140="I",$M140,"") | R140: =IF($K140="S",$M140,"") | S140: =IF($K140="MP",$M140,"") | T140: =IF($K140="CM",$M140,"") | V140: =IF($K140="I",IF(O140="N",$M140,"")," ") | W140: =IF($K140="S",IF(O140="N",$M140,"")," ") | Z140: =IF(N140="N",M140," ")
A141: =IF(OR(ISNUMBER(B141),ISNUMBER(C141)),A140+1, " ") | L141: =IF($K141="I","(1)",IF($K141="S","(1)",IF($K141="MP","(2)",IF($K141="CM","(3)"," ")))) | Q141: =IF($K141="I",$M141,"") | R141: =IF($K141="S",$M141,"") | S141: =IF($K141="MP",$M141,"") | T141: =IF($K141="CM",$M141,"") | V141: =IF($K141="I",IF(O141="N",$M141,"")," ") | W141: =IF($K141="S",IF(O141="N",$M141,"")," ")
A142: =IF(OR(ISNUMBER(B142),ISNUMBER(C142)),A141+1, " ") | L142: =IF($K142="I","(1)",IF($K142="S","(1)",IF($K142="MP","(2)",IF($K142="CM","(3)"," ")))) | Q142: =IF($K142="I",$M142,"") | R142: =IF($K142="S",$M142,"") | S142: =IF($K142="MP",$M142,"") | T142: =IF($K142="CM",$M142,"") | V142: =IF($K142="I",IF(O142="N",$M142,"")," ") | W142: =IF($K142="S",IF(O142="N",$M142,"")," ") | Z142: =IF(N142="N",M142," ")
A143: =IF(OR(ISNUMBER(B143),ISNUMBER(C143)),A142+1, " ") | L143: =IF($K143="I","(1)",IF($K143="S","(1)",IF($K143="MP","(2)",IF($K143="CM","(3)"," ")))) | Q143: =IF($K143="I",$M143,"") | R143: =IF($K143="S",$M143,"") | S143: =IF($K143="MP",$M143,"") | T143: =IF($K143="CM",$M143,"") | V143: =IF($K143="I",IF(O143="N",$M143,"")," ") | W143: =IF($K143="S",IF(O143="N",$M143,"")," ") | Z143: =IF(N143="N",M143," ")
A144: =IF(OR(ISNUMBER(B144),ISNUMBER(C144)),A143+1, " ") | L144: =IF($K144="I","(1)",IF($K144="S","(1)",IF($K144="MP","(2)",IF($K144="CM","(3)"," ")))) | Q144: =IF($K144="I",$M144,"") | R144: =IF($K144="S",$M144,"") | S144: =IF($K144="MP",$M144,"") | T144: =IF($K144="CM",$M144,"") | V144: =IF($K144="I",IF(O144="N",$M144,"")," ") | W144: =IF($K144="S",IF(O144="N",$M144,"")," ") | Z144: =IF(N144="N",M144," ")
A145: =IF(OR(ISNUMBER(B145),ISNUMBER(C145)),A144+1, " ") | L145: =IF($K145="I","(1)",IF($K145="S","(1)",IF($K145="MP","(2)",IF($K145="CM","(3)"," ")))) | Q145: =IF($K145="I",$M145,"") | R145: =IF($K145="S",$M145,"") | S145: =IF($K145="MP",$M145,"") | T145: =IF($K145="CM",$M145,"") | V145: =IF($K145="I",IF(O145="N",$M145,"")," ") | W145: =IF($K145="S",IF(O145="N",$M145,"")," ") | Z145: =IF(N145="N",M145," ")
A146: =IF(OR(ISNUMBER(B146),ISNUMBER(C146)),A145+1, " ") | L146: =IF($K146="I","(1)",IF($K146="S","(1)",IF($K146="MP","(2)",IF($K146="CM","(3)"," ")))) | Q146: =IF($K146="I",$M146,"") | R146: =IF($K146="S",$M146,"") | S146: =IF($K146="MP",$M146,"") | T146: =IF($K146="CM",$M146,"") | V146: =IF($K146="I",IF(O146="N",$M146,"")," ") | W146: =IF($K146="S",IF(O146="N",$M146,"")," ") | Z146: =IF(N146="N",M146," ")
A147: =IF(OR(ISNUMBER(B147),ISNUMBER(C147)),A146+1, " ") | L147: =IF($K147="I","(1)",IF($K147="S","(1)",IF($K147="MP","(2)",IF($K147="CM","(3)"," ")))) | Q147: =IF($K147="I",$M147,"") | R147: =IF($K147="S",$M147,"") | S147: =IF($K147="MP",$M147,"") | T147: =IF($K147="CM",$M147,"") | V147: =IF($K147="I",IF(O147="N",$M147,"")," ") | W147: =IF($K147="S",IF(O147="N",$M147,"")," ") | Z147: =IF(N147="N",M147," ")
A148: =IF(OR(ISNUMBER(B148),ISNUMBER(C148)),A147+1, " ") | L148: =IF($K148="I","(1)",IF($K148="S","(1)",IF($K148="MP","(2)",IF($K148="CM","(3)"," ")))) | Q148: =IF($K148="I",$M148,"") | R148: =IF($K148="S",$M148,"") | S148: =IF($K148="MP",$M148,"") | T148: =IF($K148="CM",$M148,"") | V148: =IF($K148="I",IF(O148="N",$M148,"")," ") | W148: =IF($K148="S",IF(O148="N",$M148,"")," ") | Z148: =IF(N148="N",M148," ")
A149: =IF(OR(ISNUMBER(B149),ISNUMBER(C149)),A148+1, " ") | L149: =IF($K149="I","(1)",IF($K149="S","(1)",IF($K149="MP","(2)",IF($K149="CM","(3)"," ")))) | Q149: =IF($K149="I",$M149,"") | R149: =IF($K149="S",$M149,"") | S149: =IF($K149="MP",$M149,"") | T149: =IF($K149="CM",$M149,"") | V149: =IF($K149="I",IF(O149="N",$M149,"")," ") | W149: =IF($K149="S",IF(O149="N",$M149,"")," ") | Z149: =IF(N149="N",M149," ")
A150: =IF(OR(ISNUMBER(B150),ISNUMBER(C150)),A149+1, " ") | L150: =IF($K150="I","(1)",IF($K150="S","(1)",IF($K150="MP","(2)",IF($K150="CM","(3)"," ")))) | Q150: =IF($K150="I",$M150,"") | R150: =IF($K150="S",$M150,"") | S150: =IF($K150="MP",$M150,"") | T150: =IF($K150="CM",$M150,"") | V150: =IF($K150="I",IF(O150="N",$M150,"")," ") | W150: =IF($K150="S",IF(O150="N",$M150,"")," ") | Z150: =IF(N150="N",M150," ")
A151: =IF(OR(ISNUMBER(B151),ISNUMBER(C151)),A150+1, " ") | L151: =IF($K151="I","(1)",IF($K151="S","(1)",IF($K151="MP","(2)",IF($K151="CM","(3)"," ")))) | Q151: =IF($K151="I",$M151,"") | R151: =IF($K151="S",$M151,"") | S151: =IF($K151="MP",$M151,"") | T151: =IF($K151="CM",$M151,"") | V151: =IF($K151="I",IF(O151="N",$M151,"")," ") | W151: =IF($K151="S",IF(O151="N",$M151,"")," ")
A152: =IF(OR(ISNUMBER(B152),ISNUMBER(C152)),A151+1, " ") | L152: =IF($K152="I","(1)",IF($K152="S","(1)",IF($K152="MP","(2)",IF($K152="CM","(3)"," ")))) | Q152: =IF($K152="I",$M152,"") | R152: =IF($K152="S",$M152,"") | S152: =IF($K152="MP",$M152,"") | T152: =IF($K152="CM",$M152,"") | V152: =IF($K152="I",IF(O152="N",$M152,"")," ") | W152: =IF($K152="S",IF(O152="N",$M152,"")," ") | Z152: =IF(N152="N",M152," ")
A153: =IF(OR(ISNUMBER(B153),ISNUMBER(C153)),A152+1, " ") | L153: =IF($K153="I","(1)",IF($K153="S","(1)",IF($K153="MP","(2)",IF($K153="CM","(3)"," ")))) | Q153: =IF($K153="I",$M153,"") | R153: =IF($K153="S",$M153,"") | S153: =IF($K153="MP",$M153,"") | T153: =IF($K153="CM",$M153,"") | V153: =IF($K153="I",IF(O153="N",$M153,"")," ") | W153: =IF($K153="S",IF(O153="N",$M153,"")," ") | Z153: =IF(N153="N",M153," ")
A154: =IF(OR(ISNUMBER(B154),ISNUMBER(C154)),A153+1, " ") | L154: =IF($K154="I","(1)",IF($K154="S","(1)",IF($K154="MP","(2)",IF($K154="CM","(3)"," ")))) | Q154: =IF($K154="I",$M154,"") | R154: =IF($K154="S",$M154,"") | S154: =IF($K154="MP",$M154,"") | T154: =IF($K154="CM",$M154,"") | V154: =IF($K154="I",IF(O154="N",$M154,"")," ") | W154: =IF($K154="S",IF(O154="N",$M154,"")," ") | Z154: =IF(N154="N",M154," ")
A155: =IF(OR(ISNUMBER(B155),ISNUMBER(C155)),A154+1, " ") | L155: =IF($K155="I","(1)",IF($K155="S","(1)",IF($K155="MP","(2)",IF($K155="CM","(3)"," ")))) | Q155: =IF($K155="I",$M155,"") | R155: =IF($K155="S",$M155,"") | S155: =IF($K155="MP",$M155,"") | T155: =IF($K155="CM",$M155,"") | V155: =IF($K155="I",IF(O155="N",$M155,"")," ") | W155: =IF($K155="S",IF(O155="N",$M155,"")," ") | Z155: =IF(N155="N",M155," ")
A156: =IF(OR(ISNUMBER(B156),ISNUMBER(C156)),A155+1, " ") | L156: =IF($K156="I","(1)",IF($K156="S","(1)",IF($K156="MP","(2)",IF($K156="CM","(3)"," ")))) | Q156: =IF($K156="I",$M156,"") | R156: =IF($K156="S",$M156,"") | S156: =IF($K156="MP",$M156,"") | T156: =IF($K156="CM",$M156,"") | V156: =IF($K156="I",IF(O156="N",$M156,"")," ") | W156: =IF($K156="S",IF(O156="N",$M156,"")," ") | Z156: =IF(N156="N",M156," ")
A157: =IF(OR(ISNUMBER(B157),ISNUMBER(C157)),A156+1, " ") | L157: =IF($K157="I","(1)",IF($K157="S","(1)",IF($K157="MP","(2)",IF($K157="CM","(3)"," ")))) | Q157: =IF($K157="I",$M157,"") | R157: =IF($K157="S",$M157,"") | S157: =IF($K157="MP",$M157,"") | T157: =IF($K157="CM",$M157,"") | V157: =IF($K157="I",IF(O157="N",$M157,"")," ") | W157: =IF($K157="S",IF(O157="N",$M157,"")," ") | Z157: =IF(N157="N",M157," ")
A158: =IF(OR(ISNUMBER(B158),ISNUMBER(C158)),A157+1, " ") | L158: =IF($K158="I","(1)",IF($K158="S","(1)",IF($K158="MP","(2)",IF($K158="CM","(3)"," ")))) | Q158: =IF($K158="I",$M158,"") | R158: =IF($K158="S",$M158,"") | S158: =IF($K158="MP",$M158,"") | T158: =IF($K158="CM",$M158,"") | V158: =IF($K158="I",IF(O158="N",$M158,"")," ") | W158: =IF($K158="S",IF(O158="N",$M158,"")," ") | Z158: =IF(N158="N",M158," ")
A159: =IF(OR(ISNUMBER(B159),ISNUMBER(C159)),A158+1, " ") | L159: =IF($K159="I","(1)",IF($K159="S","(1)",IF($K159="MP","(2)",IF($K159="CM","(3)"," ")))) | Q159: =IF($K159="I",$M159,"") | R159: =IF($K159="S",$M159,"") | S159: =IF($K159="MP",$M159,"") | T159: =IF($K159="CM",$M159,"") | V159: =IF($K159="I",IF(O159="N",$M159,"")," ") | W159: =IF($K159="S",IF(O159="N",$M159,"")," ") | Z159: =IF(N159="N",M159," ")
A160: =IF(OR(ISNUMBER(B160),ISNUMBER(C160)),A159+1, " ") | L160: =IF($K160="I","(1)",IF($K160="S","(1)",IF($K160="MP","(2)",IF($K160="CM","(3)"," ")))) | Q160: =IF($K160="I",$M160,"") | R160: =IF($K160="S",$M160,"") | S160: =IF($K160="MP",$M160,"") | T160: =IF($K160="CM",$M160,"") | V160: =IF($K160="I",IF(O160="N",$M160,"")," ") | W160: =IF($K160="S",IF(O160="N",$M160,"")," ") | Z160: =IF(N160="N",M160," ")
A161: =IF(OR(ISNUMBER(B161),ISNUMBER(C161)),A160+1, " ") | L161: =IF($K161="I","(1)",IF($K161="S","(1)",IF($K161="MP","(2)",IF($K161="CM","(3)"," ")))) | Q161: =IF($K161="I",$M161,"") | R161: =IF($K161="S",$M161,"") | S161: =IF($K161="MP",$M161,"") | T161: =IF($K161="CM",$M161,"") | V161: =IF($K161="I",IF(O161="N",$M161,"")," ") | W161: =IF($K161="S",IF(O161="N",$M161,"")," ") | Z161: =IF(N161="N",M161," ")
A162: =IF(OR(ISNUMBER(B162),ISNUMBER(C162)),A161+1, " ") | L162: =IF($K162="I","(1)",IF($K162="S","(1)",IF($K162="MP","(2)",IF($K162="CM","(3)"," ")))) | Q162: =IF($K162="I",$M162,"") | R162: =IF($K162="S",$M162,"") | S162: =IF($K162="MP",$M162,"") | T162: =IF($K162="CM",$M162,"") | V162: =IF($K162="I",IF(O162="N",$M162,"")," ") | W162: =IF($K162="S",IF(O162="N",$M162,"")," ") | Z162: =IF(N162="N",M162," ")
A163: =IF(OR(ISNUMBER(B163),ISNUMBER(C163)),A162+1, " ") | L163: =IF($K163="I","(1)",IF($K163="S","(1)",IF($K163="MP","(2)",IF($K163="CM","(3)"," ")))) | Q163: =IF($K163="I",$M163,"") | R163: =IF($K163="S",$M163,"") | S163: =IF($K163="MP",$M163,"") | T163: =IF($K163="CM",$M163,"") | V163: =IF($K163="I",IF(O163="N",$M163,"")," ") | W163: =IF($K163="S",IF(O163="N",$M163,"")," ") | Z163: =IF(N163="N",M163," ")
... A170: =IF(OR(ISNUMBER(B170),ISNUMBER(C170)),A169+1, " ") | L170: =IF($K170="I","(1)",IF($K170="S","(1)",IF($K170="MP","(2)",IF($K170="CM","(3)"," ")))) | Q170: =IF($K170="I",$M170,"") | R170: =IF($K170="S",$M170,"") | S170: =IF($K170="MP",$M170,"") | T170: =IF($K170="CM",$M170,"") | V170: =IF($K170="I",IF(O170="N",$M170,"")," ") | W170: =IF($K170="S",IF(O170="N",$M170,"")," ") | Z170: =IF(N170="N",M170," ")
H171: Total Contract Bid Item Cost | I171: Total CO Cost | Q171: I | R171: S | S171: MP | T171: CM | V171: I | W171: S
B172: SUMMARY (Counts) | H172: =SUM(H54:H170) -> 0 | I172: =SUM(I54:I170) -> 0 | P172: BI | Q172: =SUM(Q54:Q170) -> 0 | R172: =SUM(R54:R170) -> 0 | S172: =SUM(S54:S170) -> 0 | T172: =SUM(T54:T170) -> 0 | V172: =SUM(V54:V170) -> 0 | W172: =SUM(W54:W170) -> 0 | Z172: =SUM(Z54:Z170)+SUM(V172:W172) -> 0
D173: Applicable Material Category Count | F173: Count | P173: AFM | Q173: =Total_AFM_I -> 0 | R173: =Total_AFM_S -> 0 | S173: =Total_AFM_MP -> 0 | T173: =Total_AFM_CM -> 0
D174: (1) Iron or Steel | F174: =COUNTIF($L$54:$L$170,"(1)") -> 0 | H174: DE MINIMIS CALCULATIONS & RESULTS
D175: (2) Manufactured Products | F175: =COUNTIF($L$54:$L$170,"(2)") -> 0 | H175: De Minimis Waiver Calculation Construction Materials & Manufactured Products
D176: (3) Construction Materials | F176: =COUNTIF($L$54:$L$170,"(3)") -> 0 | H176: Lesser of (X) 5% = NC/TA or $1,000,000
D177: Total | F177: =SUM(F174:F176) -> 0 | H177: (X) 5% = (NC) Total value of Non-Compliant manufactured products
H178: and construction materials /(TA) Total Applicable project costs (I+S+MP+CM+AFM)
B179: SUMMARY (Values)
B180: Total Applicable Project Cost (Bid Items) + (COs) | F180: =Q172+R172+$T172+$S172 -> 0 | H180: (NC) Calculated Waiver for (MP+CM) | K180: =IF(TA_AFM*0.05<1000000,TA_AFM*0.05,1000000) -> 0 | L180: =IF(F182=0," ",MP_CM_Waiver/F182)
B181: Agency Furnished Material (AFM) Total | F181: =SUM(Q173:T173) -> 0 | H181: Value of (NC) Materials (MP+CM) with No BA Cert | K181: =F185 -> 0 | L181: =IF(K181>MP_CM_Waiver," Valule of Non-Compliant (MP+CM) exceeds allowable threshold of 5%. by", "Valule of Non-Compliant (MP+CM) is below allowable threshold of 5%. ") -> Valule of Non-Compliant (MP+CM) is below allowable threshold of 5%.
B182: Total Applicable Project Cost (TA) Adjusted for AFM | F182: =F181+F180 -> 0 | H182: =IF(K181>MP_CM_Waiver,"Actual Calculated Value of (NC) Materials. ", " ") | K182: =IF(K181>MP_CM_Waiver,K181/F182, " ") | L182: =IF(K181>MP_CM_Waiver," or ", " ") | M182: =IF(K181>MP_CM_Waiver,K181-MP_CM_Waiver, " ")
B183: Total Manufactured Product+Construction Materials (MP+CM) | F183: =SUM(S172:T172) -> 0
B184: Total (NC) Calculated Waiver for (MP+CM) | F184: =MP_CM_Waiver -> 0 | H184: De Minimis Waiver Calculation Iron or Steel products
B185: Total Manufactured Product+Construction Materials (MP+CM) No BA Certs | F185: =Z172 -> 0 | H185: 0.1 % of contract cost at award or $2,500 (whichever is greater)
B186: Total Iron or Steel products (I+S) | F186: =R172+Q172 -> 0 | H186: Calculated Waiver for (I or S) | K186: =IF(F186=0,"No Non-Compliant Iron or Steel",(IF(0.001*(Total_Con_Cost+Total_CO_Cost)>2500,0.001*(Total_Con_Cost+Total_CO_Cost),2500))) -> No Non-Compliant Iron or Steel
B187: Total Calculated Waiver for (I or S) | F187: =IF(ISTEXT(I_or_S_Waiver),0,I_or_S_Waiver) -> 0 | H187: Value of (I or S) with No BA Cert | K187: =(V172+W172) -> 0 | L187: =IF(K187>I_or_S_Waiver,"Valule of Non-Compliant (I or S) exceeds allowable threshold of the greater of .01% of Contract Amount or $ 2,500 ", "Valule of Non-Compliant (I or S) is below the allowable threshold of the greater of .01% of Contract Amount or $ 2,500 ") -> Valule of Non-Compliant (I or S) is below the allowable threshold of the greater of .01% of Contract Amount or $ 2,500 | T187: Last Revised on | V187: ='Instruction Page'!$N$354 -> 46043
...

Sheet 4.0 Results Page
A1: 4.0 DE MINIMIS COST WAIVER RESULTS WORKSHEET
A3: Instructions: This form will be populated by data entered in sheets 1.0 to 3.0
B5: Local Public Agency: | D5: ='1.0 De Minimis Request'!F6 -> 0
B6: Local Agency Proj. No. | D6: ='1.0 De Minimis Request'!F7 -> 0
B7: Federal Contract No. | D7: ='1.0 De Minimis Request'!F8 -> 0
B8: Project Name | D8: ='1.0 De Minimis Request'!F9 -> 0
B9: Project Description | D9: ='1.0 De Minimis Request'!F10 -> 0
B10: Project Location | D10: ='1.0 De Minimis Request'!F11 -> 0
B11: Prime Contractor: | D11: ='1.0 De Minimis Request'!F12 -> 0
B12: Contract Award Amt. | D12: ='1.0 De Minimis Request'!F13 -> 0
B13: Agency Furnish Material | D13: =Agncy_Furn_Matrl -> No AFM
B14: Request Iteration | D14: =Reqst_Itrtn -> 0
B15: Comments: | D15: ='1.0 De Minimis Request'!F16 -> 0
B16: CO Amount (if applicable) | D16: ='1.0 De Minimis Request'!F17 -> 0
B18: With respect to exceptions for products made in the United States, our company elects to request a De Minimis Waiver for the following material types per Contract Specifications:
C21: Materials | G21: Counts
C22: Category (1) Iron or Steel Products | G22: ='3.0 De Minimis Calculations '!F174 -> 0
C23: Category (2) Manufactured Products | G23: ='3.0 De Minimis Calculations '!F175 -> 0
C24: Category (3) Construction Materials | G24: ='3.0 De Minimis Calculations '!F176 -> 0
C25: Total Applicable Material Entries | G25: ='3.0 De Minimis Calculations '!F177 -> 0
C27: Original Contract Amount | G27: ='1.0 De Minimis Request'!F13 -> 0
C28: No. of Change Orders to Date | G28: =MAX('3.0 De Minimis Calculations '!C54:'3.0 De Minimis Calculations '!C170) -> 0
C29: No. of Change Orders to Date (Buy America) | G29: 3
C30: Total CO Amount | G30: ='3.0 De Minimis Calculations '!I172 -> 0
C33: Calculated De Minimis Amount NC (MP+CM) | G33: =MP_CM_Waiver -> 0 | H33: Actual De Minimis Value NC (MP+CM) | L33: =MPCM_No_Crt -> 0
C34: Calculated De Minimis Amount I + S | G34: =IF(ISTEXT(I_or_S_Waiver),0,I_or_S_Waiver) -> 0 | H34: Actual De Minimis Value NC (I + S) | L34: =IS_No_Crt -> 0
C36: De Minimis Cost Waiver Run Log
C37: Run Reason | G37: Run Amount ($) | I37: Run Amount ($)
C38: Initial Request, CO, etc.. (Description) | G38: Manufactured Product & Construction Materials | I38: Iron or Steel | K38: Date
B39: 1
B40: 2
B41: 3
B42: 4
B43: 5
B44: 6
B45: 7
B46: 8
B47: 9
B48: 10
B49: 11
B50: 12
... B53: 15
B56: Prime Contractor Representative | F56: ='1.0 De Minimis Request'!G52 -> 0 | I56: Date
B58: Local Public Agency: Resident Engineer | F58: ='1.0 De Minimis Request'!G55 -> 0
B59: Distribution: | F59: Prime Contractor, RE, Project Files
H61: Last Revised on | J61: ='Instruction Page'!$N$354 -> 46043
