Workbook

Sheet List
A2: TRUE
A3: ATP
A4: Non-ATP

Sheet Instructions
A1: INSTRUCTIONS
B3: Do NOT input values in gray cells. Those cells are formula-driven and will automatically update.
B4: Exhibit 25-R: ATP Non-Infrastructure Work Plan
B5: 1 | C5: Date: Insert today's date
B6: 2 | C6: Implementing Agency Name: Insert name of agency that will be implementing the project.
B7: 3 | C7: Project Number: Leave blank for ATP Cycle 8 solicitation
B8: 4a. | C8: Project location(s): List all locations that this project will target. Use a separate line for each location (3a, 3b, 3c, etc.). (Example location: City of Santa Ana - Mt. Vernon Elementary School)
B9: 4b. | C9: Provide other project location; if applicable
B10: 4c. | C10: Provide other project location; if applicable
B11: 4d. | C11: Provide other project location; if applicable
B12: 5 | C12: Project Description: Provide brief project description. (Exp.: Conduct bicycle and pedestrian safety education, encouragement and traffic safety enforcement near schools.)
B14: Please review the ATP Non-Infrastructure Guidance to determine what items and costs are eligible. https://dot.ca.gov/programs/local-assistance/fed-and-state-programs/active-transportation-program/general-and-technical-information
B16: Justification
B17: Fill out this section if the program includes any items that need justification. If the program does not contain items needing justification, this tab does not need to be filled out.
B19: Task Details
B20: Tasks are primary elements of a project. Provide a "Task Detail" table for each. (Task A, Task B, Task C, etc.)
B21: 5a. | C21: Task Name: Provide name of task
B22: 5b. | C22: Task Summary: Provide a brief task description for the various activities to be completed in the task.
B24: Activities and Deliverables
B25: List all associated Activities for each task and all corresponding deliverables for each activity.
C26: Start Date and End Date: Provide a start and end date for each task activity. (Month - Year)
B27: 6a. | C27: Activities: List all activities that will be completed in the task.
B28: 6b. | C28: Deliverables: List all of the corresponding deliverables for each activity listed.
B30: Staff Costs
B31: 7a. | C31: Staff Time (Agency): List all agency staff title/position(s) that will work on this task. If more than one Agency, indicate staff & Agency Affiliation in each staff position. (Example: Party 1 - Program Manager, LA Schools). Select ATP or Non-ATP Select the fund source (ATP or Non-ATP) that will pay for each staff position. Non-ATP refers to local funds, donations, or any other funding source that will not be reimbursed by the ATP. Staff Hours: Provide the total number of estimated hours for each party listed. Rate Per Hour: Provide the rate per hour of each party listed. Subtotal Agency Costs: Leave Blank - This is automatically calculated.
B32: 7b. | C32: Staff Time (Consultant): Consultants do not have to identify the staff positions. For each consultant listed include an identifier to distinguish the work that the consultant will perform. (Example: Part 2 - Consultant: Bike Safety Training) Select ATP or Non-ATP: Select the fund source (ATP or Non-ATP) that will pay for each staff position. Non-ATP refers to local funds, donations, or any other funding source that will not be reimbursed by the ATP. Staff Hours: Provide the total number of estimated hours for each party listed. Rate Per Hour: If using a Consultant to perform the work, list the estimated Consultant cost/hr or include an overall cost for that work. (Put "1" in Staff Hours and the "overall cost amount" in Rate Per Hour) Subtotal Consultant Costs: Leave Blank - This is automatically calculated.
B33: 7c. | C33: Total Staff Costs: Leave Blank - The Total Staff Cost is automatically calculated.
B35: Indirect Costs
C36: Only fill out this section if asking for indirect costs to be reimbursed through ATP. Agencies should have an approved Indirect Cost Allocation Plan (ICAP) agreement with Caltrans. Local agencies without an approved ICAP may request the approval of a “provisional ICAP rate” from the Caltrans Audits and Investigations (A&I) unit. Upon receiving an Acceptance Letter from Caltrans A&I, the local agencies will be allowed to invoice for their indirect costs using this “provisional rate” until A&I has completed the review of the local agencies ICAP proposal.
B37: 8a. | C37: Approved ICAP: Select the box if the implementing agency has an approved ICAP
B38: 8b. | C38: Rate: Input the "provisional rate" or the approved rate.
B39: 8c. | C39: ATP Indirect Costs: Input your own calculation of the rate by the cost to get the indirect rate.
B41: Task Notes
B42: 9 | C42: Task Notes: Provide any additional information that will clarify the work to be conducted under this task. Describe the who, what, when and where of your project. Attach an additional sheet if needed.
B44: Other Costs
B45: 10 (a-g). | C45: The totals for each "Other Costs" category will automatically calculate from information entered in the itemized Other Costs "OC" tab:
B46: 11 | C46: Task Grand Total: Leave Blank - This is automatically calculated from the information provided under this task.
B47: "OC" Other Costs Tab
B48: For each task, an itemized cost estimate for each of the following categories, if applicable, must be provided. For each item select the fund source (ATP or Non-ATP). Non-ATP refers to local funds, donations, or any other funding source that will not ask for reimbursement by the ATP.
B49: 10a. | C49: Travel: Total cost of Travel; if applicable
...

Sheet Exhibit 25-R
A1: Exhibit 25-R ATP Non-Infrastructure Project Work Plan
A2: Fill in the following items:
A3: Date: (1)
A4: Implementing Agency Name: (2)
A5: Project Number: (3)
A6: Project Location(s): (4a)
A7: " " (4b)
A8: " " (4c)
A9: " " (4d)
A10: Project Description: (5)
A14: Enter information in each Task Tab, as it applies (Task A, Task B, Task C, Task D, etc.)
A16: For Department use only You will not be able to fill in the following items. Items will auto-populate once you've entered all "Task" tabs that applies:
... A18: Click the links below to navigate to "Task Details" tabs:
A19: Task | B19: Task Name | G19: ATP Cost | H19: Non-ATP Cost
A20: Task "A" | B20: =IF(ISBLANK('Task A'!C2),"",('Task A'!C2)) | G20: ='Task A'!I49 -> 0 | H20: ='Task A'!J49 -> 0
A21: Task "B" | B21: =IF(ISBLANK('Task B'!C2),"",('Task B'!C2)) | G21: ='Task B'!I49 -> 0 | H21: ='Task B'!J49 -> 0
A22: Task "C" | B22: =IF(ISBLANK('Task C'!C2),"",('Task C'!C2)) | G22: ='Task C'!I49 -> 0 | H22: ='Task C'!J49 -> 0
A23: Task "D" | B23: =IF(ISBLANK('Task D'!C2),"",('Task D'!C2)) | G23: ='Task D'!I49 -> 0 | H23: ='Task D'!J49 -> 0
A24: Task "E" | B24: =IF(ISBLANK('Task E'!C2),"",('Task E'!C2)) | G24: ='Task E'!I49 -> 0 | H24: ='Task E'!J49 -> 0
A25: Task "F" | B25: =IF(ISBLANK('Task F'!C2),"",('Task F'!C2)) | G25: ='Task F'!I49 -> 0 | H25: ='Task F'!J49 -> 0
A26: Task "G" | B26: =IF(ISBLANK('Task G'!C2),"",('Task G'!C2)) | G26: ='Task G'!I49 -> 0 | H26: ='Task G'!J49 -> 0
A27: Task "H" | B27: =IF(ISBLANK('Task H'!C2),"",('Task H'!C2)) | G27: ='Task H'!I49 -> 0 | H27: ='Task H'!J49 -> 0
A28: Task "I" | B28: =IF(ISBLANK('Task I'!C2),"",('Task I'!C2)) | G28: ='Task I'!I49 -> 0 | H28: ='Task I'!J49 -> 0
A29: Task "J" | B29: =IF(ISBLANK('Task J'!C2),"",('Task J'!C2)) | G29: ='Task J'!I49 -> 0 | H29: ='Task J'!J49 -> 0
F30: ATP Total: | G30: =SUM(G20:G29) -> 0
F31: Non-ATP Total: | H31: =SUM(H20:H29) -> 0
E32: GRAND TOTAL | H32: =SUM(G20:H29) -> 0

Sheet Justification
A1: Item Justification and Sustainability
A2: This section gives implementers an opportunity to justify specific items they need as part of their program. Please refer to the ATP NI Guidance for specific items needing justification: https://dot.ca.gov/programs/local-assistance/fed-and-state-programs/active-transportation-program/general-and-technical-information. Feel free to add anything else you feel needs justification. If you have none of these items, this section does not need to be filled out.
A3: Items Needing a Justification | B3: Check if included in project | C3: Which Task(s) is the item in? | D3: Quantity | E3: Justification (explain the need for the item, how it will be used, why the quantity requested is needed, and how it will be sustained (for equipment) or given away (for incentives))
A4: Equipment: iPod or basic Tablet
A5: Equipment: Bicycle Trailer or Storage Unit
A6: Equipment: Other (write in)
A7: Equipment: Other (write in)
A8: Major Incentives: Bicycle Helmets
A9: Major Incentives: Bicycle Locks
A10: Major Incentives: Bicycle Lights
A11: Incentives: Other (write in)
A12: Incentives: Other (write in)
A13: Incentives: Other (write in)

Sheet Task A
A1: TASK "A" DETAIL
A2: Task Name (5a):
A3: Task Summary (5b):
B5: Start Date | C5: End Date | D5: Task Activities (6a): | H5: Deliverables (6b):
A6: 1
A7: 2
A8: 3
A9: 4
A10: 5
A11: 6
A12: 7
A13: 8
A14: 9
A15: 10
G16: Staff Costs (7): | RP16: 2
C17: Staff Time (Agency) (7a): | E17: ATP or Non-ATP (select one) | G17: Staff Hours | H17: Rate Per Hour | I17: ATP Total $ | J17: Non-ATP Total $
A18: Party 1 - | I18: =IF(E18=List!$A$3,G18*H18, "") | J18: =IF(E18=List!$A$4,G18*H18, "")
A19: Party 2 - | I19: =IF(E19=List!$A$3,G19*H19, "") | J19: =IF(E19=List!$A$4,G19*H19, "")
A20: Party 3 - | I20: =IF(E20=List!$A$3,G20*H20, "") | J20: =IF(E20=List!$A$4,G20*H20, "")
A21: Party 4 - | I21: =IF(E21=List!$A$3,G21*H21, "") | J21: =IF(E21=List!$A$4,G21*H21, "")
A22: Party 5 - | I22: =IF(E22=List!$A$3,G22*H22, "") | J22: =IF(E22=List!$A$4,G22*H22, "")
A23: Party 6 - | I23: =IF(E23=List!$A$3,G23*H23, "") | J23: =IF(E23=List!$A$4,G23*H23, "")
H24: Subtotal Agency Costs: | I24: =SUM(I18:I23) -> 0 | J24: =SUM(J18:J23) -> 0
C25: Staff Time (Consultant) (7b): | E25: ATP or Non-ATP (select one) | G25: Staff Hours | H25: Rate Per Hour | I25: ATP Total $ | J25: Non-ATP Total $
A26: Party 1 - | I26: =IF(E26=List!$A$3,G26*H26, "") | J26: =IF(E26=List!$A$4,G26*H26, "")
A27: Party 2 - | I27: =IF(E27=List!$A$3,G27*H27, "") | J27: =IF(E27=List!$A$4,G27*H27, "")
A28: Party 3 - | I28: =IF(E28=List!$A$3,G28*H28, "") | J28: =IF(E28=List!$A$4,G28*H28, "")
H29: Subtotal Consultant Costs: | I29: =SUM(I26:I28) -> 0 | J29: =SUM(J26:J28) -> 0
H30: Total Staff Costs (Agency & Consultant) (7c): | I30: =SUM(I24+I29) -> 0 | J30: =SUM(J24+J29) -> 0
G31: Indirect Costs (8)
A32: Approved ICAP (8a)? | C32: FALSE | D32: If Approved ICAP box is checked, provide Rate (8b): | I32: ATP Indirect Costs (8c):
G33: Task Notes (9):
A39: Other Costs (10):
A40: You will not be able to fill in the following items. The totals for each "Other Costs" category listed below will automatically calculate from information entered in the itemized other costs tab:
I41: ATP Total $ | J41: Non-ATP Total $
A42: To fill out an itemized cost for each "Other Cost", click below: | G42: Travel (10a): | I42: ='Task A "OC"'!G18 -> 0 | J42: =SUM('Task A "OC"'!H18) -> 0
G43: Equipment (10b): | I43: ='Task A "OC"'!G37 -> 0 | J43: ='Task A "OC"'!H37 -> 0
G44: Supplies/Materials (10c): | I44: ='Task A "OC"'!G56 -> 0 | J44: ='Task A "OC"'!H56 -> 0
G45: Incentives (10d): | I45: ='Task A "OC"'!G75 -> 0 | J45: ='Task A "OC"'!H75 -> 0
G46: Other Direct Costs (10e): | I46: ='Task A "OC"'!G94 -> 0 | J46: ='Task A "OC"'!H94 -> 0
...

Sheet Task A "OC"
A1: Task "A" Other Costs:
A2: Itemized Travel Cost (10a)
A3: Please provide an itemized "travel" cost estimate for all travel costs applicable to this task
A4: Travel (10a)
A5: Type of Travel | C5: ATP or Non-ATP (select one) | D5: Quantity | E5: Units | F5: Cost $ | G5: ATP Total $ | H5: Non-ATP Total $
A6: 1 | G6: =IF(C6=List!$A$3, D6*F6, "") | H6: =IF(C6=List!$A$4, D6*F6, "")
A7: 2 | G7: =IF(C7=List!$A$3, D7*F7, "") | H7: =IF(C7=List!$A$4, D7*F7, "")
A8: 3 | G8: =IF(C8=List!$A$3, D8*F8, "") | H8: =IF(C8=List!$A$4, D8*F8, "")
A9: 4 | G9: =IF(C9=List!$A$3, D9*F9, "") | H9: =IF(C9=List!$A$4, D9*F9, "")
A10: 5 | G10: =IF(C10=List!$A$3, D10*F10, "") | H10: =IF(C10=List!$A$4, D10*F10, "")
A11: 6 | G11: =IF(C11=List!$A$3, D11*F11, "") | H11: =IF(C11=List!$A$4, D11*F11, "")
A12: 7 | G12: =IF(C12=List!$A$3, D12*F12, "") | H12: =IF(C12=List!$A$4, D12*F12, "")
A13: 8 | G13: =IF(C13=List!$A$3, D13*F13, "") | H13: =IF(C13=List!$A$4, D13*F13, "")
A14: 9 | G14: =IF(C14=List!$A$3, D14*F14, "") | H14: =IF(C14=List!$A$4, D14*F14, "")
A15: 10 | G15: =IF(C15=List!$A$3, D15*F15, "") | H15: =IF(C15=List!$A$4, D15*F15, "")
A16: 11 | G16: =IF(C16=List!$A$3, D16*F16, "") | H16: =IF(C16=List!$A$4, D16*F16, "")
A17: 12 | G17: =IF(C17=List!$A$3, D17*F17, "") | H17: =IF(C17=List!$A$4, D17*F17, "")
F18: Total: | G18: =SUM(G6:G17) -> 0 | H18: =SUM(H6:H17) -> 0
F19: Total Travel Cost: | H19: =SUM(G18:H18) -> 0
A21: Itemized Equipment Cost (10b)
A22: Please provide an itemized "equipment" cost estimate for all equipment cost applicable to this task
A23: Equipment (10b)
A24: Type of Equipment | D24: ATP or Non-ATP (select one) | E24: Quantity | F24: Cost $ | G24: ATP Total $ | H24: Non-ATP Total $
A25: 1 | G25: =IF(D25=List!$A$3, E25*F25, "") | H25: =IF(D25=List!$A$4, E25*F25, "")
A26: 2 | G26: =IF(D26=List!$A$3, E26*F26, "") | H26: =IF(D26=List!$A$4, E26*F26, "")
A27: 3 | G27: =IF(D27=List!$A$3, E27*F27, "") | H27: =IF(D27=List!$A$4, E27*F27, "")
A28: 4 | G28: =IF(D28=List!$A$3, E28*F28, "") | H28: =IF(D28=List!$A$4, E28*F28, "")
A29: 5 | G29: =IF(D29=List!$A$3, E29*F29, "") | H29: =IF(D29=List!$A$4, E29*F29, "")
A30: 6 | G30: =IF(D30=List!$A$3, E30*F30, "") | H30: =IF(D30=List!$A$4, E30*F30, "")
A31: 7 | G31: =IF(D31=List!$A$3, E31*F31, "") | H31: =IF(D31=List!$A$4, E31*F31, "")
A32: 8 | G32: =IF(D32=List!$A$3, E32*F32, "") | H32: =IF(D32=List!$A$4, E32*F32, "")
A33: 9 | G33: =IF(D33=List!$A$3, E33*F33, "") | H33: =IF(D33=List!$A$4, E33*F33, "")
A34: 10 | G34: =IF(D34=List!$A$3, E34*F34, "") | H34: =IF(D34=List!$A$4, E34*F34, "")
A35: 11 | G35: =IF(D35=List!$A$3, E35*F35, "") | H35: =IF(D35=List!$A$4, E35*F35, "")
A36: 12 | G36: =IF(D36=List!$A$3, E36*F36, "") | H36: =IF(D36=List!$A$4, E36*F36, "")
F37: Total: | G37: =SUM(G25:G36) -> 0 | H37: =SUM(H25:H36) -> 0
F38: Total Equipment Cost: | H38: =SUM(G37:H37) -> 0
A40: Itemized Supplies/Materials Cost (10c)
A41: Please provide an itemized "supplies/materials" cost estimate for all supplies/materials cost applicable to this task
A42: Supplies/Materials (10c)
...

Sheet Task B
A1: TASK "B" DETAIL
A2: Task Name (5a):
A3: Task Summary (5b):
B5: Start Date | C5: End Date | D5: Activities (6a): | H5: Deliverables (6b):
A6: 1
A7: 2
A8: 3
A9: 4
A10: 5
A11: 6
A12: 7
A13: 8
A14: 9
A15: 10
G16: Staff Costs (7):
C17: Staff Time (Agency) (7a): | E17: ATP or Non-ATP (select one) | G17: Staff Hours | H17: Rate Per Hour | I17: ATP Total $ | J17: Non-ATP Total $
A18: Party 1 - | I18: =IF(E18=List!$A$3,G18*H18, "") | J18: =IF(E18=List!$A$4,G18*H18, "")
A19: Party 2 - | I19: =IF(E19=List!$A$3,G19*H19, "") | J19: =IF(E19=List!$A$4,G19*H19, "")
A20: Party 3 - | I20: =IF(E20=List!$A$3,G20*H20, "") | J20: =IF(E20=List!$A$4,G20*H20, "")
A21: Party 4 - | I21: =IF(E21=List!$A$3,G21*H21, "") | J21: =IF(E21=List!$A$4,G21*H21, "")
A22: Party 5 - | I22: =IF(E22=List!$A$3,G22*H22, "") | J22: =IF(E22=List!$A$4,G22*H22, "")
A23: Party 6 - | I23: =IF(E23=List!$A$3,G23*H23, "") | J23: =IF(E23=List!$A$4,G23*H23, "")
H24: Subtotal Agency Costs: | I24: =SUM(I18:I23) -> 0 | J24: =SUM(J18:J23) -> 0
C25: Staff Time (Consultant) (7b): | E25: ATP or Non-ATP (select one) | G25: Staff Hours | H25: Rate Per Hour | I25: ATP Total $ | J25: Non-ATP Total $
A26: Party 1 - | I26: =IF(E26=List!$A$3,G26*H26, "") | J26: =IF(E26=List!$A$4,G26*H26, "")
A27: Party 2 - | I27: =IF(E27=List!$A$3,G27*H27, "") | J27: =IF(E27=List!$A$4,G27*H27, "")
A28: Party 3 - | I28: =IF(E28=List!$A$3,G28*H28, "") | J28: =IF(E28=List!$A$4,G28*H28, "")
H29: Subtotal Consultant Costs: | I29: =SUM(I26:I28) -> 0 | J29: =SUM(J26:J28) -> 0
H30: Total Staff Costs (Agency & Consultant) (7c): | I30: =SUM(I24+I29) -> 0 | J30: =SUM(J24+J29) -> 0
G31: Indirect Costs (8)
A32: Approved ICAP (8a)? | C32: FALSE | D32: If Approved ICAP box is checked, provide Rate (8b): | I32: ATP Indirect Costs (8c):
G33: Task Notes (9):
A39: Other Costs (10):
A40: You will not be able to fill in the following items. The totals for each "Other Costs" category listed below will automatically calculate from information entered in the itemized other costs tab:
I41: ATP Total $ | J41: Non-ATP Total $
A42: To fill out an itemized cost for each "Other Cost", click below: | G42: Travel (10a): | I42: ='Task B "OC"'!G18 -> 0 | J42: =SUM('Task B "OC"'!H18) -> 0
G43: Equipment (10b): | I43: ='Task B "OC"'!G37 -> 0 | J43: ='Task B "OC"'!H37 -> 0
G44: Supplies/Materials (10c): | I44: ='Task B "OC"'!G56 -> 0 | J44: ='Task B "OC"'!H56 -> 0
G45: Incentives (10d): | I45: ='Task B "OC"'!G75 -> 0 | J45: ='Task B "OC"'!H75 -> 0
G46: Other Direct Costs (10e): | I46: ='Task B "OC"'!G94 -> 0 | J46: ='Task B "OC"'!H94 -> 0
...

Sheet Task B "OC"
A1: Task "B" Other Costs:
A2: Itemized Travel Cost (10a)
A3: Please provide an itemized "travel" cost estimate for all travel costs applicable to this task
A4: Travel (10a)
A5: Type of Travel | C5: ATP or Non-ATP (select one) | D5: Quantity | E5: Units | F5: Cost $ | G5: ATP Total $ | H5: Non-ATP Total $
A6: 1 | G6: =IF(C6=List!$A$3, D6*F6, "") | H6: =IF(C6=List!$A$4, D6*F6, "")
A7: 2 | G7: =IF(C7=List!$A$3, D7*F7, "") | H7: =IF(C7=List!$A$4, D7*F7, "")
A8: 3 | G8: =IF(C8=List!$A$3, D8*F8, "") | H8: =IF(C8=List!$A$4, D8*F8, "")
A9: 4 | G9: =IF(C9=List!$A$3, D9*F9, "") | H9: =IF(C9=List!$A$4, D9*F9, "")
A10: 5 | G10: =IF(C10=List!$A$3, D10*F10, "") | H10: =IF(C10=List!$A$4, D10*F10, "")
A11: 6 | G11: =IF(C11=List!$A$3, D11*F11, "") | H11: =IF(C11=List!$A$4, D11*F11, "")
A12: 7 | G12: =IF(C12=List!$A$3, D12*F12, "") | H12: =IF(C12=List!$A$4, D12*F12, "")
A13: 8 | G13: =IF(C13=List!$A$3, D13*F13, "") | H13: =IF(C13=List!$A$4, D13*F13, "")
A14: 9 | G14: =IF(C14=List!$A$3, D14*F14, "") | H14: =IF(C14=List!$A$4, D14*F14, "")
A15: 10 | G15: =IF(C15=List!$A$3, D15*F15, "") | H15: =IF(C15=List!$A$4, D15*F15, "")
A16: 11 | G16: =IF(C16=List!$A$3, D16*F16, "") | H16: =IF(C16=List!$A$4, D16*F16, "")
A17: 12 | G17: =IF(C17=List!$A$3, D17*F17, "") | H17: =IF(C17=List!$A$4, D17*F17, "")
F18: Total: | G18: =SUM(G6:G17) -> 0 | H18: =SUM(H6:H17) -> 0
F19: Total Travel Cost: | H19: =SUM(G18:H18) -> 0
A21: Itemized Equipment Cost (10b)
A22: Please provide an itemized "equipment" cost estimate for all equipment cost applicable to this task
A23: Equipment (10b)
A24: Type of Equipment | D24: ATP or Non-ATP (select one) | E24: Quantity | F24: Cost $ | G24: ATP Total $ | H24: Non-ATP Total $
A25: 1 | G25: =IF(D25=List!$A$3, E25*F25, "") | H25: =IF(D25=List!$A$4,E25*F25,"")
A26: 2 | G26: =IF(D26=List!$A$3, E26*F26, "") | H26: =IF(D26=List!$A$4,E26*F26,"")
A27: 3 | G27: =IF(D27=List!$A$3, E27*F27, "") | H27: =IF(D27=List!$A$4,E27*F27,"")
A28: 4 | G28: =IF(D28=List!$A$3, E28*F28, "") | H28: =IF(D28=List!$A$4,E28*F28,"")
A29: 5 | G29: =IF(D29=List!$A$3, E29*F29, "") | H29: =IF(D29=List!$A$4,E29*F29,"")
A30: 6 | G30: =IF(D30=List!$A$3, E30*F30, "") | H30: =IF(D30=List!$A$4,E30*F30,"")
A31: 7 | G31: =IF(D31=List!$A$3, E31*F31, "") | H31: =IF(D31=List!$A$4,E31*F31,"")
A32: 8 | G32: =IF(D32=List!$A$3, E32*F32, "") | H32: =IF(D32=List!$A$4,E32*F32,"")
A33: 9 | G33: =IF(D33=List!$A$3, E33*F33, "") | H33: =IF(D33=List!$A$4,E33*F33,"")
A34: 10 | G34: =IF(D34=List!$A$3, E34*F34, "") | H34: =IF(D34=List!$A$4,E34*F34,"")
A35: 11 | G35: =IF(D35=List!$A$3, E35*F35, "") | H35: =IF(D35=List!$A$4,E35*F35,"")
A36: 12 | G36: =IF(D36=List!$A$3, E36*F36, "") | H36: =IF(D36=List!$A$4,E36*F36,"")
F37: Total: | G37: =SUM(G25:G36) -> 0 | H37: =SUM(H25:H36) -> 0
F38: Total Equipment Cost: | H38: =SUM(G37:H37) -> 0
A40: Itemized Supplies/Materials Cost (10c)
A41: Please provide an itemized "supplies/materials" cost estimate for all supplies/materials cost applicable to this task
A42: Supplies/Materials (10c)
...

Sheet Task C
A1: TASK "C" DETAIL
A2: Task Name (5a):
A3: Task Summary (5b):
B5: Start Date | C5: End Date | D5: Task Activities (6a): | H5: Deliverables (6b):
A6: 1
A7: 2
A8: 3
A9: 4
A10: 5
A11: 6
A12: 7
A13: 8
A14: 9
A15: 10
G16: Staff Costs (7):
C17: Staff Time (Agency) (7a): | E17: ATP or Non-ATP (select one) | G17: Staff Hours | H17: Rate Per Hour | I17: ATP Total $ | J17: Non-ATP Total $
A18: Party 1 - | I18: =IF(E18=List!$A$3,G18*H18, "") | J18: =IF(E18=List!$A$4,G18*H18, "")
A19: Party 2 - | I19: =IF(E19=List!$A$3,G19*H19, "") | J19: =IF(E19=List!$A$4,G19*H19, "")
A20: Party 3 - | I20: =IF(E20=List!$A$3,G20*H20, "") | J20: =IF(E20=List!$A$4,G20*H20, "")
A21: Party 4 - | I21: =IF(E21=List!$A$3,G21*H21, "") | J21: =IF(E21=List!$A$4,G21*H21, "")
A22: Party 5 - | I22: =IF(E22=List!$A$3,G22*H22, "") | J22: =IF(E22=List!$A$4,G22*H22, "")
A23: Party 6 - | I23: =IF(E23=List!$A$3,G23*H23, "") | J23: =IF(E23=List!$A$4,G23*H23, "")
H24: Subtotal Agency Costs: | I24: =SUM(I18:I23) -> 0 | J24: =SUM(J18:J23) -> 0
C25: Staff Time (Consultant) (7b): | E25: ATP or Non-ATP (select one) | G25: Staff Hours | H25: Rate Per Hour | I25: ATP Total $ | J25: Non-ATP Total $
A26: Party 1 - | I26: =IF(E26=List!$A$3,G26*H26, "") | J26: =IF(E26=List!$A$4,G26*H26, "")
A27: Party 2 - | I27: =IF(E27=List!$A$3,G27*H27, "") | J27: =IF(E27=List!$A$4,G27*H27, "")
A28: Party 3 - | I28: =IF(E28=List!$A$3,G28*H28, "") | J28: =IF(E28=List!$A$4,G28*H28, "")
H29: Subtotal Consultant Costs: | I29: =SUM(I26:I28) -> 0 | J29: =SUM(J26:J28) -> 0
H30: Total Staff Costs (Agency & Consultant) (7c): | I30: =SUM(I24+I29) -> 0 | J30: =SUM(J24+J29) -> 0
G31: Indirect Costs (8)
A32: Approved ICAP (8a)? | C32: FALSE | D32: If Approved ICAP box is checked, provide Rate (8b): | I32: ATP Indirect Costs (8c):
G33: Task Notes (9):
A39: Other Costs (10):
A40: You will not be able to fill in the following items. The totals for each "Other Costs" category listed below will automatically calculate from information entered in the itemized other costs tab:
I41: ATP Total $ | J41: Non-ATP Total $
A42: To fill out an itemized cost for each "Other Cost", click below: | G42: Travel (10a): | I42: ='Task C "OC"'!G18 -> 0 | J42: =SUM('Task C "OC"'!H18) -> 0
G43: Equipment (10b): | I43: ='Task C "OC"'!G37 -> 0 | J43: ='Task C "OC"'!H37 -> 0
G44: Supplies/Materials (10c): | I44: ='Task C "OC"'!G56 -> 0 | J44: ='Task C "OC"'!H56 -> 0
G45: Incentives (10d): | I45: ='Task C "OC"'!G75 -> 0 | J45: ='Task C "OC"'!H75 -> 0
G46: Other Direct Costs (10e): | I46: ='Task C "OC"'!G94 -> 0 | J46: ='Task C "OC"'!H94 -> 0
...

Sheet Task C "OC"
A1: Task "C" Other Costs:
A2: Itemized Travel Cost (10a)
A3: Please provide an itemized "travel" cost estimate for all travel costs applicable to this task
A4: Travel (10a)
A5: Type of Travel | C5: ATP or Non-ATP (select one) | D5: Quantity | E5: Units | F5: Cost $ | G5: ATP Total $ | H5: Non-ATP Total $
A6: 1 | G6: =IF(C6=List!$A$3, D6*F6, "") | H6: =IF(C6=List!$A$4, D6*F6, "")
A7: 2 | G7: =IF(C7=List!$A$3, D7*F7, "") | H7: =IF(C7=List!$A$4, D7*F7, "")
A8: 3 | G8: =IF(C8=List!$A$3, D8*F8, "") | H8: =IF(C8=List!$A$4, D8*F8, "")
A9: 4 | G9: =IF(C9=List!$A$3, D9*F9, "") | H9: =IF(C9=List!$A$4, D9*F9, "")
A10: 5 | G10: =IF(C10=List!$A$3, D10*F10, "") | H10: =IF(C10=List!$A$4, D10*F10, "")
A11: 6 | G11: =IF(C11=List!$A$3, D11*F11, "") | H11: =IF(C11=List!$A$4, D11*F11, "")
A12: 7 | G12: =IF(C12=List!$A$3, D12*F12, "") | H12: =IF(C12=List!$A$4, D12*F12, "")
A13: 8 | G13: =IF(C13=List!$A$3, D13*F13, "") | H13: =IF(C13=List!$A$4, D13*F13, "")
A14: 9 | G14: =IF(C14=List!$A$3, D14*F14, "") | H14: =IF(C14=List!$A$4, D14*F14, "")
A15: 10 | G15: =IF(C15=List!$A$3, D15*F15, "") | H15: =IF(C15=List!$A$4, D15*F15, "")
A16: 11 | G16: =IF(C16=List!$A$3, D16*F16, "") | H16: =IF(C16=List!$A$4, D16*F16, "")
A17: 12 | G17: =IF(C17=List!$A$3, D17*F17, "") | H17: =IF(C17=List!$A$4, D17*F17, "")
F18: Total: | G18: =SUM(G6:G17) -> 0 | H18: =SUM(H6:H17) -> 0
F19: Total Travel Cost: | H19: =SUM(G18:H18) -> 0
A21: Itemized Equipment Cost (10b)
A22: Please provide an itemized "equipment" cost estimate for all equipment costs applicable to this task
A23: Equipment (10b)
A24: Type of Equipment | D24: ATP or Non-ATP (select one) | E24: Quantity | F24: Cost $ | G24: ATP Total $ | H24: Non-ATP Total $
A25: 1 | G25: =IF(D25=List!$A$3, E25*F25, "") | H25: =IF(D25=List!$A$4,E25*F25,"")
A26: 2 | G26: =IF(D26=List!$A$3, E26*F26, "") | H26: =IF(D26=List!$A$4,E26*F26,"")
A27: 3 | G27: =IF(D27=List!$A$3, E27*F27, "") | H27: =IF(D27=List!$A$4,E27*F27,"")
A28: 4 | G28: =IF(D28=List!$A$3, E28*F28, "") | H28: =IF(D28=List!$A$4,E28*F28,"")
A29: 5 | G29: =IF(D29=List!$A$3, E29*F29, "") | H29: =IF(D29=List!$A$4,E29*F29,"")
A30: 6 | G30: =IF(D30=List!$A$3, E30*F30, "") | H30: =IF(D30=List!$A$4,E30*F30,"")
A31: 7 | G31: =IF(D31=List!$A$3, E31*F31, "") | H31: =IF(D31=List!$A$4,E31*F31,"")
A32: 8 | G32: =IF(D32=List!$A$3, E32*F32, "") | H32: =IF(D32=List!$A$4,E32*F32,"")
A33: 9 | G33: =IF(D33=List!$A$3, E33*F33, "") | H33: =IF(D33=List!$A$4,E33*F33,"")
A34: 10 | G34: =IF(D34=List!$A$3, E34*F34, "") | H34: =IF(D34=List!$A$4,E34*F34,"")
A35: 11 | G35: =IF(D35=List!$A$3, E35*F35, "") | H35: =IF(D35=List!$A$4,E35*F35,"")
A36: 12 | G36: =IF(D36=List!$A$3, E36*F36, "") | H36: =IF(D36=List!$A$4,E36*F36,"")
F37: Total: | G37: =SUM(G25:G36) -> 0 | H37: =SUM(H25:H36) -> 0
F38: Total Equipment Cost: | H38: =SUM(G37:H37) -> 0
A40: Itemized Supplies/Materials Cost (10c)
A41: Please provide an itemized "supplies/materials" cost estimate for all supplies/materials costs applicable to this task
A42: Supplies/Materials (10c)
...

Sheet Task D
A1: TASK "D" DETAIL
A2: Task Name (5a):
A3: Task Summary (5b):
B5: Start Date | C5: End Date | D5: Task Activities (6a): | H5: Deliverables (6b):
A6: 1
A7: 2
A8: 3
A9: 4
A10: 5
A11: 6
A12: 7
A13: 8
A14: 9
A15: 10
G16: Staff Costs (7):
C17: Staff Time (Agency) (7a): | E17: ATP or Non-ATP (select one) | G17: Staff Hours | H17: Rate Per Hour | I17: ATP Total $ | J17: Non-ATP Total $
A18: Party 1 - | I18: =IF(E18=List!$A$3,G18*H18, "") | J18: =IF(E18=List!$A$4,G18*H18, "")
A19: Party 2 - | I19: =IF(E19=List!$A$3,G19*H19, "") | J19: =IF(E19=List!$A$4,G19*H19, "")
A20: Party 3 - | I20: =IF(E20=List!$A$3,G20*H20, "") | J20: =IF(E20=List!$A$4,G20*H20, "")
A21: Party 4 - | I21: =IF(E21=List!$A$3,G21*H21, "") | J21: =IF(E21=List!$A$4,G21*H21, "")
A22: Party 5 - | I22: =IF(E22=List!$A$3,G22*H22, "") | J22: =IF(E22=List!$A$4,G22*H22, "")
A23: Party 6 - | I23: =IF(E23=List!$A$3,G23*H23, "") | J23: =IF(E23=List!$A$4,G23*H23, "")
H24: Subtotal Agency Costs: | I24: =SUM(I18:I23) -> 0 | J24: =SUM(J18:J23) -> 0
C25: Staff Time (Consultant) (7b): | E25: ATP or Non-ATP (select one) | G25: Staff Hours | H25: Rate Per Hour | I25: ATP Total $ | J25: Non-ATP Total $
A26: Party 1 - | I26: =IF(E26=List!$A$3,G26*H26, "") | J26: =IF(E26=List!$A$4,G26*H26, "")
A27: Party 2 - | I27: =IF(E27=List!$A$3,G27*H27, "") | J27: =IF(E27=List!$A$4,G27*H27, "")
A28: Party 3 - | I28: =IF(E28=List!$A$3,G28*H28, "") | J28: =IF(E28=List!$A$4,G28*H28, "")
H29: Subtotal Consultant Costs: | I29: =SUM(I26:I28) -> 0 | J29: =SUM(J26:J28) -> 0
H30: Total Staff Costs (Agency & Consultant) (7c): | I30: =SUM(I24+I29) -> 0 | J30: =SUM(J24+J29) -> 0
G31: Indirect Costs (8)
A32: Approved ICAP (8a)? | C32: FALSE | D32: If Approved ICAP box is checked, provide Rate (8b): | I32: ATP Indirect Costs (8c):
G33: Task Notes (9):
A39: Other Costs (10):
A40: You will not be able to fill in the following items. The totals for each "Other Costs" category listed below will automatically calculate from information entered in the itemized other costs tab:
I41: ATP Total $ | J41: Non-ATP Total $
A42: To fill out an itemized cost for each "Other Cost", click below: | G42: Travel (10a): | I42: ='Task D "OC"'!G18 -> 0 | J42: =SUM('Task D "OC"'!H18) -> 0
G43: Equipment (10b): | I43: ='Task D "OC"'!G37 -> 0 | J43: ='Task D "OC"'!H37 -> 0
G44: Supplies/Materials (10c): | I44: ='Task D "OC"'!G56 -> 0 | J44: ='Task D "OC"'!H56 -> 0
G45: Incentives (10d): | I45: ='Task D "OC"'!G75 -> 0 | J45: ='Task D "OC"'!H75 -> 0
G46: Other Direct Costs (10e): | I46: ='Task D "OC"'!G94 -> 0 | J46: ='Task D "OC"'!H94 -> 0
...

Sheet Task D "OC"
A1: Task "D" Other Costs:
A2: Itemized Travel Cost (10a)
A3: Please provide an itemized "travel" cost estimate for all travel costs applicable to this task
A4: Travel (10a)
A5: Type of Travel | C5: ATP or Non-ATP (select one) | D5: Quantity | E5: Units | F5: Cost $ | G5: ATP Total $ | H5: Non-ATP Total $
A6: 1 | G6: =IF(C6=List!$A$3, D6*F6, "") | H6: =IF(C6=List!$A$4, D6*F6, "")
A7: 2 | G7: =IF(C7=List!$A$3, D7*F7, "") | H7: =IF(C7=List!$A$4, D7*F7, "")
A8: 3 | G8: =IF(C8=List!$A$3, D8*F8, "") | H8: =IF(C8=List!$A$4, D8*F8, "")
A9: 4 | G9: =IF(C9=List!$A$3, D9*F9, "") | H9: =IF(C9=List!$A$4, D9*F9, "")
A10: 5 | G10: =IF(C10=List!$A$3, D10*F10, "") | H10: =IF(C10=List!$A$4, D10*F10, "")
A11: 6 | G11: =IF(C11=List!$A$3, D11*F11, "") | H11: =IF(C11=List!$A$4, D11*F11, "")
A12: 7 | G12: =IF(C12=List!$A$3, D12*F12, "") | H12: =IF(C12=List!$A$4, D12*F12, "")
A13: 8 | G13: =IF(C13=List!$A$3, D13*F13, "") | H13: =IF(C13=List!$A$4, D13*F13, "")
A14: 9 | G14: =IF(C14=List!$A$3, D14*F14, "") | H14: =IF(C14=List!$A$4, D14*F14, "")
A15: 10 | G15: =IF(C15=List!$A$3, D15*F15, "") | H15: =IF(C15=List!$A$4, D15*F15, "")
A16: 11 | G16: =IF(C16=List!$A$3, D16*F16, "") | H16: =IF(C16=List!$A$4, D16*F16, "")
A17: 12 | G17: =IF(C17=List!$A$3, D17*F17, "") | H17: =IF(C17=List!$A$4, D17*F17, "")
F18: Total: | G18: =SUM(G6:G17) -> 0 | H18: =SUM(H6:H17) -> 0
F19: Total Travel Cost: | H19: =SUM(G18:H18) -> 0
A21: Itemized Equipment Cost (10b)
A22: Please provide an itemized "equipment" cost estimate for all equipment costs applicable to this task
A23: Equipment (10b)
A24: Type of Equipment | D24: ATP or Non-ATP (select one) | E24: Quantity | F24: Cost $ | G24: ATP Total $ | H24: Non-ATP Total $
A25: 1 | G25: =IF(D25=List!$A$3, E25*F25, "") | H25: =IF(D25=List!$A$4, E25*F25, "")
A26: 2 | G26: =IF(D26=List!$A$3, E26*F26, "") | H26: =IF(D26=List!$A$4, E26*F26, "")
A27: 3 | G27: =IF(D27=List!$A$3, E27*F27, "") | H27: =IF(D27=List!$A$4, E27*F27, "")
A28: 4 | G28: =IF(D28=List!$A$3, E28*F28, "") | H28: =IF(D28=List!$A$4, E28*F28, "")
A29: 5 | G29: =IF(D29=List!$A$3, E29*F29, "") | H29: =IF(D29=List!$A$4, E29*F29, "")
A30: 6 | G30: =IF(D30=List!$A$3, E30*F30, "") | H30: =IF(D30=List!$A$4, E30*F30, "")
A31: 7 | G31: =IF(D31=List!$A$3, E31*F31, "") | H31: =IF(D31=List!$A$4, E31*F31, "")
A32: 8 | G32: =IF(D32=List!$A$3, E32*F32, "") | H32: =IF(D32=List!$A$4, E32*F32, "")
A33: 9 | G33: =IF(D33=List!$A$3, E33*F33, "") | H33: =IF(D33=List!$A$4, E33*F33, "")
A34: 10 | G34: =IF(D34=List!$A$3, E34*F34, "") | H34: =IF(D34=List!$A$4, E34*F34, "")
A35: 11 | G35: =IF(D35=List!$A$3, E35*F35, "") | H35: =IF(D35=List!$A$4, E35*F35, "")
A36: 12 | G36: =IF(D36=List!$A$3, E36*F36, "") | H36: =IF(D36=List!$A$4, E36*F36, "")
F37: Total: | G37: =SUM(G25:G36) -> 0 | H37: =SUM(H25:H36) -> 0
F38: Total Equipment Cost: | H38: =SUM(G37:H37) -> 0
A40: Itemized Supplies/Materials Cost (10c)
A41: Please provide an itemized "supplies/materials" cost estimate for all supplies/materials costs applicable to this task
A42: Supplies/Materials (10c)
...

Sheet Task E
A1: TASK "E" DETAIL
A2: Task Name (5a):
A3: Task Summary (5b):
B5: Start Date | C5: End Date | D5: Task Activities (6a): | H5: Deliverables (6b):
A6: 1
A7: 2
A8: 3
A9: 4
A10: 5
A11: 6
A12: 7
A13: 8
A14: 9
A15: 10
G16: Staff Costs (7):
C17: Staff Time (Agency) (7a): | E17: ATP or Non-ATP (select one) | G17: Staff Hours | H17: Rate Per Hour | I17: ATP Total $ | J17: Non-ATP Total $
A18: Party 1 - | I18: =IF(E18=List!$A$3,G18*H18, "") | J18: =IF(E18=List!$A$4,G18*H18, "")
A19: Party 2 - | I19: =IF(E19=List!$A$3,G19*H19, "") | J19: =IF(E19=List!$A$4,G19*H19, "")
A20: Party 3 - | I20: =IF(E20=List!$A$3,G20*H20, "") | J20: =IF(E20=List!$A$4,G20*H20, "")
A21: Party 4 - | I21: =IF(E21=List!$A$3,G21*H21, "") | J21: =IF(E21=List!$A$4,G21*H21, "")
A22: Party 5 - | I22: =IF(E22=List!$A$3,G22*H22, "") | J22: =IF(E22=List!$A$4,G22*H22, "")
A23: Party 6 - | I23: =IF(E23=List!$A$3,G23*H23, "") | J23: =IF(E23=List!$A$4,G23*H23, "")
H24: Subtotal Agency Costs: | I24: =SUM(I18:I23) -> 0 | J24: =SUM(J18:J23) -> 0
C25: Staff Time (Consultant) (7b): | E25: ATP or Non-ATP (select one) | G25: Staff Hours | H25: Rate Per Hour | I25: ATP Total $ | J25: Non-ATP Total $
A26: Party 1 - | I26: =IF(E26=List!$A$3,G26*H26, "") | J26: =IF(E26=List!$A$4,G26*H26, "")
A27: Party 2 - | I27: =IF(E27=List!$A$3,G27*H27, "") | J27: =IF(E27=List!$A$4,G27*H27, "")
A28: Party 3 - | I28: =IF(E28=List!$A$3,G28*H28, "") | J28: =IF(E28=List!$A$4,G28*H28, "")
H29: Subtotal Consultant Costs: | I29: =SUM(I26:I28) -> 0 | J29: =SUM(J26:J28) -> 0
H30: Total Staff Costs (Agency & Consultant) (7c): | I30: =SUM(I24+I29) -> 0 | J30: =SUM(J24+J29) -> 0
G31: Indirect Costs (8)
A32: Approved ICAP (8a)? | C32: FALSE | D32: If Approved ICAP box is checked, provide Rate (8b): | I32: ATP Indirect Costs (8c):
G33: Task Notes (9):
A39: Other Costs (10):
A40: You will not be able to fill in the following items. The totals for each "Other Costs" category listed below will automatically calculate from information entered in the itemized other costs tab:
I41: ATP Total $ | J41: Non-ATP Total $
A42: To fill out an itemized cost for each "Other Cost", click below: | G42: Travel (10a): | I42: ='Task E "OC"'!G18 -> 0 | J42: =SUM('Task E "OC"'!H18) -> 0
G43: Equipment (10b): | I43: ='Task E "OC"'!G37 -> 0 | J43: ='Task E "OC"'!H37 -> 0
G44: Supplies/Materials (10c): | I44: ='Task E "OC"'!G56 -> 0 | J44: ='Task E "OC"'!H56 -> 0
G45: Incentives (10d): | I45: ='Task E "OC"'!G75 -> 0 | J45: ='Task E "OC"'!H75 -> 0
G46: Other Direct Costs (10e): | I46: ='Task E "OC"'!G94 -> 0 | J46: ='Task E "OC"'!H94 -> 0
...

Sheet Task E "OC"
A1: Task "E" Other Costs:
A2: Itemized Travel Cost (10a)
A3: Please provide an itemized "travel" cost estimate for all travel costs applicable to this task
A4: Travel (10a)
A5: Type of Travel | C5: ATP or Non-ATP (select one) | D5: Quantity | E5: Units | F5: Cost $ | G5: ATP Total $ | H5: Non-ATP Total $
A6: 1 | G6: =IF(C6=List!$A$3, D6*F6, "") | H6: =IF(C6=List!$A$4, D6*F6, "")
A7: 2 | G7: =IF(C7=List!$A$3, D7*F7, "") | H7: =IF(C7=List!$A$4, D7*F7, "")
A8: 3 | G8: =IF(C8=List!$A$3, D8*F8, "") | H8: =IF(C8=List!$A$4, D8*F8, "")
A9: 4 | G9: =IF(C9=List!$A$3, D9*F9, "") | H9: =IF(C9=List!$A$4, D9*F9, "")
A10: 5 | G10: =IF(C10=List!$A$3, D10*F10, "") | H10: =IF(C10=List!$A$4, D10*F10, "")
A11: 6 | G11: =IF(C11=List!$A$3, D11*F11, "") | H11: =IF(C11=List!$A$4, D11*F11, "")
A12: 7 | G12: =IF(C12=List!$A$3, D12*F12, "") | H12: =IF(C12=List!$A$4, D12*F12, "")
A13: 8 | G13: =IF(C13=List!$A$3, D13*F13, "") | H13: =IF(C13=List!$A$4, D13*F13, "")
A14: 9 | G14: =IF(C14=List!$A$3, D14*F14, "") | H14: =IF(C14=List!$A$4, D14*F14, "")
A15: 10 | G15: =IF(C15=List!$A$3, D15*F15, "") | H15: =IF(C15=List!$A$4, D15*F15, "")
A16: 11 | G16: =IF(C16=List!$A$3, D16*F16, "") | H16: =IF(C16=List!$A$4, D16*F16, "")
A17: 12 | G17: =IF(C17=List!$A$3, D17*F17, "") | H17: =IF(C17=List!$A$4, D17*F17, "")
F18: Total: | G18: =SUM(G6:G17) -> 0 | H18: =SUM(H6:H17) -> 0
F19: Total Travel Cost: | H19: =SUM(G18:H18) -> 0
A21: Itemized Equipment Cost (10b)
A22: Please provide an itemized "equipment" cost estimate for all equipment costs applicable to this task
A23: Equipment (10b)
A24: Type of Equipment | D24: ATP or Non-ATP (select one) | E24: Quantity | F24: Cost $ | G24: ATP Total $ | H24: Non-ATP Total $
A25: 1 | G25: =IF(D25=List!$A$3, E25*F25, "") | H25: =IF(D25=List!$A$4, E25*F25, "")
A26: 2 | G26: =IF(D26=List!$A$3, E26*F26, "") | H26: =IF(D26=List!$A$4, E26*F26, "")
A27: 3 | G27: =IF(D27=List!$A$3, E27*F27, "") | H27: =IF(D27=List!$A$4, E27*F27, "")
A28: 4 | G28: =IF(D28=List!$A$3, E28*F28, "") | H28: =IF(D28=List!$A$4, E28*F28, "")
A29: 5 | G29: =IF(D29=List!$A$3, E29*F29, "") | H29: =IF(D29=List!$A$4, E29*F29, "")
A30: 6 | G30: =IF(D30=List!$A$3, E30*F30, "") | H30: =IF(D30=List!$A$4, E30*F30, "")
A31: 7 | G31: =IF(D31=List!$A$3, E31*F31, "") | H31: =IF(D31=List!$A$4, E31*F31, "")
A32: 8 | G32: =IF(D32=List!$A$3, E32*F32, "") | H32: =IF(D32=List!$A$4, E32*F32, "")
A33: 9 | G33: =IF(D33=List!$A$3, E33*F33, "") | H33: =IF(D33=List!$A$4, E33*F33, "")
A34: 10 | G34: =IF(D34=List!$A$3, E34*F34, "") | H34: =IF(D34=List!$A$4, E34*F34, "")
A35: 11 | G35: =IF(D35=List!$A$3, E35*F35, "") | H35: =IF(D35=List!$A$4, E35*F35, "")
A36: 12 | G36: =IF(D36=List!$A$3, E36*F36, "") | H36: =IF(D36=List!$A$4, E36*F36, "")
F37: Total: | G37: =SUM(G25:G36) -> 0 | H37: =SUM(H25:H36) -> 0
F38: Total Equipment Cost: | H38: =SUM(G37:H37) -> 0
A40: Itemized Supplies/Materials Cost (10c)
A41: Please provide an itemized "supplies/materials" cost estimate for all supplies/materials costs applicable to this task
A42: Supplies/Materials (10c)
...

Sheet Task F
A1: TASK "F" DETAIL
A2: Task Name (5a):
A3: Task Summary (5b):
B5: Start Date | C5: End Date | D5: Task Activities (6a): | H5: Deliverables (6b):
A6: 1
A7: 2
A8: 3
A9: 4
A10: 5
A11: 6
A12: 7
A13: 8
A14: 9
A15: 10
G16: Staff Costs (7):
C17: Staff Time (Agency) (7a): | E17: ATP or Non-ATP (select one) | G17: Staff Hours | H17: Rate Per Hour | I17: ATP Total $ | J17: Non-ATP Total $
A18: Party 1 - | I18: =IF(E18=List!$A$3,G18*H18, "") | J18: =IF(E18=List!$A$4,G18*H18, "")
A19: Party 2 - | I19: =IF(E19=List!$A$3,G19*H19, "") | J19: =IF(E19=List!$A$4,G19*H19, "")
A20: Party 3 - | I20: =IF(E20=List!$A$3,G20*H20, "") | J20: =IF(E20=List!$A$4,G20*H20, "")
A21: Party 4 - | I21: =IF(E21=List!$A$3,G21*H21, "") | J21: =IF(E21=List!$A$4,G21*H21, "")
A22: Party 5 - | I22: =IF(E22=List!$A$3,G22*H22, "") | J22: =IF(E22=List!$A$4,G22*H22, "")
A23: Party 6 - | I23: =IF(E23=List!$A$3,G23*H23, "") | J23: =IF(E23=List!$A$4,G23*H23, "")
H24: Subtotal Agency Costs: | I24: =SUM(I18:I23) -> 0 | J24: =SUM(J18:J23) -> 0
C25: Staff Time (Consultant) (7b): | E25: ATP or Non-ATP (select one) | G25: Staff Hours | H25: Rate Per Hour | I25: ATP Total $ | J25: Non-ATP Total $
A26: Party 1 - | I26: =IF(E26=List!$A$3,G26*H26, "") | J26: =IF(E26=List!$A$4,G26*H26, "")
A27: Party 2 - | I27: =IF(E27=List!$A$3,G27*H27, "") | J27: =IF(E27=List!$A$4,G27*H27, "")
A28: Party 3 - | I28: =IF(E28=List!$A$3,G28*H28, "") | J28: =IF(E28=List!$A$4,G28*H28, "")
H29: Subtotal Consultant Costs: | I29: =SUM(I26:I28) -> 0 | J29: =SUM(J26:J28) -> 0
H30: Total Staff Costs (Agency & Consultant) (7c): | I30: =SUM(I24+I29) -> 0 | J30: =SUM(J24+J29) -> 0
G31: Indirect Costs (8)
A32: Approved ICAP (8a)? | C32: FALSE | D32: If Approved ICAP box is checked, provide Rate (8b): | I32: ATP Indirect Costs (8c):
G33: Task Notes (9):
A39: Other Costs (10):
A40: You will not be able to fill in the following items. The totals for each "Other Costs" category listed below will automatically calculate from information entered in the itemized other costs tab:
I41: ATP Total $ | J41: Non-ATP Total $
A42: To fill out an itemized cost for each "Other Cost", click below: | G42: Travel (10a): | I42: ='Task F "OC"'!G18 -> 0 | J42: =SUM('Task F "OC"'!H18) -> 0
G43: Equipment (10b): | I43: ='Task F "OC"'!G37 -> 0 | J43: ='Task F "OC"'!H37 -> 0
G44: Supplies/Materials (10c): | I44: ='Task F "OC"'!G56 -> 0 | J44: ='Task F "OC"'!H56 -> 0
G45: Incentives (10d): | I45: ='Task F "OC"'!G75 -> 0 | J45: ='Task F "OC"'!H75 -> 0
G46: Other Direct Costs (10e): | I46: ='Task F "OC"'!G94 -> 0 | J46: ='Task F "OC"'!H94 -> 0
...

Sheet Task F "OC"
A1: Task "F" Other Costs:
A2: Itemized Travel Cost (10a)
A3: Please provide an itemized "travel" cost estimate for all travel costs applicable to this task
A4: Travel (10a)
A5: Type of Travel | C5: ATP or Non-ATP (select one) | D5: Quantity | E5: Units | F5: Cost $ | G5: ATP Total $ | H5: Non-ATP Total $
A6: 1 | G6: =IF(C6=List!$A$3, D6*F6, "") | H6: =IF(C6=List!$A$4, D6*F6, "")
A7: 2 | G7: =IF(C7=List!$A$3, D7*F7, "") | H7: =IF(C7=List!$A$4, D7*F7, "")
A8: 3 | G8: =IF(C8=List!$A$3, D8*F8, "") | H8: =IF(C8=List!$A$4, D8*F8, "")
A9: 4 | G9: =IF(C9=List!$A$3, D9*F9, "") | H9: =IF(C9=List!$A$4, D9*F9, "")
A10: 5 | G10: =IF(C10=List!$A$3, D10*F10, "") | H10: =IF(C10=List!$A$4, D10*F10, "")
A11: 6 | G11: =IF(C11=List!$A$3, D11*F11, "") | H11: =IF(C11=List!$A$4, D11*F11, "")
A12: 7 | G12: =IF(C12=List!$A$3, D12*F12, "") | H12: =IF(C12=List!$A$4, D12*F12, "")
A13: 8 | G13: =IF(C13=List!$A$3, D13*F13, "") | H13: =IF(C13=List!$A$4, D13*F13, "")
A14: 9 | G14: =IF(C14=List!$A$3, D14*F14, "") | H14: =IF(C14=List!$A$4, D14*F14, "")
A15: 10 | G15: =IF(C15=List!$A$3, D15*F15, "") | H15: =IF(C15=List!$A$4, D15*F15, "")
A16: 11 | G16: =IF(C16=List!$A$3, D16*F16, "") | H16: =IF(C16=List!$A$4, D16*F16, "")
A17: 12 | G17: =IF(C17=List!$A$3, D17*F17, "") | H17: =IF(C17=List!$A$4, D17*F17, "")
F18: Total: | G18: =SUM(G6:G17) -> 0 | H18: =SUM(H6:H17) -> 0
F19: Total Travel Cost: | H19: =SUM(G18:H18) -> 0
A21: Itemized Equipment Cost (10b)
A22: Please provide an itemized "equipment" cost estimate for all equipment costs applicable to this task
A23: Equipment (10b)
A24: Type of Equipment | D24: ATP or Non-ATP (select one) | E24: Quantity | F24: Cost $ | G24: ATP Total $ | H24: Non-ATP Total $
A25: 1 | G25: =IF(D25=List!$A$3, E25*F25, "") | H25: =IF(D25=List!$A$4, E25*F25, "")
A26: 2 | G26: =IF(D26=List!$A$3, E26*F26, "") | H26: =IF(D26=List!$A$4, E26*F26, "")
A27: 3 | G27: =IF(D27=List!$A$3, E27*F27, "") | H27: =IF(D27=List!$A$4, E27*F27, "")
A28: 4 | G28: =IF(D28=List!$A$3, E28*F28, "") | H28: =IF(D28=List!$A$4, E28*F28, "")
A29: 5 | G29: =IF(D29=List!$A$3, E29*F29, "") | H29: =IF(D29=List!$A$4, E29*F29, "")
A30: 6 | G30: =IF(D30=List!$A$3, E30*F30, "") | H30: =IF(D30=List!$A$4, E30*F30, "")
A31: 7 | G31: =IF(D31=List!$A$3, E31*F31, "") | H31: =IF(D31=List!$A$4, E31*F31, "")
A32: 8 | G32: =IF(D32=List!$A$3, E32*F32, "") | H32: =IF(D32=List!$A$4, E32*F32, "")
A33: 9 | G33: =IF(D33=List!$A$3, E33*F33, "") | H33: =IF(D33=List!$A$4, E33*F33, "")
A34: 10 | G34: =IF(D34=List!$A$3, E34*F34, "") | H34: =IF(D34=List!$A$4, E34*F34, "")
A35: 11 | G35: =IF(D35=List!$A$3, E35*F35, "") | H35: =IF(D35=List!$A$4, E35*F35, "")
A36: 12 | G36: =IF(D36=List!$A$3, E36*F36, "") | H36: =IF(D36=List!$A$4, E36*F36, "")
F37: Total: | G37: =SUM(G25:G36) -> 0 | H37: =SUM(H25:H36) -> 0
F38: Total Equipment Cost: | H38: =SUM(G37:H37) -> 0
A40: Itemized Supplies/Materials Cost (10c)
A41: Please provide an itemized "supplies/materials" cost estimate for all supplies/materials costs applicable to this task
A42: Supplies/Materials (10c)
...

Sheet Task G
A1: TASK "G" DETAIL
A2: Task Name (5a):
A3: Task Summary (5b):
B5: Start Date | C5: End Date | D5: Task Activities (6a): | H5: Deliverables (6b):
A6: 1
A7: 2
A8: 3
A9: 4
A10: 5
A11: 6
A12: 7
A13: 8
A14: 9
A15: 10
G16: Staff Costs (7):
C17: Staff Time (Agency) (7a): | E17: ATP or Non-ATP (select one) | G17: Staff Hours | H17: Rate Per Hour | I17: ATP Total $ | J17: Non-ATP Total $
A18: Party 1 - | I18: =IF(E18=List!$A$3,G18*H18, "") | J18: =IF(E18=List!$A$4,G18*H18, "")
A19: Party 2 - | I19: =IF(E19=List!$A$3,G19*H19, "") | J19: =IF(E19=List!$A$4,G19*H19, "")
A20: Party 3 - | I20: =IF(E20=List!$A$3,G20*H20, "") | J20: =IF(E20=List!$A$4,G20*H20, "")
A21: Party 4 - | I21: =IF(E21=List!$A$3,G21*H21, "") | J21: =IF(E21=List!$A$4,G21*H21, "")
A22: Party 5 - | I22: =IF(E22=List!$A$3,G22*H22, "") | J22: =IF(E22=List!$A$4,G22*H22, "")
A23: Party 6 - | I23: =IF(E23=List!$A$3,G23*H23, "") | J23: =IF(E23=List!$A$4,G23*H23, "")
H24: Subtotal Agency Costs: | I24: =SUM(I18:I23) -> 0 | J24: =SUM(J18:J23) -> 0
C25: Staff Time (Consultant) (7b): | E25: ATP or Non-ATP (select one) | G25: Staff Hours | H25: Rate Per Hour | I25: ATP Total $ | J25: Non-ATP Total $
A26: Party 1 - | I26: =IF(E26=List!$A$3,G26*H26, "") | J26: =IF(E26=List!$A$4,G26*H26, "")
A27: Party 2 - | I27: =IF(E27=List!$A$3,G27*H27, "") | J27: =IF(E27=List!$A$4,G27*H27, "")
A28: Party 3 - | I28: =IF(E28=List!$A$3,G28*H28, "") | J28: =IF(E28=List!$A$4,G28*H28, "")
H29: Subtotal Consultant Costs: | I29: =SUM(I26:I28) -> 0 | J29: =SUM(J26:J28) -> 0
H30: Total Staff Costs (Agency & Consultant) (7c): | I30: =SUM(I24+I29) -> 0 | J30: =SUM(J24+J29) -> 0
G31: Indirect Costs (8)
A32: Approved ICAP (8a)? | C32: FALSE | D32: If Approved ICAP box is checked, provide Rate (8b): | I32: ATP Indirect Costs (8c):
G33: Task Notes (9):
A39: Other Costs (10):
A40: You will not be able to fill in the following items. The totals for each "Other Costs" category listed below will automatically calculate from information entered in the itemized other costs section:
I41: ATP Total $ | J41: Non-ATP Total $
A42: To fill out an itemized cost for each "Other Cost", click below: | G42: Travel (10a): | I42: ='Task G "OC"'!G18 -> 0 | J42: =SUM('Task G "OC"'!H18) -> 0
G43: Equipment (10b): | I43: ='Task G "OC"'!G37 -> 0 | J43: ='Task G "OC"'!H37 -> 0
G44: Supplies/Materials (10c): | I44: ='Task G "OC"'!G56 -> 0 | J44: ='Task G "OC"'!H56 -> 0
G45: Incentives (10d): | I45: ='Task G "OC"'!G75 -> 0 | J45: ='Task G "OC"'!H75 -> 0
G46: Other Direct Costs (10e): | I46: ='Task G "OC"'!G94 -> 0 | J46: ='Task G "OC"'!H94 -> 0
...

Sheet Task G "OC"
A1: Task "G" Other Costs:
A2: Itemized Travel Cost (10a)
A3: Please provide an itemized "travel" cost estimate for all travel costs applicable to this task
A4: Travel (10a)
A5: Type of Travel | C5: ATP or Non-ATP (select one) | D5: Quantity | E5: Units | F5: Cost $ | G5: ATP Total $ | H5: Non-ATP Total $
A6: 1 | G6: =IF(C6=List!$A$3, D6*F6, "") | H6: =IF(C6=List!$A$4, D6*F6, "")
A7: 2 | G7: =IF(C7=List!$A$3, D7*F7, "") | H7: =IF(C7=List!$A$4, D7*F7, "")
A8: 3 | G8: =IF(C8=List!$A$3, D8*F8, "") | H8: =IF(C8=List!$A$4, D8*F8, "")
A9: 4 | G9: =IF(C9=List!$A$3, D9*F9, "") | H9: =IF(C9=List!$A$4, D9*F9, "")
A10: 5 | G10: =IF(C10=List!$A$3, D10*F10, "") | H10: =IF(C10=List!$A$4, D10*F10, "")
A11: 6 | G11: =IF(C11=List!$A$3, D11*F11, "") | H11: =IF(C11=List!$A$4, D11*F11, "")
A12: 7 | G12: =IF(C12=List!$A$3, D12*F12, "") | H12: =IF(C12=List!$A$4, D12*F12, "")
A13: 8 | G13: =IF(C13=List!$A$3, D13*F13, "") | H13: =IF(C13=List!$A$4, D13*F13, "")
A14: 9 | G14: =IF(C14=List!$A$3, D14*F14, "") | H14: =IF(C14=List!$A$4, D14*F14, "")
A15: 10 | G15: =IF(C15=List!$A$3, D15*F15, "") | H15: =IF(C15=List!$A$4, D15*F15, "")
A16: 11 | G16: =IF(C16=List!$A$3, D16*F16, "") | H16: =IF(C16=List!$A$4, D16*F16, "")
A17: 12 | G17: =IF(C17=List!$A$3, D17*F17, "") | H17: =IF(C17=List!$A$4, D17*F17, "")
F18: Total: | G18: =SUM(G6:G17) -> 0 | H18: =SUM(H6:H17) -> 0
F19: Total Travel Cost: | H19: =SUM(G18:H18) -> 0
A21: Itemized Equipment Cost (10b)
A22: Please provide an itemized "equipment" cost estimate for all equipment costs applicable to this task
A23: Equipment (10b)
A24: Type of Equipment | D24: ATP or Non-ATP (select one) | E24: Quantity | F24: Cost $ | G24: ATP Total $ | H24: Non-ATP Total $
A25: 1 | G25: =IF(D25=List!$A$3,E25*F25,"") | H25: =IF(D25=List!$A$4, E25*F25, "")
A26: 2 | G26: =IF(D26=List!$A$3,E26*F26,"") | H26: =IF(D26=List!$A$4, E26*F26, "")
A27: 3 | G27: =IF(D27=List!$A$3,E27*F27,"") | H27: =IF(D27=List!$A$4, E27*F27, "")
A28: 4 | G28: =IF(D28=List!$A$3,E28*F28,"") | H28: =IF(D28=List!$A$4, E28*F28, "")
A29: 5 | G29: =IF(D29=List!$A$3,E29*F29,"") | H29: =IF(D29=List!$A$4, E29*F29, "")
A30: 6 | G30: =IF(D30=List!$A$3,E30*F30,"") | H30: =IF(D30=List!$A$4, E30*F30, "")
A31: 7 | G31: =IF(D31=List!$A$3,E31*F31,"") | H31: =IF(D31=List!$A$4, E31*F31, "")
A32: 8 | G32: =IF(D32=List!$A$3,E32*F32,"") | H32: =IF(D32=List!$A$4, E32*F32, "")
A33: 9 | G33: =IF(D33=List!$A$3,E33*F33,"") | H33: =IF(D33=List!$A$4, E33*F33, "")
A34: 10 | G34: =IF(D34=List!$A$3,E34*F34,"") | H34: =IF(D34=List!$A$4, E34*F34, "")
A35: 11 | G35: =IF(D35=List!$A$3,E35*F35,"") | H35: =IF(D35=List!$A$4, E35*F35, "")
A36: 12 | G36: =IF(D36=List!$A$3,E36*F36,"") | H36: =IF(D36=List!$A$4, E36*F36, "")
F37: Total: | G37: =SUM(G25:G36) -> 0 | H37: =SUM(H25:H36) -> 0
F38: Total Equipment Cost: | H38: =SUM(G37:H37) -> 0
A40: Itemized Supplies/Materials Cost (10c)
A41: Please provide an itemized "supplies/materials" cost estimate for all supplies/materials costs applicable to this task
A42: Supplies/Materials (10c)
...

Sheet Task H
A1: TASK "H" DETAIL
A2: Task Name (5a):
A3: Task Summary (5b):
B5: Start Date | C5: End Date | D5: Task Activities (6a): | H5: Deliverables (6b):
A6: 1
A7: 2
A8: 3
A9: 4
A10: 5
A11: 6
A12: 7
A13: 8
A14: 9
A15: 10
G16: Staff Costs (7):
C17: Staff Time (Agency) (7a): | E17: ATP or Non-ATP (select one) | G17: Staff Hours | H17: Rate Per Hour | I17: ATP Total $ | J17: Non-ATP Total $
A18: Party 1 - | I18: =IF(E18=List!$A$3,G18*H18, "") | J18: =IF(E18=List!$A$4,G18*H18, "")
A19: Party 2 - | I19: =IF(E19=List!$A$3,G19*H19, "") | J19: =IF(E19=List!$A$4,G19*H19, "")
A20: Party 3 - | I20: =IF(E20=List!$A$3,G20*H20, "") | J20: =IF(E20=List!$A$4,G20*H20, "")
A21: Party 4 - | I21: =IF(E21=List!$A$3,G21*H21, "") | J21: =IF(E21=List!$A$4,G21*H21, "")
A22: Party 5 - | I22: =IF(E22=List!$A$3,G22*H22, "") | J22: =IF(E22=List!$A$4,G22*H22, "")
A23: Party 6 - | I23: =IF(E23=List!$A$3,G23*H23, "") | J23: =IF(E23=List!$A$4,G23*H23, "")
H24: Subtotal Agency Costs: | I24: =SUM(I18:I23) -> 0 | J24: =SUM(J18:J23) -> 0
C25: Staff Time (Consultant) (7b): | E25: ATP or Non-ATP (select one) | G25: Staff Hours | H25: Rate Per Hour | I25: ATP Total $ | J25: Non-ATP Total $
A26: Party 1 - | I26: =IF(E26=List!$A$3,G26*H26, "") | J26: =IF(E26=List!$A$4,G26*H26, "")
A27: Party 2 - | I27: =IF(E27=List!$A$3,G27*H27, "") | J27: =IF(E27=List!$A$4,G27*H27, "")
A28: Party 3 - | I28: =IF(E28=List!$A$3,G28*H28, "") | J28: =IF(E28=List!$A$4,G28*H28, "")
H29: Subtotal Consultant Costs: | I29: =SUM(I26:I28) -> 0 | J29: =SUM(J26:J28) -> 0
H30: Total Staff Costs (Agency & Consultant) (7c): | I30: =SUM(I24+I29) -> 0 | J30: =SUM(J24+J29) -> 0
G31: Indirect Costs (8)
A32: Approved ICAP (8a)? | C32: FALSE | D32: If Approved ICAP box is checked, provide Rate (8b): | I32: ATP Indirect Costs (8c):
G33: Task Notes (9):
A39: Other Costs (10):
A40: You will not be able to fill in the following items. The totals for each "Other Costs" category listed below will automatically calculate from information entered in the itemized other costs section:
I41: ATP Total $ | J41: Non-ATP Total $
A42: To fill out an itemized cost for each "Other Cost", click below: | G42: Travel (10a): | I42: ='Task H "OC"'!G18 -> 0 | J42: =SUM('Task H "OC"'!H18) -> 0
G43: Equipment (10b): | I43: ='Task H "OC"'!G37 -> 0 | J43: ='Task H "OC"'!H37 -> 0
G44: Supplies/Materials (10c): | I44: ='Task H "OC"'!G56 -> 0 | J44: ='Task H "OC"'!H56 -> 0
G45: Incentives (10d): | I45: ='Task H "OC"'!G75 -> 0 | J45: ='Task H "OC"'!H75 -> 0
G46: Other Direct Costs (10e): | I46: ='Task H "OC"'!G94 -> 0 | J46: ='Task H "OC"'!H94 -> 0
...

Sheet Task H "OC"
A1: Task "H" Other Costs:
A2: Itemized Travel Cost (10a)
A3: Please provide an itemized "travel" cost estimate for all travel costs applicable to this task
A4: Travel (10a)
A5: Type of Travel | C5: ATP or Non-ATP (select one) | D5: Quantity | E5: Units | F5: Cost $ | G5: ATP Total $ | H5: Non-ATP Total $
A6: 1 | G6: =IF(C6=List!$A$3, D6*F6, "") | H6: =IF(C6=List!$A$4, D6*F6, "")
A7: 2 | G7: =IF(C7=List!$A$3, D7*F7, "") | H7: =IF(C7=List!$A$4, D7*F7, "")
A8: 3 | G8: =IF(C8=List!$A$3, D8*F8, "") | H8: =IF(C8=List!$A$4, D8*F8, "")
A9: 4 | G9: =IF(C9=List!$A$3, D9*F9, "") | H9: =IF(C9=List!$A$4, D9*F9, "")
A10: 5 | G10: =IF(C10=List!$A$3, D10*F10, "") | H10: =IF(C10=List!$A$4, D10*F10, "")
A11: 6 | G11: =IF(C11=List!$A$3, D11*F11, "") | H11: =IF(C11=List!$A$4, D11*F11, "")
A12: 7 | G12: =IF(C12=List!$A$3, D12*F12, "") | H12: =IF(C12=List!$A$4, D12*F12, "")
A13: 8 | G13: =IF(C13=List!$A$3, D13*F13, "") | H13: =IF(C13=List!$A$4, D13*F13, "")
A14: 9 | G14: =IF(C14=List!$A$3, D14*F14, "") | H14: =IF(C14=List!$A$4, D14*F14, "")
A15: 10 | G15: =IF(C15=List!$A$3, D15*F15, "") | H15: =IF(C15=List!$A$4, D15*F15, "")
A16: 11 | G16: =IF(C16=List!$A$3, D16*F16, "") | H16: =IF(C16=List!$A$4, D16*F16, "")
A17: 12 | G17: =IF(C17=List!$A$3, D17*F17, "") | H17: =IF(C17=List!$A$4, D17*F17, "")
F18: Total: | G18: =SUM(G6:G17) -> 0 | H18: =SUM(H6:H17) -> 0
F19: Total Travel Cost: | H19: =SUM(G18:H18) -> 0
A21: Itemized Equipment Cost (10b)
A22: Please provide an itemized "equipment" cost estimate for all equipment costs applicable to this task
A23: Equipment (10b)
A24: Type of Equipment | D24: ATP or Non-ATP (select one) | E24: Quantity | F24: Cost $ | G24: ATP Total $ | H24: Non-ATP Total $
A25: 1 | G25: =IF(D25=List!$A$3, E25*F25, "") | H25: =IF(D25=List!$A$4, E25*F25, "")
A26: 2 | G26: =IF(D26=List!$A$3, E26*F26, "") | H26: =IF(D26=List!$A$4, E26*F26, "")
A27: 3 | G27: =IF(D27=List!$A$3, E27*F27, "") | H27: =IF(D27=List!$A$4, E27*F27, "")
A28: 4 | G28: =IF(D28=List!$A$3, E28*F28, "") | H28: =IF(D28=List!$A$4, E28*F28, "")
A29: 5 | G29: =IF(D29=List!$A$3, E29*F29, "") | H29: =IF(D29=List!$A$4, E29*F29, "")
A30: 6 | G30: =IF(D30=List!$A$3, E30*F30, "") | H30: =IF(D30=List!$A$4, E30*F30, "")
A31: 7 | G31: =IF(D31=List!$A$3, E31*F31, "") | H31: =IF(D31=List!$A$4, E31*F31, "")
A32: 8 | G32: =IF(D32=List!$A$3, E32*F32, "") | H32: =IF(D32=List!$A$4, E32*F32, "")
A33: 9 | G33: =IF(D33=List!$A$3, E33*F33, "") | H33: =IF(D33=List!$A$4, E33*F33, "")
A34: 10 | G34: =IF(D34=List!$A$3, E34*F34, "") | H34: =IF(D34=List!$A$4, E34*F34, "")
A35: 11 | G35: =IF(D35=List!$A$3, E35*F35, "") | H35: =IF(D35=List!$A$4, E35*F35, "")
A36: 12 | G36: =IF(D36=List!$A$3, E36*F36, "") | H36: =IF(D36=List!$A$4, E36*F36, "")
F37: Total: | G37: =SUM(G25:G36) -> 0 | H37: =SUM(H25:H36) -> 0
F38: Total Equipment Cost: | H38: =SUM(G37:H37) -> 0
A40: Itemized Supplies/Materials Cost (10c)
A41: Please provide an itemized "supplies/materials" cost estimate for all supplies/materials costs applicable to this task
A42: Supplies/Materials (10c)
...

Sheet Task I
A1: TASK "I" DETAIL
A2: Task Name (5a):
A3: Task Summary (5b):
B5: Start Date | C5: End Date | D5: Task Activities (6a): | H5: Deliverables (6b):
A6: 1
A7: 2
A8: 3
A9: 4
A10: 5
A11: 6
A12: 7
A13: 8
A14: 9
A15: 10
G16: Staff Costs (7):
C17: Staff Time (Agency) (7a): | E17: ATP or Non-ATP (select one) | G17: Staff Hours | H17: Rate Per Hour | I17: ATP Total $ | J17: Non-ATP Total $
A18: Party 1 - | I18: =IF(E18=List!$A$3,G18*H18, "") | J18: =IF(E18=List!$A$4,G18*H18, "")
A19: Party 2 - | I19: =IF(E19=List!$A$3,G19*H19, "") | J19: =IF(E19=List!$A$4,G19*H19, "")
A20: Party 3 - | I20: =IF(E20=List!$A$3,G20*H20, "") | J20: =IF(E20=List!$A$4,G20*H20, "")
A21: Party 4 - | I21: =IF(E21=List!$A$3,G21*H21, "") | J21: =IF(E21=List!$A$4,G21*H21, "")
A22: Party 5 - | I22: =IF(E22=List!$A$3,G22*H22, "") | J22: =IF(E22=List!$A$4,G22*H22, "")
A23: Party 6 - | I23: =IF(E23=List!$A$3,G23*H23, "") | J23: =IF(E23=List!$A$4,G23*H23, "")
H24: Subtotal Agency Costs: | I24: =SUM(I18:I23) -> 0 | J24: =SUM(J18:J23) -> 0
C25: Staff Time (Consultant) (7b): | E25: ATP or Non-ATP (select one) | G25: Staff Hours | H25: Rate Per Hour | I25: ATP Total $ | J25: Non-ATP Total $
A26: Party 1 - | I26: =IF(E26=List!$A$3,G26*H26, "") | J26: =IF(E26=List!$A$4,G26*H26, "")
A27: Party 2 - | I27: =IF(E27=List!$A$3,G27*H27, "") | J27: =IF(E27=List!$A$4,G27*H27, "")
A28: Party 3 - | I28: =IF(E28=List!$A$3,G28*H28, "") | J28: =IF(E28=List!$A$4,G28*H28, "")
H29: Subtotal Consultant Costs: | I29: =SUM(I26:I28) -> 0 | J29: =SUM(J26:J28) -> 0
H30: Total Staff Costs (Agency & Consultant) (7c): | I30: =SUM(I24+I29) -> 0 | J30: =SUM(J24+J29) -> 0
G31: Indirect Costs (8)
A32: Approved ICAP (8a)? | C32: FALSE | D32: If Approved ICAP box is checked, provide Rate (8b): | I32: ATP Indirect Costs (8c):
G33: Task Notes (9):
A39: Other Costs (10):
A40: You will not be able to fill in the following items. The totals for each "Other Costs" category listed below will automatically calculate from information entered in the itemized other costs section:
I41: ATP Total $ | J41: Non-ATP Total $
A42: To fill out an itemized cost for each "Other Cost", click below: | G42: Travel (10a): | I42: ='Task I "OC"'!G18 -> 0 | J42: =SUM('Task I "OC"'!H18) -> 0
G43: Equipment (10b): | I43: ='Task I "OC"'!G37 -> 0 | J43: ='Task I "OC"'!H37 -> 0
G44: Supplies/Materials (10c): | I44: ='Task I "OC"'!G56 -> 0 | J44: ='Task I "OC"'!H56 -> 0
G45: Incentives (10d): | I45: ='Task I "OC"'!G75 -> 0 | J45: ='Task I "OC"'!H75 -> 0
G46: Other Direct Costs (10e): | I46: ='Task I "OC"'!G94 -> 0 | J46: ='Task I "OC"'!H94 -> 0
...

Sheet Task I "OC"
A1: Task "I" Other Costs:
A2: Itemized Travel Cost (10a)
A3: Please provide an itemized "travel" cost estimate for all travel costs applicable to this task
A4: Travel (10a)
A5: Type of Travel | C5: ATP or Non-ATP (select one) | D5: Quantity | E5: Units | F5: Cost $ | G5: ATP Total $ | H5: Non-ATP Total $
A6: 1 | G6: =IF(C6=List!$A$3, D6*F6, "") | H6: =IF(C6=List!$A$4, D6*F6, "")
A7: 2 | G7: =IF(C7=List!$A$3, D7*F7, "") | H7: =IF(C7=List!$A$4, D7*F7, "")
A8: 3 | G8: =IF(C8=List!$A$3, D8*F8, "") | H8: =IF(C8=List!$A$4, D8*F8, "")
A9: 4 | G9: =IF(C9=List!$A$3, D9*F9, "") | H9: =IF(C9=List!$A$4, D9*F9, "")
A10: 5 | G10: =IF(C10=List!$A$3, D10*F10, "") | H10: =IF(C10=List!$A$4, D10*F10, "")
A11: 6 | G11: =IF(C11=List!$A$3, D11*F11, "") | H11: =IF(C11=List!$A$4, D11*F11, "")
A12: 7 | G12: =IF(C12=List!$A$3, D12*F12, "") | H12: =IF(C12=List!$A$4, D12*F12, "")
A13: 8 | G13: =IF(C13=List!$A$3, D13*F13, "") | H13: =IF(C13=List!$A$4, D13*F13, "")
A14: 9 | G14: =IF(C14=List!$A$3, D14*F14, "") | H14: =IF(C14=List!$A$4, D14*F14, "")
A15: 10 | G15: =IF(C15=List!$A$3, D15*F15, "") | H15: =IF(C15=List!$A$4, D15*F15, "")
A16: 11 | G16: =IF(C16=List!$A$3, D16*F16, "") | H16: =IF(C16=List!$A$4, D16*F16, "")
A17: 12 | G17: =IF(C17=List!$A$3, D17*F17, "") | H17: =IF(C17=List!$A$4, D17*F17, "")
F18: Total: | G18: =SUM(G6:G17) -> 0 | H18: =SUM(H6:H17) -> 0
F19: Total Travel Cost: | H19: =SUM(G18:H18) -> 0
A21: Itemized Equipment Cost (10b)
A22: Please provide an itemized "equipment" cost estimate for all equipment costs applicable to this task
A23: Equipment (10b)
A24: Type of Equipment | D24: ATP or Non-ATP (select one) | E24: Quantity | F24: Cost $ | G24: ATP Total $ | H24: Non-ATP Total $
A25: 1 | G25: =IF(D25=List!$A$3, E25*F25, "") | H25: =IF(D25=List!$A$4, E25*F25, "")
A26: 2 | G26: =IF(D26=List!$A$3, E26*F26, "") | H26: =IF(D26=List!$A$4, E26*F26, "")
A27: 3 | G27: =IF(D27=List!$A$3, E27*F27, "") | H27: =IF(D27=List!$A$4, E27*F27, "")
A28: 4 | G28: =IF(D28=List!$A$3, E28*F28, "") | H28: =IF(D28=List!$A$4, E28*F28, "")
A29: 5 | G29: =IF(D29=List!$A$3, E29*F29, "") | H29: =IF(D29=List!$A$4, E29*F29, "")
A30: 6 | G30: =IF(D30=List!$A$3, E30*F30, "") | H30: =IF(D30=List!$A$4, E30*F30, "")
A31: 7 | G31: =IF(D31=List!$A$3, E31*F31, "") | H31: =IF(D31=List!$A$4, E31*F31, "")
A32: 8 | G32: =IF(D32=List!$A$3, E32*F32, "") | H32: =IF(D32=List!$A$4, E32*F32, "")
A33: 9 | G33: =IF(D33=List!$A$3, E33*F33, "") | H33: =IF(D33=List!$A$4, E33*F33, "")
A34: 10 | G34: =IF(D34=List!$A$3, E34*F34, "") | H34: =IF(D34=List!$A$4, E34*F34, "")
A35: 11 | G35: =IF(D35=List!$A$3, E35*F35, "") | H35: =IF(D35=List!$A$4, E35*F35, "")
A36: 12 | G36: =IF(D36=List!$A$3, E36*F36, "") | H36: =IF(D36=List!$A$4, E36*F36, "")
F37: Total: | G37: =SUM(G25:G36) -> 0 | H37: =SUM(H25:H36) -> 0
F38: Total Equipment Cost: | H38: =SUM(G37:H37) -> 0
A40: Itemized Supplies/Materials Cost (10c)
A41: Please provide an itemized "supplies/materials" cost estimate for all supplies/incentives costs applicable to this task
A42: Supplies/Materials (10c)
...

Sheet Task J
A1: TASK "J" DETAIL
A2: Task Name (5a):
A3: Task Summary (5b):
B5: Start Date | C5: End Date | D5: Task Activities (6a): | H5: Deliverables (6b):
A6: 1
A7: 2
A8: 3
A9: 4
A10: 5
A11: 6
A12: 7
A13: 8
A14: 9
A15: 10
G16: Staff Costs (7):
C17: Staff Time (Agency) (7a): | E17: ATP or Non-ATP (select one) | G17: Staff Hours | H17: Rate Per Hour | I17: ATP Total $ | J17: Non-ATP Total $
A18: Party 1 - | I18: =IF(E18=List!$A$3,G18*H18, "") | J18: =IF(E18=List!$A$4,G18*H18, "")
