{"text_format":"1","workbook":"xlsx","n_sheets":1,"sheets":["ADA CONSTRUCTION DEC 2021 CAA"],"not_rendered":{"charts":0,"images":0,"macros":1,"external_links":1,"defined_names":0,"comments":1,"pivot_tables":0},"unopened":[],"bounds":{"document_bytes":16777216,"sheet_cells":100000,"rows_first":2000,"rows_last":500,"rows_between":2000,"halvings":0,"cell_chars":16384,"cell_head_chars":4096},"cells_cut":0,"cells_raw":0,"read":"whole","date_system":"1900"}

{"sheet":"ADA CONSTRUCTION DEC 2021 CAA","index":0,"n_rows":184,"n_cols":10,"rows_kept":184,"cut":false,"hidden":false,"merged":[]}
["DEPARTMENT OF TRANSPORTATION - CALTRANS"]
["DBE Commitment at Award (CAA) on Federally Funded Major Construction Contracts - October 1, 2021 - December 31, 2021"]
[]
["Total Award Amount Year-to-Date (YTD)",null,null,"Total DBE Commitment Amount YTD",null,null,"Total Prime Contracts Awarded YTD"]
[324201171.97000003,null,null,{"$f":"SUM(C7:C18)","v":64131156.400000006},null,null,{"$f":"SUM(C165:C181,J165:J181,F165:F181)","v":42}]
["Groups",null,"Commitment Dollars YTD","Firms YTD","Contracts YTD","% of Contracts","% of DBE $","% of Total $"]
["Hispanic American Male",null,{"$f":"SUMIF(D30:D75,\"m\", C30:C75)","v":14415111.68},{"$f":"COUNTIF(D30:D75,\"M\")","v":31},{"$f":"SUMIF(D30:D75,\"M\",E30:E75)","v":49},{"$f":"E7/E20","v":0.24873096446700507},{"$f":"C7/D5","v":0.22477548338735395},{"$f":"C7/A5","v":4.4463478007827503E-2}]
["Hispanic American Female",null,{"$f":"SUMIF(D30:D75,\"F\", C30:C75)","v":10523194.539999999},{"$f":"COUNTIF(D30:D75,\"F\")","v":13},{"$f":"SUMIF(D30:D75,\"F\",E30:E75)","v":25},{"$f":"E8/E20","v":0.12690355329949238},{"$f":"C8/D5","v":0.16408864475114934},{"$f":"C8/A5","v":3.2458841761909989E-2}]
["African American Male",null,{"$f":"SUMIF(D90:D98,\"m\", C90:C98)","v":1693530.9500000002},{"$f":"COUNTIF(D90:D98,\"M\")","v":6},{"$f":"SUMIF(D90:D98,\"M\",E90:E98)","v":9},{"$f":"E9/E20","v":4.5685279187817257E-2},{"$f":"C9/D5","v":2.640730411029981E-2},{"$f":"C9/A5","v":5.2237039727811695E-3}]
["African American Female",null,{"$f":"SUMIF(D90:D98,\"F\", C90:C98)","v":289454.8},{"$f":"COUNTIF(D90:D98,\"F\")","v":2},{"$f":"SUMIF(D90:D98,\"F\",E90:E98)","v":5},{"$f":"E10/E20","v":2.5380710659898477E-2},{"$f":"C10/D5","v":4.5134816873503309E-3},{"$f":"C10/A5","v":8.9282465649687625E-4}]
["Asian Pacific Male",null,{"$f":"SUMIF(D111:D119,\"m\", C111:C119)","v":6031629.2000000002},{"$f":"COUNTIF(D111:D119,\"M\")","v":3},{"$f":"SUMIF(D111:D119,\"M\",E111:E119)","v":6},{"$f":"E11/E20","v":3.0456852791878174E-2},{"$f":"C11/D5","v":9.4051464819680061E-2},{"$f":"C11/A5","v":1.8604587896302045E-2}]
["Asian Pacific Female",null,{"$f":"SUMIF(D111:D119,\"F\", C111:C119)","v":593771.09000000008},{"$f":"COUNTIF(D111:D119,\"F\")","v":4},{"$f":"SUMIF(D111:D119,\"F\",E111:E119)","v":10},{"$f":"E12/E20","v":5.0761421319796954E-2},{"$f":"C12/D5","v":9.258699255265573E-3},{"$f":"C12/A5","v":1.8314896469743321E-3}]
["Subcontinent Asian Male",null,{"$f":"SUMIF(D102:D108,\"m\", C102:C108)","v":11983239.359999999},{"$f":"COUNTIF(D102:D108,\"M\")","v":5},{"$f":"SUMIF(D102:D108,\"M\",E102:E108)","v":7},{"$f":"E13/E20","v":3.553299492385787E-2},{"$f":"C13/D5","v":0.18685518915732507},{"$f":"C13/A5","v":3.6962356697183285E-2}]
["Subcontinent Asian Female",null,{"$f":"SUMIF(D102:D108,\"F\", C102:C108)","v":62125},{"$f":"COUNTIF(D102:D108,\"F\")","v":1},{"$f":"SUMIF(D102:D108,\"F\",E102:E108)","v":1},{"$f":"E14/E20","v":5.076142131979695E-3},{"$f":"C14/D5","v":9.6871791321698349E-4},{"$f":"C14/A5","v":1.9162484707411465E-4}]
["Native American Male",null,{"$f":"SUMIF(D78:D87,\"m\", C78:C87)","v":3362496.3800000004},{"$f":"COUNTIF(D78:D87,\"M\")","v":7},{"$f":"SUMIF(D78:D87,\"M\",E78:E87)","v":14},{"$f":"E15/E20","v":7.1065989847715741E-2},{"$f":"C15/D5","v":5.2431556964720509E-2},{"$f":"C15/A5","v":1.0371635486595801E-2}]
["Native American Female",null,{"$f":"SUMIF(D78:D87,\"F\", C78:C87)","v":1080000},{"$f":"COUNTIF(D78:D87,\"F\")","v":1},{"$f":"SUMIF(D78:D87,\"F\",E78:E87)","v":1},{"$f":"E16/E20","v":5.076142131979695E-3},{"$f":"C16/D5","v":1.6840488471216775E-2},{"$f":"C16/A5","v":3.3312649471234418E-3}]
["Non Minority Women",null,{"$f":"SUMIF(D127:D159,\"F\", C127:C159)","v":14096603.400000002},{"$f":"COUNTIF(D127:D159,\"F\")","v":32},{"$f":"SUMIF(D127:D159,\"F\",E127:E159)","v":70},{"$f":"E17/E20","v":0.35532994923857869},{"$f":"C17/D5","v":0.21980896948242151},{"$f":"C17/A5","v":4.3481037759186235E-2}]
["Other Men",null,{"$f":"SUMIF(D122:D124,\"m\", C122:C124)","v":0},{"$f":"COUNTIF(D122:D124,\"M\")","v":0},{"$f":"SUMIF(D122:D124,\"M\",E122:E124)","v":0},{"$f":"E18/E20","v":0},{"$f":"C18/D5","v":0},{"$f":"C18/A5","v":0}]
[null,null,null,null,null,{"$f":"E19/E20","v":0},{"$f":"C19/D5","v":0},{"$f":"C19/A5","v":0}]
["Total  ",null,null,{"$f":"SUM(D7:D19)","v":105},{"$f":"SUM(E7:E19)","v":197}]
["Total Primes Contractors",null,{"$f":"G5","v":42}]
[]
["Yellow = DBEs",null,"Green = Trucking",{"$f":"COUNTIF(B30:B160,43)","v":14},{"$f":"SUM(SUMIF(B29:B75,\"43\",C29:C75),SUMIF(B77:B124,\"43\",C77:C124),SUMIF(B126:B160,\"43\",C126:C160))","v":11922948.65},{"$f":"E23/D5","v":0.18591507341040242}]
["Red = Prime Contractor",null,"Blue = Supplier",{"$f":"COUNTIF(B30:B160,33)","v":17},{"$f":"SUM(SUMIF(B30:B75,\"33\",C30:C75),SUMIF(B78:B124,\"33\",C78:C124),SUMIF(B131:B160,\"33\",C131:C160))","v":17236537.560000002},{"$f":"E24/D5","v":0.26877010376192129}]
["Red Italic = DBE firm as Prime",null,"White = Other",{"$f":"COUNTIF(B30:B160,-4142)","v":55},{"$f":"D5-(E23+E24)","v":34971670.190000005},{"$f":"E25/D5","v":0.54531482282767629}]
["BOLD = women"]
["* = Used both as Trucking & Supplier"]
[]
["Hispanic American","Column1","Dollars","M/F","Contract","Contract #","Prime","Prime Name","Districts"]
["ABSL CONSTRUCTION",-4142,{"$f":"'[1]Construction Worksheet'!G12","v":372810},"M",5,{"$f":"fetchcomment(E30)","v":"03-0H8304\n03-1H18U4\n05-1J4804\n08-1H8304\n05-1M3704"},4,{"$f":"fetchcomment(G30)","v":"MARTIN BROTHERS CONSTRUCTION\nTEICHERT CONSTRUCTGION\nGRANITE ROCK COMPANY\nGRANITE CONSTRUCTION COMPANY"},"3,5,8"]
["AUSTIN ENTERPRISE",-4142,{"$f":"'[1]Construction Worksheet'!C8","v":227969.69},"F",2,{"$f":"fetchcomment(E31)","v":"03-1H18U4\n05-1J4804"},2,{"$f":"fetchcomment(G31)","v":"TEICHERT CONSTRUCTION\nGRANITE ROCK COMPANY"},"3,5"]
["C & N REINFORCING INC",-4142,{"$f":"'[1]Construction Worksheet'!G17","v":659443},"M",1,{"$f":"fetchcomment(E32)","v":"01-0B5304"},1,{"$f":"fetchcomment(G32)","v":"MERCER FRASER COMPANY"},1]
["CALI CONSTRUCTION",-4142,{"$f":"'[1]Construction Worksheet'!G26","v":606500},"M",1,{"$f":"fetchcomment(E33)","v":"11-411804"},1,{"$f":"fetchcomment(G33)","v":"PAL GENERAL ENGINEERING INC"},11]
["CENTRAL COAST TRAFFIC SAFETY INC",-4142,{"$f":"'[1]Construction Worksheet'!G33","v":404753},"M",2,{"$f":"fetchcomment(E34)","v":"05-1G9604\n05-1M3704"},2,{"$f":"fetchcomment(G34)","v":"LEE WILSON ELECTRIC COMPANY INC\nGRANITE CONSTRUCTION COMPANY"},5]
["D.B. ELECTRIC INC",-4142,{"$f":"'[1]Construction Worksheet'!G39","v":475418},"M",1,{"$f":"fetchcomment(E35)","v":"12-0H0474"},1,{"$f":"fetchcomment(G35)","v":"SECURITY PAVING COMPANY INC"},12]
["D.C. DRILLING INC",-4142,{"$f":"'[1]Construction Worksheet'!G47","v":382300},"M",2,{"$f":"fetchcomment(E36)","v":"06-0V7804\n07-359604"},2,{"$f":"fetchcomment(G36)","v":"ALDRIDGE ELECTRIC INC\nCOMET ELECTRIC INC\n"},"6,7"]
["DE LA FUENTE CONSTRUCTION",-4142,{"$f":"'[1]Construction Worksheet'!G52","v":349999.65},"M",1,{"$f":"fetchcomment(E37)","v":"11-430604"},1,{"$f":"fetchcomment(G37)","v":"HAZARD CONSTRUCTION ENGR LLC"},11]
["DELTA BAY CONSULTANTS",-4142,{"$f":"'[1]Construction Worksheet'!G58","v":2400},"M",2,{"$f":"fetchcomment(E38)","v":"05-1J4804\n07-329804"},2,{"$f":"fetchcomment(G38)","v":"GRANITE ROCK COMPANY\nPETERSON CHASE ENGINEERING CONSTRUCTION"},"5,7"]
["DLR PLANNING",-4142,{"$f":"'[1]Construction Worksheet'!C14","v":316856.26},"F",1,{"$f":"fetchcomment(E39)","v":"01-0B5304"},1,{"$f":"fetchcomment(G39)","v":"MERCER-FRASER COMPANY"},1]
["DON MAHAFFEY DRILLING COMPANY",-4142,{"$f":"'[1]Construction Worksheet'!C49","v":398765},"F",1,{"$f":"fetchcomment(E40)","v":"05-1K0504"},1,{"$f":"fetchcomment(G40)","v":"GORDON N BALL INC"},5]
["DOUBLE M TRUCKING INC",43,{"$f":"'[1]Construction Worksheet'!G65","v":4589986.6500000004},"M",3,{"$f":"fetchcomment(E41)","v":"03-0H6504\n03-1H18U4\n03-4F38U4"},2,{"$f":"fetchcomment(G41)","v":"TEICHERT & SONS DBA TEICHERT CONSTRUCTION\nDESILVA GATES CONSTRUCTION"},3]
["DRAGON MATERIAL TRANSPORT",33,{"$f":"'[1]Construction Worksheet'!C26","v":4861824},"F",3,{"$f":"fetchcomment(E42)","v":"03-0H8304\n03-4F38U4\n05-1J4804"},3,{"$f":"fetchcomment(G42)","v":"MARTIN BROTHERS CONSTRUCTION\nDESILVA GATES CONSTRUCTION LP\nGRANITE ROCK COMPANY"},"3,5"]
["DRS REBAR INC",-4142,{"$f":"'[1]Construction Worksheet'!G70","v":88412},"M",2,{"$f":"fetchcomment(E43)","v":"12-0H0474\n08-1J2004"},1,{"$f":"fetchcomment(G43)","v":"SECURITY PAVING COMPANY INC"},"8,12"]
["EIGHTEEN TRUCKING",43,{"$f":"'[1]Construction Worksheet'!C54","v":37465},"F",1,{"$f":"fetchcomment(E44)","v":"05-1K0604"},1,{"$f":"fetchcomment(G44)","v":"GORDON N BALL INC"},5]
["FLASH TRAFFIC",-4142,{"$f":"'[1]Construction Worksheet'!C59","v":8952},"F",1,{"$f":"fetchcomment(E45)","v":"05-1K0604"},1,{"$f":"fetchcomment(G45)","v":"GORDON N BALL INC"},5]
["FULL TRAFFIC MAINTENANCE INC",33,{"$f":"'[1]Construction Worksheet'!G78","v":681683.32000000007},"M",3,{"$f":"fetchcomment(E46)","v":"11-430014\n08-1H8304\n07-329804"},3,{"$f":"fetchcomment(G46)","v":"RAL INVESTMENT CORPORATION DBA  SILVERSTRAND CONSTRUCTION\nGRANITE CONSTRUCTION COMPANY\nPETERSON-CHASE GENERAL ENGINEERING CONSTRUCTION"},"7,8,11"]
["G & F CONCRETE CUTTING",-4142,{"$f":"'[1]Construction Worksheet'!C64","v":9212},"F",1,{"$f":"fetchcomment(E47)","v":"08-1J2004"},1,{"$f":"fetchcomment(G47)","v":"SECURITY PAVING COMPANY INC"},8]
["G & G ELECTRIC",null,{"$f":"'[1]Construction Worksheet'!G84","v":247300},"M",1,{"$f":"fetchcomment(E48)","v":"07-325304"},1,{"$f":"fetchcomment(G48)","v":"POWELL CONSTRUCTORS INC\n"},7]
["GOLDEN BAY FENCE ",null,{"$f":"'[1]Construction Worksheet'!G92","v":242035},"M",1,{"$f":"fetchcomment(E49)","v":"10-1C7904"},1,{"$f":"fetchcomment(G49)","v":"WALSH CONSTRUCTION COMPANY "},10]
["HER-CON CONSTRUCTION",null,{"$f":"'[1]Construction Worksheet'!G99","v":146484},"M",1,{"$f":"fetchcomment(E50)","v":"07-359604"},1,{"$f":"fetchcomment(G50)","v":"COMET ELECTRIC INC"},7]
["KODIAK TRUCKING",null,{"$f":"'[1]Construction Worksheet'!G108","v":561658},"M",1,{"$f":"fetchcomment(E51)","v":"10-1C7904"},1,{"$f":"fetchcomment(G51)","v":"WALSH CONSTRUCTION COMPANY "},10]
["LA FIRMA",-4142,{"$f":"'[1]Construction Worksheet'!G117","v":12450},"M",2,{"$f":"fetchcomment(E52)","v":"05-1J4804\n07-329804"},2,{"$f":"fetchcomment(G52)","v":"GRANITE ROCK COMPANY\nPETERSON-CHASE GENERAL ENGINEERING CONSTRUCTION"},"5,7"]
["LOGISTICAL ENTERPRISES",33,{"$f":"'[1]Construction Worksheet'!C72","v":1348610.54},"F",3,{"$f":"fetchcomment(E53)","v":"04-0K6804\n05-1J4804\n10-1C7904"},3,{"$f":"fetchcomment(G53)","v":"PACIFIC INFRASTRUCTURE CONSTRUCTION LLC\nGRANITE ROCK COMPANY\nWALSH CONSTRUCTION COMPANY"},"4,5,10"]
["LONE STAR LANDSCAPE",-4142,{"$f":"'[1]Construction Worksheet'!G124","v":31855},"M",2,{"$f":"fetchcomment(E54)","v":"04-0K6704\n04-2K8204"},2,{"$f":"fetchcomment(G54)","v":"REDGWICK CONSTRUCTION CO \nFBD VANGUARD CONSTRUCTION INC"},4]
["M&S ENVIRONMENTAL LANDSCAPES",33,{"$f":"'[1]Construction Worksheet'!G130","v":244530},"M",1,{"$f":"fetchcomment(E55)","v":"03-0H8304"},1,{"$f":"fetchcomment(G55)","v":"MARTIN BROTHERS CONSTRUCTION"},3]
["MANERI TRAFFIC CONTROL",-4142,{"$f":"'[1]Construction Worksheet'!C77","v":796370.75},"F",2,{"$f":"fetchcomment(E56)","v":"12-0H0474\n08-1J2004"},1,{"$f":"fetchcomment(G56)","v":"SECURITY PAVING COMPANY INC"},"8,12"]
["MARTINEZ LANDSCAPE CO",null,{"$f":"'[1]Construction Worksheet'!G136","v":556788.6},"M",2,{"$f":"fetchcomment(E57)","v":"07-325304\n07-335304"},1,{"$f":"fetchcomment(G57)","v":"POWELL CONSTRUCTORS INC"},7]
["MEX ELECTRIC",null,{"$f":"'[1]Construction Worksheet'!G142","v":149888},"M",1,{"$f":"fetchcomment(E58)","v":"07-335304"},1,{"$f":"fetchcomment(G58)","v":"POWELL CONSTRUCTORS INC"},7]
["MIRANDA LOGISTICS ENTERPRISE LLC",null,{"$f":"'[1]Construction Worksheet'!G149","v":96916},"M",1,{"$f":"fetchcomment(E59)","v":"07-335304"},1,{"$f":"fetchcomment(G59)","v":"POWELL CONSTRUCTORS INC"},7]
["MONZON & SON ENTERPRISES. INC",43,{"$f":"'[1]Construction Worksheet'!G157","v":860217},"M",2,{"$f":"fetchcomment(E60)","v":"12-0H0474\n08-1J2004"},1,{"$f":"fetchcomment(G60)","v":"SECURITY PAVING COMPANY INC"},"8,12"]
["PTM GENERAL ENGINEERING SERVICE",-4142,{"$f":"'[1]Construction Worksheet'!C84","v":2352944.2999999998},"F",2,{"$f":"fetchcomment(E61)","v":"04-3J1304\n07-351804"},1,{"$f":"fetchcomment(G61)","v":"PTM GENERAL ENGINEERING SERVICE"},"4,7"]
["QA CONSTRUCTORS",-4142,{"$f":"'[1]Construction Worksheet'!G164","v":144244.20000000001},"M",1,{"$f":"fetchcomment(E62)","v":"04-3J1304"},1,{"$f":"fetchcomment(G62)","v":"PTM GENERAL ENGINEERING SERVICE"},4]
["QUALITY TRAFFIC CONTROL",-4142,{"$f":"'[1]Construction Worksheet'!G170","v":17200},"M",1,{"$f":"fetchcomment(E63)","v":"11-430604"},1,{"$f":"fetchcomment(G63)","v":"HAZARD CONSTRUCTION ENGR LLC"},11]
["ROBINSON SWEEPING INC",null,{"$f":"'[1]Construction Worksheet'!C90","v":72000},"F",1,{"$f":"fetchcomment(E64)","v":"10-1C7904"},1,{"$f":"fetchcomment(G64)","v":"WALSH CONSTRUCTION COMPANY"},10]
["SANDOVAL SWEEPING",43,{"$f":"'[1]Construction Worksheet'!G178","v":75600},"M",1,{"$f":"fetchcomment(E65)","v":"08-1H8304"},1,{"$f":"fetchcomment(G65)","v":"GRANITE CONSTRUCTION COMPANY"},8]
["SUNSET ELECTRIC & LIGHTING INC",null,{"$f":"'[1]Construction Worksheet'!G186","v":127000},"M",1,{"$f":"fetchcomment(E66)","v":"07-329804"},1,{"$f":"fetchcomment(G66)","v":"PETERSON-CHASE GENERAL ENGINEERING CONSTRUCTION"},7]
["SWPPQUEEN",-4142,{"$f":"'[1]Construction Worksheet'!C101","v":61000},"F",1,{"$f":"fetchcomment(E67)","v":"03-1H18U4"},1,{"$f":"fetchcomment(G67)","v":"TEICHERT CONSTRUCTION"},3]
["TERRA WEST ",-4142,{"$f":"'[1]Construction Worksheet'!G197","v":675},"M",1,{"$f":"fetchcomment(E68)","v":"11-430604"},1,{"$f":"fetchcomment(G68)","v":"HAZARD CONSTRUCTION ENGR LLC"},11]
["TRINITY EQUIPMENT",-4142,{"$f":"'[1]Construction Worksheet'!G202","v":21047},"M",1,{"$f":"fetchcomment(E69)","v":"08-1H8304"},1,{"$f":"fetchcomment(G69)","v":"GRANITE CONSTRUCTION COMPANY"},8]
["TULLY INC",-4142,{"$f":"'[1]Construction Worksheet'!C117","v":31225},"F",6,{"$f":"fetchcomment(E70)","v":"03-0H8304\n04-0K6704\n05-1K0504\n05-1K0604\n10-0Y3404\n06-0Y4204"},4,{"$f":"fetchcomment(G70)","v":"MARTIN BROTHERS CONSTRUCTION\nREDGWICK CONSTRUCTION CO\nGORDON N BALL INC\nGRANITE CONSTRUCTION COMPANY"},"3,4,5,6,10"]
["VINTAGE PAVING COMPANY",null,{"$f":"'[1]Construction Worksheet'!G210","v":538808.26},"M",1,{"$f":"fetchcomment(E71)","v":"10-1C7904"},1,{"$f":"fetchcomment(G71)","v":"WALSH CONSTRUCTION COMPANY "},10]
["WESTERN TRAFFIC SUPPLUY",-4142,{"$f":"'[1]Construction Worksheet'!G224","v":521225},"M",3,{"$f":"fetchcomment(E72)","v":"04-0K6804\n04-2K8204\n04-0K6504"},3,{"$f":"fetchcomment(G72)","v":"PACIFIC INFRASTRUCTURE CONSTRUCTION LLC\nFBD VAGUARD CONSTRUCTION INC\nHOSELEY CORPORATION"},4]
["ZABEL ENTERPRISES",43,{"$f":"'[1]Construction Worksheet'!G230","v":1205485},"M",1,{"$f":"fetchcomment(E73)","v":"01-0B5304"},1,{"$f":"fetchcomment(G73)","v":"MERCER FRASER COMPANY"},1]
[null,null,null,null,null,{"$f":"fetchcomment(E74)","v":""},null,{"$f":"fetchcomment(G74)","v":""}]
[null,null,null,null,null,{"$f":"fetchcomment(E75)","v":""},null,{"$f":"fetchcomment(G75)","v":""}]
[]
["Native American","Column1","Dollars","M/F","Contract","Contract #","Prime","Prime Name","Districts"]
["ALOHA CONSTRUCTION SERVICES",-4142,{"$f":"'[1]Construction Worksheet'!K9","v":1080000},"F",1,{"$f":"fetchcomment(E78)","v":"11-430014"},1,{"$f":"fetchcomment(G78)","v":"RAL INVESTMENT CORPORATION DBA  SILVERSTRAND CONSTRUCTION"},11]
["DRISKELL TRUCKING",43,{"$f":"'[1]Construction Worksheet'!O8","v":41000},"M",1,{"$f":"fetchcomment(E79)","v":"03-0H8304"},1,{"$f":"fetchcomment(G79)","v":"MARTIN BROTHERS CONSTRUCTION"},3]
["GR SUNDBERG",-4142,{"$f":"'[1]Construction Worksheet'!O13","v":504934.57},"M",1,{"$f":"fetchcomment(E80)","v":"03-4F38U4"},1,{"$f":"fetchcomment(G80)","v":"DESILVA GATES CONSTRUCTION LP"},3]
["JON PITTMAN",43,{"$f":"'[1]Construction Worksheet'!O22","v":20000},"M",1,{"$f":"fetchcomment(E81)","v":"03-0H8304"},1,{"$f":"fetchcomment(G81)","v":"MARTIN BROTHERS CONSTRUCTION"},3]
["KRC SAFETY CO INC",-4142,{"$f":"'[1]Construction Worksheet'!O29","v":1369730},"M",4,{"$f":"fetchcomment(E82)","v":"05-1J4804\n06-0V7804\n10-0Y3404\n06-0Y4204"},3,{"$f":"fetchcomment(G82)","v":"GRANITE ROCK COMPANY\nALDRIDGE ELECTRIC INC\nGRANITE CONSTRUCTION COMPANY"},"5,6,10"]
["S.T. RHOADES CONSTRUCTION",-4142,{"$f":"'[1]Construction Worksheet'!O39","v":748670},"M",2,{"$f":"fetchcomment(E83)","v":"02-1H4704\n01-0G5504"},2,{"$f":"fetchcomment(G83)","v":"BALDWIN CONTRACTING COMPANY DBA KNIFE RIVER CONSTRUCTION\nHIGHWAY SPECIALTY COMPANY INC"},"1,2"]
["SAM'S EQUIPMENT & SUPPLIES",33,{"$f":"'[1]Construction Worksheet'!O50","v":662154.67000000004},"M",4,{"$f":"fetchcomment(E84)","v":"05-1G9604\n09-213404\n01-0B5304\n05-1J4804"},4,{"$f":"fetchcomment(G84)","v":"LEE WILSON ELECTRIC COMPANY INC\nFISHER SAND AND GRAVEL CO\nMERCER FRASER COMPANY\nGRANITE ROCK COMPANY"},"1,5,9"]
["TOTAL TRAFFIC CONTROL",33,{"$f":"'[1]Construction Worksheet'!O58","v":16007.14},"M",1,{"$f":"fetchcomment(E85)","v":"04-0K6704"},1,{"$f":"fetchcomment(G85)","v":"REDGWICK CONSTRUCTION CO "},4]
[null,null,null,null,null,{"$f":"fetchcomment(E86)","v":""},null,{"$f":"fetchcomment(G86)","v":""}]
[null,null,null,null,null,{"$f":"fetchcomment(E87)","v":""},null,{"$f":"fetchcomment(G87)","v":""}]
[]
["African American","Column1","Dollars","M/F","Contract","Contract #","Prime","Prime Name","Districts"]
["ALLUVION BIOLOGICAL CONSULTING",-4142,{"$f":"'[1]Construction Worksheet'!W10","v":154450},"M",3,{"$f":"fetchcomment(E90)","v":"03-0H8304\n01-0B5304\n08-1H8304"},3,{"$f":"fetchcomment(G90)","v":"MARTIN BROTHERS CONSTRUCTION\nMERCER FRASER COMPANY\nGRANITE CONSTRUCTION"},"1,3,8"]
["AMERICAN TRAFFIC BARRICADE",-4142,{"$f":"'[1]Construction Worksheet'!W15","v":66840},"M",1,{"$f":"fetchcomment(E91)","v":"08-1H8304"},1,{"$f":"fetchcomment(G91)","v":"GRANITE CONSTRUCTION COMPANY"},8]
["APPIAN UDBE SWPPPS",-4142,{"$f":"'[1]Construction Worksheet'!S9","v":5200},"F",3,{"$f":"fetchcomment(E92)","v":"08-1J2004\n10-1J7804\n05-1M3704"},3,{"$f":"fetchcomment(G92)","v":"SECURITY PAVING COMPANY INC\nINDFEPENDENT STRUCTURES INC\nGRANITE CONSTGRUCTION"},"5,8,10"]
["BLACK DIAMOND ASPHALT",33,{"$f":"'[1]Construction Worksheet'!S15","v":284254.8},"F",2,{"$f":"fetchcomment(E93)","v":"01-0B5304\n03-1H18U4"},2,{"$f":"fetchcomment(G93)","v":"MERCER FRASER COMPANY\nTEICHERT CONSTRUCTION"},"1,3"]
["E-NOR INNOVATIONS INC",-4142,{"$f":"'[1]Construction Worksheet'!W26","v":80130},"M",1,{"$f":"fetchcomment(E94)","v":"11-428704"},1,{"$f":"fetchcomment(G94)","v":"ACCU CONSTRUCTION INC"},11]
["MARVELLA STEEL PLACERS",null,{"$f":"'[1]Construction Worksheet'!S22","v":67079.539999999994},"M",1,{"$f":"fetchcomment(E95)","v":"07-335305"},1,{"$f":"fetchcomment(G95)","v":"POWELL CONSTRUCTORS INC"},7]
["SIERRA ENGINEERING",-4142,{"$f":"'[1]Construction Worksheet'!W36","v":1275031.4100000001},"M",2,{"$f":"fetchcomment(E96)","v":"03-0H6504\n10-1C7904"},2,{"$f":"fetchcomment(G96)","v":"TEICHERT CONSTRUCTION\nWALSH CONSTRUCTION COMPANY"},"3,10"]
["TK TRANSPORTATION",43,{"$f":"'[1]Construction Worksheet'!W47","v":50000},"M",1,{"$f":"fetchcomment(E97)","v":"03-0H8304"},1,{"$f":"fetchcomment(G97)","v":"MARTIN BROTHERS CONSTRUCTION"},3]
[null,null,null,null,null,{"$f":"fetchcomment(E98)","v":""},null,{"$f":"fetchcomment(G98)","v":""}]
[null,null,null,null,null,{"$f":"fetchcomment(E99)","v":""},null,{"$f":"fetchcomment(G99)","v":""}]
[]
["Sub Cont Asian","Column1","Dollars","M/F","Contract","Contract #","Prime","Prime Name","Districts"]
["101 TRUCKING",43,{"$f":"'[1]Construction Worksheet'!AE8","v":61500},"M",1,{"$f":"fetchcomment(E102)","v":"05-1J4804"},1,{"$f":"fetchcomment(G102)","v":"GRANITE ROCK COMPANY"},5]
["ALL CITY TRUCKING",43,{"$f":"'[1]Construction Worksheet'!AE15","v":300160},"M",1,{"$f":"fetchcomment(E103)","v":"05-1J4804"},1,{"$f":"fetchcomment(G103)","v":"GRANITE ROCK COMPANY"},5]
["DREAMBUILDERS CONSTRUCTION",-4142,{"$f":"'[1]Construction Worksheet'!AE20","v":6617418.2599999998},"M",2,{"$f":"fetchcomment(E104)","v":"04-4J9804\n07-332504"},1,{"$f":"fetchcomment(G104)","v":"DREAMBUILDER"},"4,7"]
["NEW GENERATION AGGREGATE",43,{"$f":"'[1]Construction Worksheet'!AA10","v":62125},"F",1,{"$f":"fetchcomment(E105)","v":"03-0H8304"},1,{"$f":"fetchcomment(G105)","v":"MARTIN BROTHERS CONSTRUCTION"},3]
["SEQUOIA CONSULTANT INC",-4142,{"$f":"'[1]Construction Worksheet'!AE28","v":1275326},"M",2,{"$f":"fetchcomment(E106)","v":"09-213404\n08-1H8304"},2,{"$f":"fetchcomment(G106)","v":"FISHER SAND AND GRAVEL CO\nGRANITE CONSTRUCTION COMPANY"},"8,9"]
["TSI ENGINEERING",null,{"$f":"'[1]Construction Worksheet'!AE35","v":3728835.1},"M",1,{"$f":"fetchcomment(E107)","v":"06-0U7704"},1,{"$f":"fetchcomment(G107)","v":"TSI ENGINEERING"},6]
[null,null,null,null,null,{"$f":"fetchcomment(E108)","v":""},null,{"$f":"fetchcomment(G108)","v":""}]
[]
["Asian Pacific","Column1","Dollars","M/F","Contract","Contract #","Prime","Prime Name","Districts"]
["ACE FENCE COMPANY",null,{"$f":"'[1]Construction Worksheet'!AI9","v":74519},"F",2,{"$f":"fetchcomment(E111)","v":"07-325304\n07-335304"},1,{"$f":"fetchcomment(G111)","v":"POWELL CONSTRUCTORS"},7]
["CALIFORNIA PROFESSIONAL",-4142,{"$f":"'[1]Construction Worksheet'!AM10","v":19788},"M",1,{"$f":"fetchcomment(E112)","v":"08-1H8304"},1,{"$f":"fetchcomment(G112)","v":"GRTANITE CONSTRUCTION COMPANY"},8]
["GLOBAL ROAD SEALINMG",-4142,{"$f":"'[1]Construction Worksheet'!AM18","v":20400},"M",1,{"$f":"fetchcomment(E113)","v":"08-1J2004"},1,{"$f":"fetchcomment(G113)","v":"SECURITY PASVING COMPANT INCV"},8]
["LMS TRANSPORT",33,{"$f":"'[1]Construction Worksheet'!AM31","v":5991441.2000000002},"M",4,{"$f":"fetchcomment(E114)","v":"09-213404\n12-0H0474\n08-1H8304\n05-1M3704\n"},3,{"$f":"fetchcomment(G114)","v":"FISHER SAND AND GRAVEL CO\nSECUROTY PAVING AND GRADING INC\nGRANITE CONSTRUCTION"},"5,8,9,12"]
["NITTA EROSION CONTROL",-4142,{"$f":"'[1]Construction Worksheet'!AI23","v":46611.8},"F",3,{"$f":"fetchcomment(E115)","v":"01-0G5504\n05-1K0604\n06-0Y4202"},3,{"$f":"fetchcomment(G115)","v":"HIGHWAY SPECIALTY COMPANY INC\nGORDON N BALL INC\nGRANITE CONSTRUCTION"},"1,5,6"]
["PRIME SUPPLY 1",33,{"$f":"'[1]Construction Worksheet'!AI33","v":129540.29000000001},"F",2,{"$f":"fetchcomment(E116)","v":"02-4F5204\n11-428704"},2,{"$f":"fetchcomment(G116)","v":"MEYERS EARTHWORK INC\nACCU CONSTRUCTION INC"},"2,11"]
["TRAFFIC LOOPS CRACKFILLING INC",-4142,{"$f":"'[1]Construction Worksheet'!AI46","v":343100},"F",3,{"$f":"fetchcomment(E117)","v":"09-213404\n08-1J2004\n06-0Y4204"},3,{"$f":"fetchcomment(G117)","v":"FISHER SAND AND GRAVEL CO\nSECURITY PAVING COMPANY \nGRANITE CONSTRUCTION"},"6,8,9"]
[null,null,null,null,null,{"$f":"fetchcomment(E118)","v":""},null,{"$f":"fetchcomment(G118)","v":""}]
[null,null,null,null,null,{"$f":"fetchcomment(E119)","v":""},null,{"$f":"fetchcomment(G119)","v":""}]
[]
["Other",null,"Dollars","M/F","Contract","Contract #","Prime","Prime Name","Districts"]
[null,null,null,null,null,{"$f":"fetchcomment(E122)","v":""},null,{"$f":"fetchcomment(G122)","v":""}]
[null,null,null,null,null,{"$f":"fetchcomment(E123)","v":""},null,{"$f":"fetchcomment(G123)","v":""}]
[null,null,null,null,null,{"$f":"fetchcomment(E124)","v":""},null,{"$f":"fetchcomment(G124)","v":""}]
[]
["Non Minority Women","Column1","Dollars","M/F","Contract","Contract #","Prime","Prime Name","Districts"]
["ACTION SWEEPING SERVICE",43,{"$f":"'[1]Construction Worksheet'!AQ10","v":282030},"F",3,{"$f":"fetchcomment(E127)","v":"03-0H6504\n03-1H18U4\n06-0Y4204"},2,{"$f":"fetchcomment(G127)","v":"TEICHERT CONSTRUCTION\nGRANITE CONSTRUCTION COMPANY"},"3,6"]
["ALTA VISTA ENGINEERING",null,{"$f":"'[1]Construction Worksheet'!AQ16","v":48062},"F",1,{"$f":"fetchcomment(E128)","v":"04-0K6504"},1,{"$f":"fetchcomment(G128)","v":"HOSELEY CORPORATION"},4]
["AURORA INDUSTRIAL HYGIENE",null,{"$f":"'[1]Construction Worksheet'!AQ25","v":3000},"F",2,{"$f":"fetchcomment(E129)","v":"05-1M3704\n07-335304"},2,{"$f":"fetchcomment(G129)","v":"POWELL CONSTRUCTORS\nGRANITE CONSTRUCTION CO"},5.7]
["AVILA TRAFFIC SAFETY",33,{"$f":"'[1]Construction Worksheet'!AQ32","v":210884},"F",3,{"$f":"fetchcomment(E130)","v":"05-1K0604\n06-0Y4204\n10-1C7904"},3,{"$f":"fetchcomment(G130)","v":"GORDON N BALL INC\nGRANITE CONSTRUCTION COMPANY\nWALSH CONSTRUCTION COMPANY"},"5,6,10"]
["BT TRUCKING INC",43,{"$f":"'[1]Construction Worksheet'!AQ39","v":4104000},"F",2,{"$f":"fetchcomment(E131)","v":"03-0H8304\n09-213404"},2,{"$f":"fetchcomment(G131)","v":"MARTIN BROTHERS CONSTRUCTION\nFISHER SAND AND GRAVEL CO"},"3,9"]
["CES",null,{"$f":"'[1]Construction Worksheet'!AQ44","v":9979},"F",1,{"$f":"fetchcomment(E132)","v":"07-359604"},1,{"$f":"fetchcomment(G132)","v":"COMET ELECTRIC INC"},7]
["COLUMBIA ELECTRIC INC",-4142,{"$f":"'[1]Construction Worksheet'!AQ56","v":341350},"F",2,{"$f":"fetchcomment(E133)","v":"04-0K6704\n04-2K8204"},2,{"$f":"fetchcomment(G133)","v":"REDGWICK CONSTRUCTION CO \nFBD VANGUARD CONSTRUCITON INC"},4]
["DEES BURKE ENGINEERING",-4142,{"$f":"'[1]Construction Worksheet'!AQ61","v":866676},"F",2,{"$f":"fetchcomment(E134)","v":"03-1H18U4\n05-1K0604"},2,{"$f":"fetchcomment(G134)","v":"TEICHERT CONSTRUCTION\nGORDON N BALL"},"3,5"]
["EVERLIGHTS INC",33,{"$f":"'[1]Construction Worksheet'!AQ67","v":819220.96},"F",1,{"$f":"fetchcomment(E135)","v":"06-0V7804"},1,{"$f":"fetchcomment(G135)","v":"06-0V7804"},6]
["GALLAWAY ENTERPRISES",-4142,{"$f":"'[1]Construction Worksheet'!AQ74","v":51971.6},"F",1,{"$f":"fetchcomment(E136)","v":"03-0H6504"},1,{"$f":"fetchcomment(G136)","v":"TEIRCHERT CONSTRUCTION"},3]
["J & M LAND RESTORATION",-4142,{"$f":"'[1]Construction Worksheet'!AQ80","v":23856.34},"F",1,{"$f":"fetchcomment(E137)","v":"10-0Y3404"},1,{"$f":"fetchcomment(G137)","v":"10-0Y3404"},10]
["JARRETT FOUNDATIONS",-4142,{"$f":"'[1]Construction Worksheet'!AQ87","v":1090754},"F",2,{"$f":"fetchcomment(E138)","v":"01-0B5304\n05-1K0604"},2,{"$f":"fetchcomment(G138)","v":"01-0B5304\n05-1K0604"},"1,5"]
["K & K CONSTRUCTION SUPPLY",33,{"$f":"'[1]Construction Worksheet'!AQ93","v":16303.87},"F",1,{"$f":"fetchcomment(E139)","v":"03-1H18U4"},1,{"$f":"fetchcomment(G139)","v":"03-1H18U4"},3]
["LINDY'S COLD PLANNING",-4142,{"$f":"'[1]Construction Worksheet'!AQ107","v":244540},"F",3,{"$f":"fetchcomment(E140)","v":"09-213404\n08-1H8304\n05-1M3704"},2,{"$f":"fetchcomment(G140)","v":"FISHER SAND AND GRAVEL CO\nGRANITE CONSTRUCTION COMPANY"},"5,8,9"]
["MCW TRAFFIC CONTROL",-4142,{"$f":"'[1]Construction Worksheet'!AQ112","v":204000},"F",1,{"$f":"fetchcomment(E141)","v":"10-1J7804"},1,{"$f":"fetchcomment(G141)","v":"INDEPENDENT STRUCTURES INC"},10]
["MOUNTAINVIEW BIOLOGICAL ",-4142,{"$f":"'[1]Construction Worksheet'!AQ122","v":519648.08},"F",2,{"$f":"fetchcomment(E142)","v":"09-213404\n08-1J2004"},2,{"$f":"fetchcomment(G142)","v":"FISHER SAND AND GRAVEL CO\nSECURITY PAVING COMPANY"},"8,9"]
["PC & N CONSTRUCTION INC",-4142,{"$f":"'[1]Construction Worksheet'!AQ139","v":998299},"F",4,{"$f":"fetchcomment(E143)","v":"04-2K8204\n05-1K0604\n04-0K6504\n06-0Y4204"},4,{"$f":"fetchcomment(G143)","v":"FBD VANGUARD CONSTRUCTION INC\nGORDON N BALL\nHOSELEY CORPORATION\nGRANITE CONSTRUCTION"},"4,5,6"]
["PAYCO SPECIALTIES",-4142,{"$f":"'[1]Construction Worksheet'!AQ128","v":40912},"F",2,{"$f":"fetchcomment(E144)","v":"11-411804\n11-430604"},2,{"$f":"fetchcomment(G144)","v":"PAL GENERAL ENGINEERING INC\nHAZARD CONSTRUCTION ENGINEER LLC"},11]
["PLAYA SAFETY INC",null,{"$f":"'[1]Construction Worksheet'!AQ145","v":164114.65},"F",2,{"$f":"fetchcomment(E145)","v":"07-325304\n07-335304"},1,{"$f":"fetchcomment(G145)","v":"POWELL CONSTRUCTORS"},7]
["QUALITY HYDROSEEDING",-4142,{"$f":"'[1]Construction Worksheet'!AQ152","v":37138},"F",1,{"$f":"fetchcomment(E146)","v":"08-1H8304"},1,{"$f":"fetchcomment(G146)","v":"GRANITE CONSTRUCTION COMPANY"},8]
["ROLL N' ROCK CONSTRUCTION ",-4142,{"$f":"'[1]Construction Worksheet'!AQ166","v":504675},"F",5,{"$f":"fetchcomment(E147)","v":"03-0H8304\n02-4F5204\n01-0B5304\n01-0G5504\n04-0AA444"},5,{"$f":"fetchcomment(G147)","v":"MARTIN BROTHERS CONSTRUCTION\nMEYERS EARTHWORK INC\nMERCER FRASER \nHIGHWAY SPECIALTY COMPANY\nJOHN SEMSEN LANDSCAPING CO INC"},"1,2,3,4"]
["ROUCH REBAR INC",null,{"$f":"'[1]Construction Worksheet'!AQ190","v":41468},"F",1,{"$f":"fetchcomment(E148)","v":"07-325304"},1,{"$f":"fetchcomment(G148)","v":"POWELL CONSTRUCTORS"},7]
["RUPERT CONSTRUCTION SUPPLY",33,{"$f":"'[1]Construction Worksheet'!AQ185","v":1131772.5099999998},"F",4,{"$f":"fetchcomment(E149)","v":"04-0K6704\n01-0B5304\n05-1K0604\n07-325304"},4,{"$f":"fetchcomment(G149)","v":"REDGWICK CONSTRUCTION CO \nMERCER FRASER COMPANY\nGORDON N BALL\nPOWELL CONSTRUCTORS INC"},"1,4,5,7"]
["SM SALES",null,{"$f":"'[1]Construction Worksheet'!AQ196","v":13103.13},"F",1,{"$f":"fetchcomment(E150)","v":"07-325304"},1,{"$f":"fetchcomment(G150)","v":"POWELL CONSTRUCTORS"},7]
["SUPER SEAL & STRIPE",-4142,{"$f":"'[1]Construction Worksheet'!AQ210","v":535791},"F",4,{"$f":"fetchcomment(E151)","v":"05-1G9604\n04-3J1304\n05-1M3704\n10-1C7904"},4,{"$f":"fetchcomment(G151)","v":"LEE WILSON ELECTRIC COMPANY INC\nPTM GENERAL ENGINEERING SERVICES\nGRANITE CONSTRUCTION COMPANY\nWALSH CONSTRUCTION COMPANY "},"4,5,10"]
["T & S DVBE",33,{"$f":"'[1]Construction Worksheet'!AQ221","v":856978.8},"F",3,{"$f":"fetchcomment(E152)","v":"02-1H4704\n03-0H6504\n03-1H18U4"},2,{"$f":"fetchcomment(G152)","v":"BALDWIN CONTRACTING COMPANY DBA KNIFE RIVER CONSTRUCTION\nTEICHERT CONSTRUCTION"},"2,3"]
["TERRA SUPPLY INC",33,{"$f":"'[1]Construction Worksheet'!AQ226","v":26580.46},"F",1,{"$f":"fetchcomment(E153)","v":"03-1H18U4"},1,{"$f":"fetchcomment(G153)","v":"TEICHERT CONSTRUCTION"},3]
["TRIUMPH GEO-SYNTHETICS INC",33,{"$f":"'[1]Construction Worksheet'!AQ233","v":39982.75},"F",2,{"$f":"fetchcomment(E154)","v":"04-0K6704\n03-1H18U4"},2,{"$f":"fetchcomment(G154)","v":"REDGWICK CONSTRUCTION CO \nTEICHERT CONSTRUCTION\n"},"3,4"]
["TYRRELL RESOURCES",-4142,{"$f":"'[1]Construction Worksheet'!AQ246","v":507435},"F",6,{"$f":"fetchcomment(E155)","v":"02-1H4704\n02-4F5204\n01-0B5304\n03-0H6504\n03-1H18U4\n03-4F38U4"},5,{"$f":"fetchcomment(G155)","v":"BALDWIN CONTRACTING COMPANY DBA KNIFE RIVER CONSTRUCTION\nMEYERS EARTHWORK INC\nMERCER FRASER\nTEICHERT CONSTRUCTION\nDESILVA GATES CONSTRUCTION"},"1,2,3"]
["VERIDICO GROUP INC",-4142,{"$f":"'[1]Construction Worksheet'!AQ252","v":3045},"F",1,{"$f":"fetchcomment(E156)","v":"01-0G5504"},1,{"$f":"fetchcomment(G156)","v":"HIGHWAY SPECIALTY COMPANY"},1]
["WATER COMPONENTS & BUILDING",33,{"$f":"'[1]Construction Worksheet'!AQ260","v":125652.25},"F",2,{"$f":"fetchcomment(E157)","v":"01-0B5304\n03-1H18U4"},2,{"$f":"fetchcomment(G157)","v":"TEICHERT CONSTRUCTION\nMERCER FRASER COMPANY"},"1,3"]
["WEST COAST WATER & TRUCKING",43,{"$f":"'[1]Construction Worksheet'!AQ272","v":233380},"F",3,{"$f":"fetchcomment(E158)","v":"03-0H6504\n03-1H18U4\n03-4F38U4"},2,{"$f":"fetchcomment(G158)","v":"TEICHERT CONSTRUCTION\nDESILVA GATES CONSTRUCTION"},3]
[null,null,null,null,null,{"$f":"fetchcomment(E159)","v":""}]
[null,null,null,null,null,{"$f":"fetchcomment(E160)","v":""}]
[null,{"$f":"COUNTIF(B30:B160, \"33\")","v":17}]
[null,{"$f":"COUNTIF(B30:B160, \"43\")","v":14}]
[null,{"$f":"COUNTIF(B30:B160, \"-4142\")","v":55}]
["Prime Name",null,"# of Contracts","Contract #","Prime Name","# of Contracts","Contract #","Prime Name","# of Contracts","Contract #"]
["ACCU CONSTRUCTION, INC.",null,1,{"$f":"fetchcomment(C165)","v":"11-428704"},"MARTIN BROTHERS CONSTRUCTION ",1,{"$f":"fetchcomment(F165)","v":"03-0H8304"}]
["ALDRIDGE ELECTRIC INC",null,1,{"$f":"fetchcomment(C166)","v":"06-0V7804"},"MERCER-FRASER COMPANY",1,{"$f":"fetchcomment(F166)","v":"01-0B5304"}]
["BALDWIN CONTRACTING COMPANY INC. DBA. KNIFE RIVER CONSTRUC TION  ",null,1,{"$f":"fetchcomment(C167)","v":"02-1H4704"},"MEYERS EARTHWORK, INC.   ",1,{"$f":"fetchcomment(F167)","v":"02-4F5204"}]
["COMET ELECTRIC INC",null,1,{"$f":"fetchcomment(C168)","v":"07-359604"},"PACIFIC INFRASTRUCTURE CONSTRUCTION LLC",1,{"$f":"fetchcomment(F168)","v":"04-0K6804"}]
["DESILVA GATES CONSTRUCTION LP",null,1,{"$f":"fetchcomment(C169)","v":"03-4F38U4"},"PAL GENERAL ENGINEERING INC ",2,{"$f":"fetchcomment(F169)","v":"11-411804\n11-428804"}]
["DREAMBUILDER CONSTRUCTION",null,2,{"$f":"fetchcomment(C170)","v":"04-4J9804\n07-332504"},"PETERSON-CHASE GENERAL ENGINEERING CONSTRUCTION INC",1,{"$f":"fetchcomment(F170)","v":"07-329804"}]
["FBD VANGUARD CONSTRUCTION INC",null,1,{"$f":"fetchcomment(C171)","v":"04-2K8204"},"POWELL CONSTRUCTORS INC",2,{"$f":"fetchcomment(F171)","v":"07-335304\n07-325304"}]
["FISHER SAND & GRAVEL CO ",null,1,{"$f":"fetchcomment(C172)","v":"09-213404"},"PTM GENERAL ENGINEERING SERVICE",2,{"$f":"fetchcomment(F172)","v":"04-3J1304\n07-351804"}]
["GORDON N. BALL, INC.",null,2,{"$f":"fetchcomment(C173)","v":"05-1K0504\n05-1K0604"},"RAL INVESTMENT CORPORATION DBA SILVERSTRAND CONSTRUCTION",1,{"$f":"fetchcomment(F173)","v":"11-430014"}]
["GRANITE CONSTRUCTION COMPANY",null,4,{"$f":"fetchcomment(C174)","v":"08-1H8304\n10-0Y3404\n05-1M3704\n06-0Y4202"},"REDGWICK CONSTRUCTION CO ",1,{"$f":"fetchcomment(F174)","v":"04-0K6704\n"}]
["GRANITE ROCK COMPANY",null,1,{"$f":"fetchcomment(C175)","v":"05-1J4804"},"SECURITY PAVING COMPANY INC",2,{"$f":"fetchcomment(F175)","v":"12-0H0474\n08-1J2004"}]
["HAZARD CONSTRUCTION ENGINEERING LLC",null,1,{"$f":"fetchcomment(C176)","v":"11-430604"},"STERNDAHL ENTERPRISES INC",1,{"$f":"fetchcomment(F176)","v":"04-0P48U4"}]
["HIGHWAY SPECIALTY COMPANY INC",null,1,{"$f":"fetchcomment(C177)","v":"01-0G5504"},"TEICHERT CONSTRUCTION",2,{"$f":"fetchcomment(F177)","v":"03-0H6504\n03-1H18U4"}]
["HOSELEY CORPORATION",null,1,{"$f":"fetchcomment(C178)","v":"04-0K6504"},"TSI ENGINEERING INC",1,{"$f":"fetchcomment(F178)","v":"06-0U7704"}]
["INDEPENDENT STRUCTURE CONSTRUCTION LLC",null,1,{"$f":"fetchcomment(C179)","v":"10-1J7804"},"WALSH CONSTRUCTON COMPANY",1,{"$f":"fetchcomment(F179)","v":"10-1C7904"}]
["JOHN SEMESEN LANDSCAPING CO INC",null,1,{"$f":"fetchcomment(C180)","v":"04-0AA444"}]
["LEE WILSON ELECTRIC COMPANY, INC. ",null,1,{"$f":"fetchcomment(C181)","v":"05-1G9604\n"}]
[]
["To see names of prime contractors/contract numbers, place your cursor on comment tab (red triangle)."]
["Caltrans DBE Reports: http://www.dot.ca.gov/hq/bep/reports.htm"]