{"text_format":"1","workbook":"xlsx","n_sheets":1,"sheets":["ADA CONSTRUCTION NOV 2020 CAA"],"not_rendered":{"charts":1,"images":0,"macros":1,"external_links":1,"defined_names":1,"comments":1,"pivot_tables":0},"unopened":[],"bounds":{"document_bytes":16777216,"sheet_cells":100000,"rows_first":2000,"rows_last":500,"rows_between":2000,"halvings":0,"cell_chars":16384,"cell_head_chars":4096},"cells_cut":0,"cells_raw":0,"read":"whole","date_system":"1900"}

{"sheet":"ADA CONSTRUCTION NOV 2020 CAA","index":0,"n_rows":221,"n_cols":9,"rows_kept":221,"cut":false,"hidden":false,"merged":[[3,1,3,3],[3,4,3,6],[4,1,4,3],[4,4,4,6]]}
["DEPARTMENT OF TRANSPORTATION - CALTRANS"]
["DBE Commitment at Award (CAA) on Federally Funded Major Construction Contracts - October 1, 2020 - August 31, 2021"]
[]
["Total Award Amount Year-to-Date (YTD)","Total DBE Commitment Amount YTD",null,null,"Total Prime Contracts Awarded YTD"]
[{"$f":"300919421+333000","v":301252421},{"$f":"SUM(B7:B18)","v":55716596.300000004},null,null,{"$f":"SUM(B206:B218,H206:H214,E206:E218)","v":49}]
["Groups"," Commitment Dollars YTD","Firms YTD","Contracts YTD","% of Contracts","% of DBE $","% of Total $"]
["Hispanic American Male",{"$f":"SUMIF(C64:C91,\"m\", B64:B91)","v":11618141.5},{"$f":"COUNTIF(C64:C91,\"M\")","v":22},{"$f":"SUMIF(C64:C91,\"M\",D64:D91)","v":31},{"$f":"D7/D20","v":0.16847826086956522},{"$f":"B7/B5","v":0.20852209703269328},{"$f":"B7/A5","v":3.8566134875974989E-2}]
["Hispanic American Female",{"$f":"SUMIF(C64:C91,\"F\", B64:B91)","v":511999.7},{"$f":"COUNTIF(C64:C91,\"F\")","v":4},{"$f":"SUMIF(C64:C91,\"F\",D64:D91)","v":6},{"$f":"D8/D20","v":3.2608695652173912E-2},{"$f":"B8/B5","v":9.1893571036391532E-3},{"$f":"B8/A5","v":1.6995704077677769E-3}]
["African American Male",{"$f":"SUMIF(C99:C106,\"m\", B99:B106)","v":908499.77},{"$f":"COUNTIF(C99:C106,\"M\")","v":5},{"$f":"SUMIF(C99:C106,\"M\",D99:D106)","v":9},{"$f":"D9/D20","v":4.8913043478260872E-2},{"$f":"B9/B5","v":1.6305729896138682E-2},{"$f":"B9/A5","v":3.0157426353098087E-3}]
["African American Female",{"$f":"SUMIF(C99:C106,\"F\", B99:B106)","v":370000},{"$f":"COUNTIF(C99:C106,\"F\")","v":2},{"$f":"SUMIF(C99:C106,\"F\",D99:D106)","v":2},{"$f":"D10/D20","v":1.0869565217391304E-2},{"$f":"B10/B5","v":6.6407502354913226E-3},{"$f":"B10/A5","v":1.2282058971403254E-3}]
["Asian Pacific Male",{"$f":"SUMIF(C121:C152,\"m\", B121:B152)","v":18096369.09},{"$f":"COUNTIF(C121:C152,\"M\")","v":23},{"$f":"SUMIF(C121:C152,\"M\",D121:D152)","v":51},{"$f":"D11/D20","v":0.27717391304347827},{"$f":"B11/B5","v":0.32479315485393351},{"$f":"B11/A5","v":6.0070451981529466E-2}]
["Asian Pacific Female",{"$f":"SUMIF(C121:C152,\"F\", B121:B152)","v":3428458.55},{"$f":"COUNTIF(C121:C152,\"F\")","v":8},{"$f":"SUMIF(C121:C152,\"F\",D121:D152)","v":11},{"$f":"D12/D20","v":5.9782608695652176E-2},{"$f":"B12/B5","v":6.1533883576445236E-2},{"$f":"B12/A5","v":1.1380683808678835E-2}]
["Subcontinent Asian Male",{"$f":"SUMIF(C109:C118,\"m\", B109:B118)","v":10785185.700000001},{"$f":"COUNTIF(C109:C118,\"M\")","v":8},{"$f":"SUMIF(C109:C118,\"M\",D109:D118)","v":21},{"$f":"D13/D20","v":0.11413043478260869},{"$f":"B13/B5","v":0.19357222831646664},{"$f":"B13/A5","v":3.5801158590522998E-2}]
["Subcontinent Asian Female",{"$f":"SUMIF(C109:C118,\"F\", B109:B118)","v":166000},{"$f":"COUNTIF(C109:C118,\"F\")","v":1},{"$f":"SUMIF(C109:C118,\"F\",D109:D118)","v":1},{"$f":"D14/D20","v":5.434782608695652E-3},{"$f":"B14/B5","v":2.9793636191663771E-3},{"$f":"B14/A5","v":5.5103291601430815E-4}]
["Native American Male",{"$f":"SUMIF(C94:C96,\"m\", B94:B96)","v":200000},{"$f":"COUNTIF(C94:C96,\"M\")","v":1},{"$f":"SUMIF(C94:C96,\"M\",D94:D96)","v":1},{"$f":"D15/D20","v":5.434782608695652E-3},{"$f":"B15/B5","v":3.5895947218872017E-3},{"$f":"B15/A5","v":6.6389507953531102E-4}]
["Native American Female",{"$f":"SUMIF(C94:C96,\"F\", B94:B96)","v":340000},{"$f":"COUNTIF(C94:C96,\"F\")","v":1},{"$f":"SUMIF(C94:C96,\"F\",D94:D96)","v":1},{"$f":"D16/D20","v":5.434782608695652E-3},{"$f":"B16/B5","v":6.1023110272082426E-3},{"$f":"B16/A5","v":1.1286216352100287E-3}]
["Non Minority Women",{"$f":"SUMIF(C160:C201,\"F\", B160:B201)","v":9291941.9900000002},{"$f":"COUNTIF(C160:C201,\"F\")","v":40},{"$f":"SUMIF(C160:C201,\"F\",D160:D201)","v":50},{"$f":"D17/D20","v":0.27173913043478259},{"$f":"B17/B5","v":0.16677152961693031},{"$f":"B17/A5","v":3.0844372832442731E-2}]
["Non Minority Men",{"$f":"SUMIF(C156:C157,\"F\", B156:B157)","v":0},{"$f":"COUNTIF(C156:C157,\"F\")","v":0},{"$f":"SUMIF(C156:C157,\"F\",D156:D157)","v":0},{"$f":"D18/D20","v":0},{"$f":"B18/B5","v":0},{"$f":"B18/A5","v":0}]
[]
["Total  ",null,{"$f":"SUM(C7:C19)","v":115},{"$f":"SUM(D7:D19)","v":184}]
["Total Prime Contracts Awarded",{"$f":"SUM(B206:B218,E206:E218,H206:H214)","v":49}]
["Red Italic = DBE firm as Prime"]
["BOLD = women"]
[]
[]
[]
[]
[]
[]
[]
[]
[]
[]
[]
[]
[]
[]
[]
[]
[]
[]
[]
[]
[]
[]
[]
[]
[]
[]
[]
[]
[]
[]
[]
[]
[]
[]
[]
[]
[]
[]
[]
["Hispanic American","Dollars","M/F","Contract Count","Contract #s","Prime count","Prime Names","Districts"]
["ACT CONSULTING ENGINEERS",{"$f":"'[1]DPAC Worksheet'!G8","v":2840315.5},"M",3,{"$f":"FetchComment(D64)","v":"12A1857\n12A1863\n07A5041"},1,{"$f":"FetchComment(F64)","v":"TRANSYSTEMS CORPORATION"},"7,12"]
["Advanced Technology Labratories",{"$f":"'[1]DPAC Worksheet'!G12","v":270000},"M",1,{"$f":"FetchComment(D65)","v":"Suyat, Christian@DOT:\n03A3148"},1,{"$f":"FetchComment(F65)","v":"Suyat, Christian@DOT:\nGeocon Consultants"},3]
["ALTA LAND SURVEYING INC",{"$f":"'[1]DPAC Worksheet'!G18","v":6000},"M",1,{"$f":"FetchComment(D66)","v":"11A3117"},1,{"$f":"FetchComment(F66)","v":"KIMLEY-HORN & ASSOCIATES INC"},11]
["ARAGON GEOTECHNICAL",{"$f":"'[1]DPAC Worksheet'!G23","v":460000},"M",1,{"$f":"FetchComment(D67)","v":"08A3187"},1,{"$f":"FetchComment(F67)","v":"ALTA VISTA SOLUTIONS"},8]
["CABRINHA, HEARN & ASSOCIATES",{"$f":"'[1]DPAC Worksheet'!G27","v":382500},"M",2,{"$f":"FetchComment(D68)","v":"Suyat, Christian@DOT:\n06A2649\n07A5059"},1,{"$f":"FetchComment(F68)","v":"Suyat, Christian@DOT:\nStantec Consulting Services\n"},"6, 7"]
["CADRE DESIGN",{"$f":"'[1]DPAC Worksheet'!G33","v":80000},"M",1,{"$f":"FetchComment(D69)","v":"59A1107"},1,{"$f":"FetchComment(F69)","v":"KLEINFELDER INC"},59]
["CALIFORNIA TESTING & ",{"$f":"'[1]DPAC Worksheet'!C7","v":92000},"F",1,{"$f":"FetchComment(D70)","v":"08A3187"},1,{"$f":"FetchComment(F70)","v":"ALTA VISTA SOLUTIONS"},8]
["CAPITAL TRAFFIC SERVICES INC",{"$f":"'[1]DPAC Worksheet'!G43","v":32000},"M",1,{"$f":"FetchComment(D71)","v":"03A3130"},1,{"$f":"FetchComment(F71)","v":"MARK THOMAS & COMPANY INC"},3]
["Coast Surveying, Inc.",{"$f":"'[1]DPAC Worksheet'!G47","v":120000},"M",1,{"$f":"FetchComment(D72)","v":"Suyat, Christian@DOT:\n07A5059"},1,{"$f":"FetchComment(F72)","v":"Suyat, Christian@DOT:\nStantec Consulting Services"},7]
["D'LEON CONSULTING",{"$f":"'[1]DPAC Worksheet'!G57","v":300000},"M",1,{"$f":"FetchComment(D73)","v":"07A5026"},1,{"$f":"FetchComment(F73)","v":"HNTB CORPORATION"},7]
["DYNAMIC CONSULTING",{"$f":"'[1]DPAC Worksheet'!G69","v":50000},"M",1,{"$f":"FetchComment(D74)","v":"11A3122"},1,{"$f":"FetchComment(F74)","v":"JACOBS ENGINEERING GROUP"},11]
["EARTHVIEW SCIENCE",{"$f":"'[1]DPAC Worksheet'!C13","v":249999.7},"F",2,{"$f":"FetchComment(D75)","v":"04A6021\n06A2671"},2,{"$f":"FetchComment(F75)","v":"JACOBS ENGINEERING GROUP\nParson Transportation Group"},"4,6"]
["ESTRADA LAND PLANNING",{"$f":"'[1]DPAC Worksheet'!C22","v":130000},"F",2,{"$f":"FetchComment(D76)","v":"11A3122\n11A3166"},2,{"$f":"FetchComment(F76)","v":"JACOBS ENGINEERING GROUP\nAECOM Technical Services"},11]
["Fountainhead Consulting Corporation",{"$f":"'[1]DPAC Worksheet'!G74","v":1200000},"M",2,{"$f":"FetchComment(D77)","v":"Suyat, Christian@DOT:\n07A5030\n03A3234"},2,{"$f":"FetchComment(F77)","v":"Suyat, Christian@DOT:\nAECOM Technical Services\nPsomas"},"3, 7"]
["JLB TRAFFIC ENGINEERING",{"$f":"'[1]DPAC Worksheet'!G82","v":552000},"M",2,{"$f":"FetchComment(D78)","v":"06A2655\n06A2667"},1,{"$f":"FetchComment(F78)","v":"NCM CORP"},6]
["Katherine Padilla & Associates",{"$f":"'[1]DPAC Worksheet'!C26","v":40000},"F",1,{"$f":"FetchComment(D79)","v":"Suyat, Christian@DOT:\n11A3166"},1,{"$f":"FetchComment(F79)","v":"Suyat, Christian@DOT:\nAECOM Technical Services"},11]
["LA SALLE  SOLUTIONS",{"$f":"'[1]DPAC Worksheet'!G91","v":226576},"M",2,{"$f":"FetchComment(D80)","v":"12A1860\n07a5044"},1,{"$f":"FetchComment(F80)","v":"TRC ENGINEERS INC\n"},"7, 12"]
["LOPEZ ENGINEERING",{"$f":"'[1]DPAC Worksheet'!G102","v":450000},"M",1,{"$f":"FetchComment(D81)","v":"11A3122"},1,{"$f":"FetchComment(F81)","v":"JACOBS ENGINEERING GROUP"},11]
["MA ENGINEERING",{"$f":"'[1]DPAC Worksheet'!G107","v":300000},"M",1,{"$f":"FetchComment(D82)","v":"07A5026"},1,{"$f":"FetchComment(F82)","v":"HNTB CORPORATION"},7]
["MONTEZ GROUP INC",{"$f":"'[1]DPAC Worksheet'!G114","v":60000},"M",1,{"$f":"FetchComment(D83)","v":"04A6043\n"},1,{"$f":"FetchComment(F83)","v":"ARCADIS U.S. INC"},4]
["NOMAD ECOLOGY INC",{"$f":"'[1]DPAC Worksheet'!G121","v":100000},"M",1,{"$f":"FetchComment(D84)","v":"04A6021"},1,{"$f":"FetchComment(F84)","v":"JACOBS ENGINEERING GROUP"},4]
["Ramos Consulting Services, Inc.",{"$f":"'[1]DPAC Worksheet'!G125","v":600000},"M",1,{"$f":"FetchComment(D85)","v":"Suyat, Christian@DOT:\n07A5030"},1,{"$f":"FetchComment(F85)","v":"Suyat, Christian@DOT:\nAECOM Technical Services"},7]
["RUZ CONSULTING ENGINEERING",{"$f":"'[1]DPAC Worksheet'!G134","v":420000},"M",2,{"$f":"FetchComment(D86)","v":"07A4986\n03A3234"},1,{"$f":"FetchComment(F86)","v":"ARCADIS U.S. INC"},7]
["UNDER CONSTRUCTION",{"$f":"'[1]DPAC Worksheet'!G142","v":318000},"M",2,{"$f":"FetchComment(D87)","v":"11A3117\n03A3120"},2,{"$f":"FetchComment(F87)","v":"KIMLEY-HORN & ASSOCIATES INC\nTRC ENGINEERS INC"},"3,11"]
["UNICO Engineering Consulting",{"$f":"'[1]DPAC Worksheet'!G147","v":2400750},"M",2,{"$f":"FetchComment(D88)","v":"Suyat, Christian@DOT:\n03A3148\n03A3234"},2,{"$f":"FetchComment(F88)","v":"Suyat, Christian@DOT:\nGeocon Consultants\nPsomas"},"1,3"]
["V&A, Inc.",{"$f":"'[1]DPAC Worksheet'!G152","v":450000},"M",1,{"$f":"FetchComment(D89)","v":"Suyat, Christian@DOT:\n07A5030"},1,{"$f":"FetchComment(F89)","v":"Suyat, Christian@DOT:\nAECOM Technical Services"},7]
[]
[]
[]
["Native American","Dollars","M/F","Contract",null,"Prime",null,"Districts"]
["Bajada Geosciences, Inc.",{"$f":"'[1]DPAC Worksheet'!S5","v":340000},"F",1,{"$f":"FetchComment(D94)","v":"Suyat, Christian@DOT:\n03A3157"},1,{"$f":"FetchComment(F94)","v":"Suyat, Christian@DOT:\nWSP USA, Inc."},3]
["FMF PANDION",{"$f":"'[1]DPAC Worksheet'!W7","v":200000},"M",1,{"$f":"FetchComment(D95)","v":"07A5026"},1,{"$f":"FetchComment(F95)","v":"HNTB CORPORATION"},7]
[]
[]
["African American","Dollars","M/F","Contract",null,"Prime",null,"Districts"]
["BIOMAAS",{"$f":"'[1]DPAC Worksheet'!AE6","v":200000},"M",1,{"$f":"FetchComment(D99)","v":"04A6021"},1,{"$f":"FetchComment(F99)","v":"JACOBS ENGINEERING GROUP INC"},4]
["DAVID ENGINEERING LLC",{"$f":"'[1]DPAC Worksheet'!AE12","v":50000},"M",1,{"$f":"FetchComment(D100)","v":"11A3122"},1,{"$f":"FetchComment(F100)","v":"JACOBS ENGINEERING GROUP INC"},11]
["ELLE CONSULTANTS",{"$f":"'[1]DPAC Worksheet'!AA10","v":250000},"F",1,{"$f":"FetchComment(D101)","v":"04A6036"},1,{"$f":"FetchComment(F101)","v":"ELLE CONSULTANTS"},4]
["Environmental Review Partners, Inc.",{"$f":"'[1]DPAC Worksheet'!AE16","v":32499.77},"M",1,{"$f":"FetchComment(D102)","v":"Suyat, Christian@DOT:\n06A2673"},1,{"$f":"FetchComment(F102)","v":"Suyat, Christian@DOT:\nICF Jones & Stokes\n"},6]
["O2EPCM INC",{"$f":"'[1]DPAC Worksheet'!AA20","v":120000},"F",1,{"$f":"FetchComment(D103)","v":"07A4986"},1,{"$f":"FetchComment(F103)","v":"ARCADIS U.S. INC"},7]
["TRIUNITY ENGINEERING ",{"$f":"'[1]DPAC Worksheet'!AE27","v":146000},"M",4,{"$f":"FetchComment(D104)","v":"03A3117\n53A0252\n04A6043\n06A2681"},2,{"$f":"FetchComment(F104)","v":"KREBS CORPORATION\nARCADIS U.S. INC"},"3,4,6,53"]
["WILTEC",{"$f":"'[1]DPAC Worksheet'!AE36","v":480000},"M",2,{"$f":"FetchComment(D105)","v":"07A5005\n03A3147"},2,{"$f":"FetchComment(F105)","v":"JACOBS ENGINEERING GROUP INC\nDKS Associates"},"3, 7"]
[]
[]
["Sub Cont Asian","Dollars","M/F","Contract",null,"Prime",null,"Districts"]
["AMC INC",{"$f":"'[1]DPAC Worksheet'!AM12","v":1660960},"M",6,{"$f":"FetchComment(D109)","v":"07A4986\n08A3183\n12A1860\n07A5030\n59A1130\n07a5044"},5,{"$f":"FetchComment(F109)","v":"ARCADIS U.S. INC\nWSP USA INC\nTRC ENGINEERS INC\nAECOM Technical Services\nAlta Vista Solutions, Inc."},"7,8,12,59"]
["CHAUDHARY & ASSOCIATES INC",{"$f":"'[1]DPAC Worksheet'!AM24","v":6724827.4000000004},"M",4,{"$f":"FetchComment(D110)","v":"06A2613\n59A1107\n03A3130\n04A6161"},3,{"$f":"FetchComment(F110)","v":"CHAUDHARY & ASSOCIATES INC\nKLEINFELDER INC\nMARK THOMAS & COMPANY INC"},"3,4,6,59"]
["EARTH MECHANICS",{"$f":"'[1]DPAC Worksheet'!AM35","v":262000},"M",3,{"$f":"FetchComment(D111)","v":"11A3117\n07A5041\n59A1136"},3,{"$f":"FetchComment(F111)","v":"KIMLEY-HORN ^ ASSOICATES INC\nTransSystems Corporation\nTY Lin International"},"7,11,59"]
["IQON ENGINEERS INC",{"$f":"'[1]DPAC Worksheet'!AM41","v":608200},"M",2,{"$f":"FetchComment(D112)","v":"08A3229\n12A1887"},2,{"$f":"FetchComment(F112)","v":"PARSONS TRANSPORTATION GROUP INC\nFountainhead Consulting Corp"},"8, 12"]
["KAL KRISHNAN CONSULTING",{"$f":"'[1]DPAC Worksheet'!AM48","v":480000},"M",2,{"$f":"FetchComment(D113)","v":"07A4986\n07A5030"},2,{"$f":"FetchComment(F113)","v":"ARCADIS U.S. INC\nAECOM Technical Services"},7]
["Reddy Anthropology Consulting",{"$f":"'[1]DPAC Worksheet'!AI5","v":166000},"F",1,{"$f":"FetchComment(D114)","v":"Suyat, Christian@DOT:\n03A3163"},1,{"$f":"FetchComment(F114)","v":"Suyat, Christian@DOT:\nPacific Legacy, Inc"},3]
["S2 ENGINEERING",{"$f":"'[1]DPAC Worksheet'!AM55","v":410960},"M",2,{"$f":"FetchComment(D115)","v":"12A1860\n07a5044"},1,{"$f":"FetchComment(F115)","v":"TRC ENGINEERS INC"},"7, 12"]
["T J K M ",{"$f":"'[1]DPAC Worksheet'!AM63","v":558238.30000000005},"M",1,{"$f":"FetchComment(D116)","v":"06A2647"},1,{"$f":"FetchComment(F116)","v":"MICHAEL BAKER INTERNATIONAL INC"},6]
["TORRENT LABORATORY INC",{"$f":"'[1]DPAC Worksheet'!AM73","v":80000},"M",1,{"$f":"FetchComment(D117)","v":"59A1107"},1,{"$f":"FetchComment(F117)","v":"KLEINFELDER INC"},59]
[]
[]
["Asian Pacific","Dollars","M/F","Contract",null,"Prime",null,"Districts"]
["1ST CHOICE DBE INC",{"$f":"'[1]DPAC Worksheet'!O6","v":84000},"M",1,{"$f":"FetchComment(D121)","v":"03A3117"},1,{"$f":"FetchComment(F121)","v":"03A3117"},3]
["A P ENGINEERING AND",{"$f":"'[1]DPAC Worksheet'!O13","v":80000},"M",1,{"$f":"FetchComment(D122)","v":"59A1107"},1,{"$f":"FetchComment(F122)","v":"KLEINFELDER INC"},59]
["ADVANTEC CONSULTING ENGINEERS ",{"$f":"'[1]DPAC Worksheet'!O27","v":3231663.1},"M",6,{"$f":"FetchComment(D123)","v":"11A3117\n11A3122\n12A1857\n07A5005\n12A1869\n07A5041"},4,{"$f":"FetchComment(F123)","v":"KIMLEY-HORN ^ ASSOICATES INC\nJACOBS ENGINEERING GROUP INC\nTRANSYSTEMS CORPORATION\nHNTB CORPORATION"},"7,11,12"]
["Aliquot Associates",{"$f":"'[1]DPAC Worksheet'!O32","v":800000},"M",1,{"$f":"FetchComment(D124)","v":"Suyat, Christian@DOT:\n04A6161"},1,{"$f":"FetchComment(F124)","v":"Suyat, Christian@DOT:\nChaudhary & Associates, Inc."},4]
["ALLIANCE GROUP CONSULTING",{"$f":"'[1]DPAC Worksheet'!O42","v":300000},"M",1,{"$f":"FetchComment(D125)","v":"07A5026"},1,{"$f":"FetchComment(F125)","v":"HNTB CORPORATION"},7]
["Asset Laboratories",{"$f":"'[1]DPAC Worksheet'!K6","v":180000},"F",1,{"$f":"FetchComment(D126)","v":"Suyat, Christian@DOT:\n03A3148"},1,{"$f":"FetchComment(F126)","v":"Suyat, Christian@DOT:\nGeocon Consultants"},3]
["Axiom Engineering",{"$f":"'[1]DPAC Worksheet'!O47","v":900000},"M",1,{"$f":"FetchComment(D127)","v":"Suyat, Christian@DOT:\n59A1130"},1,{"$f":"FetchComment(F127)","v":"Suyat, Christian@DOT:\nAlta Vista Solutions, Inc."},59]
["C2PM",{"$f":"'[1]DPAC Worksheet'!K12","v":310960},"F",2,{"$f":"FetchComment(D128)","v":"12A1860\n07a5044"},1,{"$f":"FetchComment(F128)","v":"TRC ENGINEERS INC"},"7,12"]
["CL SURVEYING AND MAPPING",{"$f":"'[1]DPAC Worksheet'!O57","v":1188387.2},"M",4,{"$f":"FetchComment(D129)","v":"08A3230\n06A2641\n07A5059\n07A5067\n"},3,{"$f":"FetchComment(F129)","v":"GUIDA SURVEYING INC\nSTANTEC CONSULTING SERVICES INC\nPsomas\n"},"6,7,8"]
["CNS ENGINEERS, INC",{"$f":"'[1]DPAC Worksheet'!O62","v":50000},"M",1,{"$f":"FetchComment(D130)","v":"Suyat, Christian@DOT:\n59A1136"},1,{"$f":"FetchComment(F130)","v":"Suyat, Christian@DOT:\nT.Y. Lin International"},59]
["Elite Transporation Group, Inc.",{"$f":"'[1]DPAC Worksheet'!O67","v":560000},"M",1,{"$f":"FetchComment(D131)","v":"Suyat, Christian@DOT:\n03A3147"},1,{"$f":"FetchComment(F131)","v":"Suyat, Christian@DOT:\nDKS Associates"},7]
["FPL & ASSOCIATES INC",{"$f":"'[1]DPAC Worksheet'!O78","v":900000},"M",1,{"$f":"FetchComment(D132)","v":"07A5005"},1,{"$f":"FetchComment(F132)","v":"JACOBS ENGINEERING GROUP INC"},7]
["I D C Consulting Engineers",{"$f":"'[1]DPAC Worksheet'!K17","v":100000},"F",1,{"$f":"FetchComment(D133)","v":"Suyat, Christian@DOT:\n59A1136"},1,{"$f":"FetchComment(F133)","v":"Suyat, Christian@DOT:\nTY LIN"},59]
["J Myrah Environmental, LLC",{"$f":"'[1]DPAC Worksheet'!K21","v":64999.55},"F",1,{"$f":"FetchComment(D134)","v":"Suyat, Christian@DOT:\n06A2673"},1,{"$f":"FetchComment(F134)","v":"Suyat, Christian@DOT:\nICF Jones & Stokes"},6]
["LIN CONSULTING ",{"$f":"'[1]DPAC Worksheet'!O89","v":1467323.1},"M",6,{"$f":"FetchComment(D135)","v":"12A1857\n12A1861\n12A1863\n08A3229\n06A2655\n06A2667"},4,{"$f":"FetchComment(F135)","v":"TRANSYSTEMS CORPORATION\nAECOM TECHNICAL SERVICES INC\nPARSONS TRANSPORTATION GROUP INC\nNCM CORP"},"6,8,12"]
["LRS PROGRAM DELIVERY",{"$f":"'[1]DPAC Worksheet'!K28","v":480000},"F",1,{"$f":"FetchComment(D136)","v":"03A3120"},1,{"$f":"FetchComment(F136)","v":"TRC ENGINEERS"},3]
["MGE Engineering",{"$f":"'[1]DPAC Worksheet'!O95","v":1100000},"M",2,{"$f":"FetchComment(D137)","v":"Suyat, Christian@DOT:\n03A3234\n59A1136"},2,{"$f":"FetchComment(F137)","v":"Suyat, Christian@DOT:\nPsomas\nT.Y. Lin International\n"},"3,59"]
["Mozamo Engineering, Inc.",{"$f":"'[1]DPAC Worksheet'!K33","v":1380000},"f",2,{"$f":"FetchComment(D138)","v":"Suyat, Christian@DOT:\n59A1130\n03A3234"},2,{"$f":"FetchComment(F138)","v":"Suyat, Christian@DOT:\nAlta Vista Solutions, Inc.\nPSOMAS"},"3,59"]
["OPTITRANS ENGINEERING INC",{"$f":"'[1]DPAC Worksheet'!O102","v":100000},"M",1,{"$f":"FetchComment(D139)","v":"07A5026"},1,{"$f":"FetchComment(F139)","v":"HNTB CORPORATION"},7]
["Orito and Associates",{"$f":"'[1]DPAC Worksheet'!O107","v":100000},"M",1,{"$f":"FetchComment(D140)","v":"Suyat, Christian@DOT:\n07a5044"},1,{"$f":"FetchComment(F140)","v":"Suyat, Christian@DOT:\nTRC Engineers, Inc."},7]
["PAC RIM ENGINEERING",{"$f":"'[1]DPAC Worksheet'!O117","v":200000},"M",1,{"$f":"FetchComment(D141)","v":"07A5026"},1,{"$f":"FetchComment(F141)","v":"HNTB CORPORATION"},7]
["Penecore Drilling",{"$f":"'[1]DPAC Worksheet'!O121","v":30000},"M",1,{"$f":"FetchComment(D142)","v":"Suyat, Christian@DOT:\n03A3148"},1,{"$f":"FetchComment(F142)","v":"Suyat, Christian@DOT:\nGeocon Consultants\n"},3]
["PRESCIENCE CORPORATION",{"$f":"'[1]DPAC Worksheet'!O135","v":2830000},"M",4,{"$f":"FetchComment(D143)","v":"08A3183\n59A1130\n07a5044\n03A3234"},4,{"$f":"FetchComment(F143)","v":"WSP USA INC\nAlta Vista Solutions\nTRC Engineers, Inc.\nPsomas"},"3,7, 8, 59"]
["SILICON TRANSPORTATION ",{"$f":"'[1]DPAC Worksheet'!O140","v":120000},"M",1,{"$f":"FetchComment(D144)","v":"11A3117"},1,{"$f":"FetchComment(F144)","v":"KIMLEY-HORN ^ ASSOICATES INC"},11]
["TATSUMI AND PARTNERS",{"$f":"'[1]DPAC Worksheet'!O151","v":984534.65},"M",5,{"$f":"FetchComment(D145)","v":"12A1857\n12A1861\n12A1863\n07A5026\n07A5041"},3,{"$f":"FetchComment(F145)","v":"TRANSYSTEMS CORPORATION\nAECOM TECHNICAL SERVICES INC\nHNTB CORPORATION"},"7,12"]
["TELMON ENGINEERING",{"$f":"'[1]DPAC Worksheet'!K43","v":412500},"F",2,{"$f":"FetchComment(D146)","v":"06A2641\n06A2649"},1,{"$f":"FetchComment(F146)","v":"STANTEC CONSULTING SERVIUCES INC"},6]
["TRANSMAT",{"$f":"'[1]DPAC Worksheet'!O159","v":84384},"M",1,{"$f":"FetchComment(D147)","v":"12A1860"},1,{"$f":"FetchComment(F147)","v":"TRC ENGINEERS INC"},12]
["TRICERTUS LLC",{"$f":"'[1]DPAC Worksheet'!O165","v":80000},"M",1,{"$f":"FetchComment(D148)","v":"04A6043"},1,{"$f":"FetchComment(F148)","v":"ARCADIS U.S. INC"},4]
["West Kern Environmental Consulting, LLC",{"$f":"'[1]DPAC Worksheet'!K47","v":499999},"F",1,{"$f":"FetchComment(D149)","v":"Suyat, Christian@DOT:\n06A2671"},1,{"$f":"FetchComment(F149)","v":"Suyat, Christian@DOT:\nParson Transportation Group"},6]
["WRECO",{"$f":"'[1]DPAC Worksheet'!O184","v":2577077.04},"M",7,{"$f":"FetchComment(D150)","v":"04A6021\n06A2647\n06A2655\n06A2667\n06A2673\n03A3174\n59A1136"},6,{"$f":"FetchComment(F150)","v":"JACOBS ENGINEERING GROUP\nMICHAEL BAKER INTERNATIONAL INC\nNCM CORP\nICF Jones & Stokes\nStantect Consulting Services\nT.Y. Lin International"},"3,4,6,59"]
["Y & C TRANSPORTATION CONSULTANTS",{"$f":"'[1]DPAC Worksheet'!O191","v":329000},"M",2,{"$f":"FetchComment(D151)","v":"06A2655\n06A2667"},1,{"$f":"FetchComment(F151)","v":"NCM CORP"},6]
[]
[]
["Other","Dollars","M/F","Contract",null,"Prime",null,"Districts"]
[]
[]
[]
[]
["Non Minority Women","Dollars","M/F","Contract",null,"Prime",null,"Districts"]
["Albat",{"$f":"'[1]DPAC Worksheet'!AQ11","v":300000},"F",1,{"$f":"FetchComment(D160)","v":"Suyat, Christian@DOT:\n03A3234"},1,{"$f":"FetchComment(F160)","v":"Suyat, Christian@DOT:\nPsomas"},3]
["ALERT-O-LITE INC",{"$f":"'[1]DPAC Worksheet'!AQ6","v":80000},"F",1,{"$f":"FetchComment(D161)","v":"59A1107"},1,{"$f":"FetchComment(F161)","v":"KLEINFELDER INC"},59]
["Alta Archaeological",{"$f":"'[1]DPAC Worksheet'!AQ15","v":249000},"F",1,{"$f":"FetchComment(D162)","v":"Suyat, Christian@DOT:\n03A3163"},1,{"$f":"FetchComment(F162)","v":"Suyat, Christian@DOT:\nPacific Legacy, Inc"},3]
["APPLIED TECHNOLOGY",{"$f":"'[1]DPAC Worksheet'!AQ27","v":400000},"F",1,{"$f":"FetchComment(D163)","v":"04A6021"},1,{"$f":"FetchComment(F163)","v":"JACOBS ENGINEERING GROUP"},4]
["AREA WEST ENVURONMENTAL",{"$f":"'[1]DPAC Worksheet'!AQ35","v":544998.35},"F",3,{"$f":"FetchComment(D164)","v":"04A6021\n06A2671\n06A2673"},3,{"$f":"FetchComment(F164)","v":"JACOBS ENGINEERING GROUP\nParson Transportation Group\nICF Jones & Stokes\n"},"4,6"]
["Artemis Environmental Services, Inc.",{"$f":"'[1]DPAC Worksheet'!AQ39","v":300000},"F",1,{"$f":"FetchComment(D165)","v":"Suyat, Christian@DOT:\n11A3166"},1,{"$f":"FetchComment(F165)","v":"Suyat, Christian@DOT:\nAECOM Technical Services"},11]
["AVILA TRAFFIC SAFETY",{"$f":"'[1]DPAC Worksheet'!AQ49","v":400000},"F",1,{"$f":"FetchComment(D166)","v":"59A1107"},1,{"$f":"FetchComment(F166)","v":"KLEINFELDER INC"},59]
["Barrett’s Biological Surveys",{"$f":"'[1]DPAC Worksheet'!AQ53","v":20000},"F",1,{"$f":"FetchComment(D167)","v":"Suyat, Christian@DOT:\n11A3166"},1,{"$f":"FetchComment(F167)","v":"Suyat, Christian@DOT:\nAECOM Technical Services"},11]
["BLUE LAKE CIVIL ",{"$f":"'[1]DPAC Worksheet'!AQ64","v":381000},"F",4,{"$f":"FetchComment(D168)","v":"11A3117\n03A3117\n53A0252\n06A2681"},2,{"$f":"FetchComment(F168)","v":"KIMLEY-HORN ^ ASSOICATES INC\nKREBS CORPORATION"},"11,5,6,3"]
["Brookwater, Inc.",{"$f":"'[1]DPAC Worksheet'!AQ68","v":77191.98},"F",1,{"$f":"FetchComment(D169)","v":"Suyat, Christian@DOT:\n03A3174"},1,{"$f":"FetchComment(F169)","v":"Suyat, Christian@DOT:\nStantect Consulting Services\n"},3]
["CIVIL WORKS ENGINEERS ",{"$f":"'[1]DPAC Worksheet'!AQ76","v":858238.3},"F",2,{"$f":"FetchComment(D170)","v":"06A2647\n07A5026"},2,{"$f":"FetchComment(F170)","v":"MICHAEL BAKER INTERNATIONAL INC\nHNTB CORPORATION"},"6,7"]
["COSTIN PUBLIC OUTREACH",{"$f":"'[1]DPAC Worksheet'!AQ88","v":140000},"F",1,{"$f":"FetchComment(D171)","v":"12A1869"},1,{"$f":"FetchComment(F171)","v":"HNTB CORPORATION"},12]
["CQMS, Construction Quality Management Solutions",{"$f":"'[1]DPAC Worksheet'!AQ81","v":100000},"F",1,{"$f":"FetchComment(D172)","v":"Suyat, Christian@DOT:\n07a5044"},1,{"$f":"FetchComment(F172)","v":"Suyat, Christian@DOT:\nTRC Engineers, Inc."},7]
["DILLAR ENVIRONMENTAL SERVICES",{"$f":"'[1]DPAC Worksheet'!AQ97","v":400000},"F",1,{"$f":"FetchComment(D173)","v":"59A1107"},1,{"$f":"FetchComment(F173)","v":"KLEINFELDER INC"},59]
["DZC, Archaeology and Cultural Resource Management",{"$f":"'[1]DPAC Worksheet'!AQ101","v":249000},"F",1,{"$f":"FetchComment(D174)","v":"Suyat, Christian@DOT:\n03A3163"},1,{"$f":"FetchComment(F174)","v":"Suyat, Christian@DOT:\nPacific Legacy, Inc"},11]
["Falcon Engineering Services, Inc",{"$f":"'[1]DPAC Worksheet'!AQ105","v":600000},"F",1,{"$f":"FetchComment(D175)","v":"Suyat, Christian@DOT:\n07A5030"},1,{"$f":"FetchComment(F175)","v":"Suyat, Christian@DOT:\nAECOM Technical Services"},7]
["GATEWAY PACIFIC",{"$f":"'[1]DPAC Worksheet'!AQ110","v":120000},"F",1,{"$f":"FetchComment(D176)","v":"11A3117"},1,{"$f":"FetchComment(F176)","v":"KIMLEY-HORN ^ ASSOICATES INC"},11]
["GSM Landscape Architects, Inc.",{"$f":"'[1]DPAC Worksheet'!AQ115","v":128653.3},"F",1,{"$f":"FetchComment(D177)","v":"Suyat, Christian@DOT:\n03A3174"},1,{"$f":"FetchComment(F177)","v":"Suyat, Christian@DOT:\nStantect Consulting Services\n"},3]
["HAYGOOD & ASSOCIATES",{"$f":"'[1]DPAC Worksheet'!AQ126","v":223000},"F",2,{"$f":"FetchComment(D178)","v":"06A2655\n06A2667"},1,{"$f":"FetchComment(F178)","v":"NCM CORP"},6]
["MONUMENT ROW INC",{"$f":"'[1]DPAC Worksheet'!AQ134","v":70000},"F",1,{"$f":"FetchComment(D179)","v":"12A1869"},1,{"$f":"FetchComment(F179)","v":"HNTB CORPORATION"},12]
["MYRIAD ENGINEERING",{"$f":"'[1]DPAC Worksheet'!AQ143","v":120000},"F",1,{"$f":"FetchComment(D180)","v":"03A3120"},1,{"$f":"FetchComment(F180)","v":"TRC ENGINEERS INC"},3]
["Natural Investigation Company",{"$f":"'[1]DPAC Worksheet'!AQ147","v":249000},"F",1,{"$f":"FetchComment(D181)","v":"Suyat, Christian@DOT:\n03A3163"},1,{"$f":"FetchComment(F181)","v":"Suyat, Christian@DOT:\nPacific Legacy, Inc"},3]
["NORTHGATE ENVIRONMENTAL",{"$f":"'[1]DPAC Worksheet'!AQ153","v":100000},"F",1,{"$f":"FetchComment(D182)","v":"04A6021"},1,{"$f":"FetchComment(F182)","v":"JACOBS ENGINEERING GROUP"},4]
["P R R INC",{"$f":"'[1]DPAC Worksheet'!AQ198","v":12000},"F",1,{"$f":"FetchComment(D183)","v":"11A3117"},1,{"$f":"FetchComment(F183)","v":"KIMLEY-HORN ^ ASSOICATES INC"},11]
["Paleo Solutions, Inc.",{"$f":"'[1]DPAC Worksheet'!AQ159","v":721247.62},"F",3,{"$f":"FetchComment(D184)","v":"Suyat, Christian@DOT:\n06A2671\n06A2673\n09A0841"},2,{"$f":"FetchComment(F184)","v":"Suyat, Christian@DOT:\nParson Transportation Group\nICF Jones & Stokes"},"6,9"]
["PAVEMENT MANAGEMENT",{"$f":"'[1]DPAC Worksheet'!AQ169","v":42192},"F",1,{"$f":"FetchComment(D185)","v":"12A1860"},1,{"$f":"FetchComment(F185)","v":"TRC ENGINEERS INC"},12]
["PanGIS Inc.",{"$f":"'[1]DPAC Worksheet'!AQ163","v":240000},"F",1,{"$f":"FetchComment(D186)","v":"Suyat, Christian@DOT:\n11A3166"},1,{"$f":"FetchComment(F186)","v":"Suyat, Christian@DOT:\nAECOM Technical Services"},11]
["Piñon Heritage Solutions, LLC",{"$f":"'[1]DPAC Worksheet'!AQ173","v":83000},"F",1,{"$f":"FetchComment(D187)","v":"Suyat, Christian@DOT:\n03A3163"},1,{"$f":"FetchComment(F187)","v":"Suyat, Christian@DOT:\nPacific Legacy, Inc"},3]
["POLARIS CONSULTING",{"$f":"'[1]DPAC Worksheet'!AQ187","v":150000},"F",1,{"$f":"FetchComment(D188)","v":"06A2641"},1,{"$f":"FetchComment(F188)","v":"STANTEC CONSULTING SERVICES INC"},6]
["RMM Environmental Planning",{"$f":"'[1]DPAC Worksheet'!AQ203","v":64999.55},"F",1,{"$f":"FetchComment(D189)","v":"Suyat, Christian@DOT:\n06A2673"},1,{"$f":"FetchComment(F189)","v":"Suyat, Christian@DOT:\nICF Jones & Stokes"},6]
["SAFEWORK INC",{"$f":"'[1]DPAC Worksheet'!AQ215","v":70000},"F",1,{"$f":"FetchComment(D190)","v":"12A1869"},1,{"$f":"FetchComment(F190)","v":"HNTB CORPORATION"},12]
["Sequoia Ecological Consulting",{"$f":"'[1]DPAC Worksheet'!AQ221","v":194998.65},"F",1,{"$f":"FetchComment(D191)","v":"Suyat, Christian@DOT:\n06A2673"},1,{"$f":"FetchComment(F191)","v":"Suyat, Christian@DOT:\nICF Jones & Stokes"},6]
["SWAIM BIOLOGICAL CONSULTING",{"$f":"'[1]DPAC Worksheet'!AQ231","v":600000},"F",1,{"$f":"FetchComment(D192)","v":"04A6021"},1,{"$f":"FetchComment(F192)","v":"JACOBS ENGINEERING GROUP"},4]
["Tiley Research",{"$f":"'[1]DPAC Worksheet'!AQ235","v":249000},"F",1,{"$f":"FetchComment(D193)","v":"Suyat, Christian@DOT:\n03A3163"},1,{"$f":"FetchComment(F193)","v":"Suyat, Christian@DOT:\nPacific Legacy, Inc"},3]
["Tremaine & Associates, Inc.",{"$f":"'[1]DPAC Worksheet'!AQ240","v":249000},"F",1,{"$f":"FetchComment(D194)","v":"Suyat, Christian@DOT:\n03A3163"},1,{"$f":"FetchComment(F194)","v":"Suyat, Christian@DOT:\nPacific Legacy, Inc"},3]
["Vandermost Consulting Services, Inc.",{"$f":"'[1]DPAC Worksheet'!AQ245","v":62500},"f",1,{"$f":"FetchComment(D195)","v":"Suyat, Christian@DOT:\n09A0841"},1,{"$f":"FetchComment(F195)","v":"Suyat, Christian@DOT:\nParsons Transportation Group, Inc,"},9]
["VRPA Technologies",{"$f":"'[1]DPAC Worksheet'!AQ253","v":239999.6},"F",2,{"$f":"FetchComment(D196)","v":"Suyat, Christian@DOT:\n06A2671\n11A3166"},2,{"$f":"FetchComment(F196)","v":"Suyat, Christian@DOT:\nParson Transportation Group\nAECOM Technical Services"},"6,11"]
["WAGNER ENGINEERING",{"$f":"'[1]DPAC Worksheet'!AQ263","v":100000},"F",1,{"$f":"FetchComment(D197)","v":"07A5026"},1,{"$f":"FetchComment(F197)","v":"HNTB CORPORATION"},7]
["Watearth",{"$f":"'[1]DPAC Worksheet'!AQ267","v":51461.32},"F",1,{"$f":"FetchComment(D198)","v":"Suyat, Christian@DOT:\n03A3174"},1,{"$f":"FetchComment(F198)","v":"Suyat, Christian@DOT:\nStantect Consulting Services\n"},3]
["Western Botanical Services",{"$f":"'[1]DPAC Worksheet'!AQ271","v":51461.32},"F",1,{"$f":"FetchComment(D199)","v":"Suyat, Christian@DOT:\n03A3174"},1,{"$f":"FetchComment(F199)","v":"Suyat, Christian@DOT:\nStantect Consulting Services\n"},3]
[]
[]
[{"$f":"COUNTIF(#REF!, \"33\")","v":{"$error":"#REF!"}}]
[]
[{"$f":"COUNTIF(#REF!, \"-4142\")","v":{"$error":"#REF!"}}]
["Prime Name","Contract Count","Contract #s","Prime Name","Contract Count","Contract #s","Prime Name","Contract Count","Contract #s"]
["AECOM TECHNICAL SERVICES INC",3,{"$f":"FetchComment(B206)","v":"12A1861\n07A5030\n11A3166"},"KIMLEY-HORN & ASSOCIATES INC",1,{"$f":"FetchComment(E206)","v":"11A3117"},"WSP USA INC",2,{"$f":"FetchComment(H206)","v":"08A3183\n03A3157"}]
["ARCADIS U.S. INC",2,{"$f":"FetchComment(B207)","v":"07A4986\n04A6043"},"KLEINFELDER INC",1,{"$f":"FetchComment(E207)","v":"59A1107"}]
["ALTA VISTA SOLUTIONS",2,{"$f":"FetchComment(B208)","v":"08A3187\n59A1130"},"KREBS CORPORATION",3,{"$f":"FetchComment(E208)","v":"03A3117\n53A0252\n06A2681"}]
["CALIFORNIA ENGINEERING CONTRACTORS INC",1,{"$f":"FetchComment(B209)","v":"04A6091"},"MARK THOMAS & COMPANY INC",1,{"$f":"FetchComment(E209)","v":"03A3130"}]
["CHAUDHARY & ASSOCIATES INC",2,{"$f":"FetchComment(B210)","v":"06A2613\n04A6161"},"MICHAEL BAKER INTERNATIONAL INC",1,{"$f":"FetchComment(E210)","v":"06A2647"}]
["DKS Associates",1,{"$f":"FetchComment(B211)","v":"Suyat, Christian@DOT:\n03A3147"},"NCM CORP",2,{"$f":"FetchComment(E211)","v":"06A2655\n06A2667\n"}]
["ELLE CONSULTANTS",1,{"$f":"FetchComment(B212)","v":"04A6036"},"Pacific Legacy, Inc",1,{"$f":"FetchComment(E212)","v":"Suyat, Christian@DOT:\n03A3163"}]
["Fountainhead Consulting Corp",1,{"$f":"FetchComment(B213)","v":"Suyat, Christian@DOT:\n12A1887"},"PARSONS TRANSPORTATION GROUP INC",3,{"$f":"FetchComment(E213)","v":"08A3229\n06A2671\n09A0841\n"}]
["Geocon Consultants",1,{"$f":"FetchComment(B214)","v":"Suyat, Christian@DOT:\n03A3148"},"Psomas",2,{"$f":"FetchComment(E214)","v":"Suyat, Christian@DOT:\n07A5067\n03A3234"}]
["GUIDA SURVEYING INC",1,{"$f":"FetchComment(B215)","v":"08A3230"},"STANTEC CONSULTING SERVICES INC",4,{"$f":"FetchComment(E215)","v":"06A2641\n06A2649\n07A5059\n03A3174"}]
["HNTB CORPORATION",2,{"$f":"FetchComment(B216)","v":"12A1869\n07A5026\n"},"TRANSYSTEMS CORPORATION",3,{"$f":"FetchComment(E216)","v":"12A1857\n12A1863\n07A5041"}]
["ICF Jones & Stokes",1,{"$f":"FetchComment(B217)","v":"Suyat, Christian@DOT:\n06A2673"},"TRC ENGINEERS INC",3,{"$f":"FetchComment(E217)","v":"12A1860\n03A3120\n07A5044"}]
["JACOBS ENGINEERING GROUP INC",3,{"$f":"FetchComment(B218)","v":"11A3122\n04A6021\n07A5005"},"T.Y. Lin International",1,{"$f":"FetchComment(E218)","v":"Suyat, Christian@DOT:\n59A1136"}]
[]
["To see names of prime contractors/contract numbers, place your cursor on comment tab (red triangle)."]
["Caltrans DBE Reports: http://www.dot.ca.gov/hq/bep/reports.htm"]